BEGIN:VCALENDAR
VERSION:2.0
PRODID:-//DoctorWine - ECPv6.15.18//NONSGML v1.0//EN
CALSCALE:GREGORIAN
METHOD:PUBLISH
X-ORIGINAL-URL:https://www.doctorwine.wine
X-WR-CALDESC:Eventi per DoctorWine
REFRESH-INTERVAL;VALUE=DURATION:PT1H
X-Robots-Tag:noindex
X-PUBLISHED-TTL:PT1H
BEGIN:VTIMEZONE
TZID:Europe/Rome
BEGIN:DAYLIGHT
TZOFFSETFROM:+0100
TZOFFSETTO:+0200
TZNAME:CEST
DTSTART:20240331T010000
END:DAYLIGHT
BEGIN:STANDARD
TZOFFSETFROM:+0200
TZOFFSETTO:+0100
TZNAME:CET
DTSTART:20241027T010000
END:STANDARD
BEGIN:DAYLIGHT
TZOFFSETFROM:+0100
TZOFFSETTO:+0200
TZNAME:CEST
DTSTART:20250330T010000
END:DAYLIGHT
BEGIN:STANDARD
TZOFFSETFROM:+0200
TZOFFSETTO:+0100
TZNAME:CET
DTSTART:20251026T010000
END:STANDARD
BEGIN:DAYLIGHT
TZOFFSETFROM:+0100
TZOFFSETTO:+0200
TZNAME:CEST
DTSTART:20260329T010000
END:DAYLIGHT
BEGIN:STANDARD
TZOFFSETFROM:+0200
TZOFFSETTO:+0100
TZNAME:CET
DTSTART:20261025T010000
END:STANDARD
END:VTIMEZONE
BEGIN:VEVENT
DTSTART;VALUE=DATE:20250901
DTEND;VALUE=DATE:20251101
DTSTAMP:20260422T094327
CREATED:20250811T161759Z
LAST-MODIFIED:20250811T163201Z
UID:40020-1756684800-1761955199@www.doctorwine.wine
SUMMARY:Cantine Aperte In Vendemmia  2025
DESCRIPTION:Cantine Aperte In Vendemmia  2025\, torna l’evento del MTV per celebrare il momento clou dell’anno vitivinicolo \nSettembre e ottobre\, in Italia\, hanno un profumo inconfondibile: quello dell’uva appena raccolta e del mosto che fermenta. Cantine Aperte in Vendemmia 2025\, organizzato dal  Movimento Turismo del Vino\, è l’occasione perfetta per vivere da vicino il momento più emozionante dell’anno vitivinicolo. \nNon si tratta di una semplice degustazione. Cantine Aperte In Vendemmia è un viaggio tra vigne cariche di grappoli\, cantine in fermento e territori che\, proprio in autunno\, si mostrano nella loro veste più autentica. Potrai assistere alla magia della raccolta\, conoscere i segreti della vinificazione\, incontrare vignaioli e ascoltare storie che affondano le radici nella tradizione. \nLe cantine aderenti apriranno le porte in tutte le regioni italiane\, proponendo visite guidate\, degustazioni di vini e specialità locali\, passeggiate tra i filari. Non mancheranno momenti di festa con musica dal vivo\, spettacoli e attività culturali. In molte realtà sarà possibile partecipare a vendemmie simulate o a laboratori didattici\, perfetti anche per le famiglie. \nPer gli appassionati di enoturismo\, è un’occasione per scoprire territori diversi\, dal Piemonte alla Sicilia\, e vivere un’esperienza che unisce formazione\, convivialità e scoperta. L’atmosfera che si respira è quella di una festa diffusa: ogni cantina interpreta l’evento a modo suo\, ma tutte condividono la stessa passione per il vino e la volontà di raccontarlo. \nL’edizione 2025 si svolgerà per tutto settembre e ottobre\, con un calendario in continuo aggiornamento: date precise\, attività e cantine aderenti saranno presto disponibili sulla pagina ufficiale del Movimento Turismo del Vino. \nSe ami il vino e la sua cultura\, Cantine Aperte in Vendemmia è un appuntamento da segnare in agenda: un’occasione per connetterti con la terra\, vivere l’autunno in maniera intensa e portare a casa non solo bottiglie pregiate\, ma anche ricordi e incontri che resteranno nel tempo. \nIl programma dettagliato è ancora in via di definizione\, ma l’evento si prolungherà per tutto settembre e ottobre in tutta Italia. L’elenco delle cantine aderenti e le iniziative organizzate daranno presto disponibili sulla pagina ufficiale \n 
URL:https://www.doctorwine.wine/event/cantine-aperte-in-vendemmia-2025/
LOCATION:In tutta Italia\, Italy
CATEGORIES:Degustazione,Evento diffuso
ATTACH;FMTTYPE=image/jpeg:https://www.doctorwine.wine/wp-content/uploads/2025/08/Cantine-aperte-in-vendemmia.jpg
END:VEVENT
END:VCALENDAR