BEGIN:VCALENDAR
VERSION:2.0
PRODID:-//DoctorWine - ECPv6.15.18//NONSGML v1.0//EN
CALSCALE:GREGORIAN
METHOD:PUBLISH
X-ORIGINAL-URL:https://www.doctorwine.wine
X-WR-CALDESC:Eventi per DoctorWine
REFRESH-INTERVAL;VALUE=DURATION:PT1H
X-Robots-Tag:noindex
X-PUBLISHED-TTL:PT1H
BEGIN:VTIMEZONE
TZID:Europe/Rome
BEGIN:DAYLIGHT
TZOFFSETFROM:+0100
TZOFFSETTO:+0200
TZNAME:CEST
DTSTART:20240331T010000
END:DAYLIGHT
BEGIN:STANDARD
TZOFFSETFROM:+0200
TZOFFSETTO:+0100
TZNAME:CET
DTSTART:20241027T010000
END:STANDARD
BEGIN:DAYLIGHT
TZOFFSETFROM:+0100
TZOFFSETTO:+0200
TZNAME:CEST
DTSTART:20250330T010000
END:DAYLIGHT
BEGIN:STANDARD
TZOFFSETFROM:+0200
TZOFFSETTO:+0100
TZNAME:CET
DTSTART:20251026T010000
END:STANDARD
BEGIN:DAYLIGHT
TZOFFSETFROM:+0100
TZOFFSETTO:+0200
TZNAME:CEST
DTSTART:20260329T010000
END:DAYLIGHT
BEGIN:STANDARD
TZOFFSETFROM:+0200
TZOFFSETTO:+0100
TZNAME:CET
DTSTART:20261025T010000
END:STANDARD
END:VTIMEZONE
BEGIN:VEVENT
DTSTART;VALUE=DATE:20251201
DTEND;VALUE=DATE:20260101
DTSTAMP:20260419T182633
CREATED:20251107T113106Z
LAST-MODIFIED:20251107T114104Z
UID:47202-1764547200-1767225599@www.doctorwine.wine
SUMMARY:Cantine Aperte a Natale 2025
DESCRIPTION:Cantine Aperte a Natale 2025 : A Dicembre in tutta Italia si chiude l’anno con un grande brindisi\nIl mese di dicembre 2025 si trasforma in un brindisi collettivo grazie all’edizione natalizia di Cantine Aperte\, l’evento promosso da Movimento Turismo del Vino (MTV) che porta gli enoturisti direttamente nelle cantine aderenti sparse su tutto il territorio italiano. \nDurante questa speciale occasione\, le cantine socie accolgono i visitatori trasformando i propri spazi in veri e propri “villaggi del gusto”\, con atmosfere curate\, degustazioni\, mercatini\, laboratori sensoriali e proposte natalizie pensate per grandi e piccoli. \nCosa offre l’edizione 2025\nIl format è dedicato a chi desidera vivere un’esperienza autentica in cantina durante il periodo delle feste: oltre a degustare vini selezionati e acquistare bottiglie – perfette anche come idea regalo – i partecipanti potranno partecipare a show-cooking\, assaggi di dolci tipici regionali\, musiche e spettacoli e momenti di visita guidata alla scoperta della produzione vinicola. \nLe cantine MTV aprono le loro porte in diverse regioni italiane\, ciascuna con il proprio programma: la data può variare in base all’azienda ma l’appuntamento è per tutto il mese di dicembre 2025. \nÈ richiesta la prenotazione obbligatoria\, mentre orari e costi sono a discrezione di ogni cantina. \nInformazioni utili\n\nQuando: nel corso di dicembre 2025 (ogni cantina definisce il giorno)\nDove: Nelle cantine socie del Movimento Turismo del Vino in tutta Italia\nCosa serve: Prenotazione obbligatoria; orari e tariffe a discrezione di ciascuna azienda vinicola\nProgramma tipo: degustazioni\, visite in cantina\, mercatini di Natale\, laboratori sensoriali\, abbinamenti dolce-vino\, musica dal vivo\nInfo & cantine aderenti: movimentoturismovino.it/cantine-aperte-natale
URL:https://www.doctorwine.wine/event/cantine-aperte-a-natale-2025/
LOCATION:In tutta Italia\, Italy
CATEGORIES:Degustazione,Evento diffuso
ATTACH;FMTTYPE=image/jpeg:https://www.doctorwine.wine/wp-content/uploads/2025/11/Doctor-Wine-Calendario-1.jpg
END:VEVENT
BEGIN:VEVENT
DTSTART;TZID=Europe/Rome:20251205T170000
DTEND;TZID=Europe/Rome:20251206T200000
DTSTAMP:20260419T182633
CREATED:20251125T152349Z
LAST-MODIFIED:20251125T170454Z
UID:47885-1764954000-1765051200@www.doctorwine.wine
SUMMARY:Flos Olei Tour in Rome
DESCRIPTION:Flos Olei Tour in Rome: a dicembre la Capitale celebra l’eccellenza dell’olio extravergine di oliva nel mondo\nRoma torna a essere il palcoscenico internazionale dell’olio extravergine di oliva con il Flos Olei Tour in Rome\, l’appuntamento che riunisce nella Capitale i migliori produttori al mondo selezionati dalla prestigiosa guida Flos Olei. Un evento che\, anche quest’anno\, si conferma punto di riferimento per gli appassionati\, per gli addetti ai lavori e per chi desidera approfondire la cultura dell’olio di qualità attraverso un approccio esperienziale e coinvolgente. \nIl tour romano rappresenta la tappa centrale di un percorso globale dedicato all’EVOO di eccellenza. A dicembre\, nella cornice raffinata del The Westin Excelsior Rome che accoglierà l’edizione 2025\, i visitatori potranno incontrare produttori provenienti non solo dalle regioni olivicole italiane\, ma anche da molti Paesi del Mediterraneo e del mondo. Una panoramica sensoriale unica che racconta la straordinaria biodiversità dell’olio extravergine\, dalle cultivar più celebri alle espressioni rare di territori meno conosciuti. \nTra banchi d’assaggio\, masterclass tematiche e incontri dedicati\, Flos Olei Tour in Rome vuole educare il pubblico a riconoscere la qualità e a interpretare le sfumature dell’EVOO: intensità\, equilibri aromatici\, amaro e piccante\, pulizia del sorso. Un vero e proprio viaggio tra profumi di pomodoro verde\, mandorla\, carciofo\, erba appena tagliata\, che guida alla scoperta delle mille identità dell’olio extravergine contemporaneo. \nA completare l’esperienza\, non mancano abbinamenti gastronomici e approfondimenti dedicati all’utilizzo in cucina\, con showcooking e degustazioni guidate. L’obiettivo è valorizzare l’olio extravergine come ingrediente identitario della cultura gastronomica mediterranea\, capace di trasformare un piatto e raccontare\, da solo\, la storia di una terra. \nLa Guida Flos Olei 2026\nUn ruolo centrale è affidato alla nuova edizione della guida Flos Olei 2026\, considerata la più autorevole pubblicazione internazionale dedicata all’olio extravergine. Ogni anno seleziona\, valuta e racconta le aziende che meglio interpretano il rapporto tra territorio\, cultivar e savoir-faire produttivo. Il tour diventa così l’occasione perfetta per incontrare di persona i protagonisti di queste eccellenze e per comprendere da vicino le scelte agronomiche e tecnologiche che portano alla nascita dei grandi oli. \n“Siamo pronti anche in questa nuova edizione – spiega Marco Oreggia\, ideatore e curatore della guida – per continuare a raccontare il lavoro\, la passione e le storie dei produttori che contribuiscono al successo dell’olivicoltura mondiale. Anche quest’anno l’Italia si dimostra un punto di riferimento internazionale\, tra grandi conferme e produzioni d’eccellenza ancora tutte da scoprire. Al tempo stesso\, la guida evidenzia una grande vitalità del settore in gran parte del globo: dalla Spagna\, alla Croazia\, alla Grecia\, al Sudafrica fino al Cile emerge infatti un mondo olivicolo in gran forma\, sempre più attento alla sostenibilità e alla qualità produttiva”. \n“Come ogni anno vogliamo celebrare non solo gli Extravergini d’eccellenza – sottolinea Laura Marinelli\, curatrice della guida – ma anche la costanza e la coerenza di quei produttori in grado di portare avanti un percorso fatto di ricerca e valorizzazione del territorio\, dove l’innovazione non cancella la tradizione\, anzi la rinnova e la rende ancora più viva”. \nProgramma dettagliato:\nVenerdì 5 dicembre \n\nOre 17.00 – 20.00: Conferenza stampa – Presentazione della guida Flos Olei 2026 – Premiazioni\nOre 20.00 – 23.00: Cena Buffet (su prenotazione\, riservata a produttori e importatori)\n\nSabato 6 Dicembre \n\nOre 10.00 – 15.00: Flos Olei Tour in Rome – Degustazione Libera\n\nOre 11.00 – 12.00: Degustazione guidata degli oli della Hall of Fame – Corso avanzato (a cura di Marco Oreggia)\nOre 12.00 – 13.00: Degustazione guidata degli oli della The Best – Corso propedeutico (a cura di Luca Mangoni)\n\n\nOre 15.00 – 20.00: Flos Olei Tour in Rome – Degustazione Libera – Corner con Chef e prodotti alimentari\n\nOre 15.00 – 16.00: Degustazione guidata degli oli della Hall of Fame – Corso avanzato (a cura di Duccio Morozzo)\nOre 17.00 – 18.00: Degustazione guidata degli oli della The Best – Corso propedeutico (a cura di Barbara Bartolacci)\n\n\n\nAlla pagina ufficiale dell’evento trovate l’elenco delle aziende presenti e tutti i dettagli \nI biglietti sono disponibili on line
URL:https://www.doctorwine.wine/event/flos-olei-tour-in-rome/
LOCATION:The Westin Excelsior Rome\, Via Veneto 125\, Roma\, Italy
CATEGORIES:Degustazione,Eventi Roma
ATTACH;FMTTYPE=image/jpeg:https://www.doctorwine.wine/wp-content/uploads/2025/11/Flos-Olei-Tour-in-Rome.jpg
END:VEVENT
BEGIN:VEVENT
DTSTART;VALUE=DATE:20251206
DTEND;VALUE=DATE:20251209
DTSTAMP:20260419T182633
CREATED:20251120T104637Z
LAST-MODIFIED:20251120T104637Z
UID:47705-1764979200-1765238399@www.doctorwine.wine
SUMMARY:Anghiari - Vinicoli 2025
DESCRIPTION:Vinicoli 2025 – Anghiari\, 6-8 dicembre: per tre giorni Vinicoli trasforma il borgo in un percorso enogastronomico con degustazioni\, masterclass e vini di eccellenza\nDal 6 all’8 dicembre 2025 il borgo medievale di Anghiari (AR) si anima con la terza edizione di Vinicoli\, l’evento dedicato alle migliori espressioni vitivinicole nazionali e internazionali\, organizzato nel cuore del centro storico\, tra scorci affascinanti\, piazze e angoli suggestivi. \nPasseggiando nei vicoli\, wine lovers\, consumatori e professionisti potranno degustare una selezione di vini pregiati abbinati a piatti tipici del territorio\, vivendo un’esperienza autentica e immersiva. \nPartecipare a Vinicoli 2025 significa immergersi in un’esperienza che unisce il vino alle radici storiche e culturali di uno dei borghi più belli d’Italia. È l’occasione perfetta per scoprire vini d’eccellenza e incontrare i produttori in un contesto raccolto e conviviale\, ma anche per godersi l’atmosfera natalizia del borgo con un calice in mano. Le degustazioni\, gli abbinamenti gastronomici e le masterclass rendono l’evento ideale per appassionati\, curiosi e professionisti del vino. \nCena inaugurale: un omaggio al “Re dell’Autunno”\nA dare il via ufficiale a Vinicoli 2025 sarà una cena inaugurale il 5 dicembre\, presso il Ristorante La Nena in Corso Matteotti 10/14\, ad Anghiari. Il tema della serata è suggestivo: “Omaggio al Re dell’Autunno”\, un titolo che celebra stagione\, vino e convivialità. Prenotazione obbligatoria\, e il numero di posti è limitato a 25 persone. \nSi tratta di un momento esclusivo: un’esperienza gastronomica intima in cui piatti selezionati incontrano grandi etichette vinicole\, anticipando il percorso degustativo che animerà le giornate successive tra i vicoli del borgo. \nIl percorso degustativo: sapori\, vino e territori\nL’itinerario di Vinicoli ad Anghiari prevede un percorso degustativo strutturato in quattro tappe tematiche\, ciascuna abbinata a piatti locali: \n\nCalici di vita – bollicine e antipasti con spumanti e stuzzichini nei Giardini del Vicario\nI grandi assaggi – bianchi\, rosati\, macerati in punti simbolici come la Cantina del Granduca e il Feudo del Vicario.\nLe icone del vino – rossi e secondi piatti\, con abbinamenti di piatti tipici presso Il Pizzicagnolo e il Bistrot Talozzi.\nDolce palato – distillati\, dolci\, dj set\, con degustazione di distillati\, dolci artigianali e momenti musicali al Bar Teatro.\n\nPer partecipare al percorso degustativo\, è necessario ritirare in uno degli info-point di Anghiari (Sala Audiovisivi in Piazza del Popolo o Loggette di Piazza Baldaccio) la sacca personalizzata con bicchiere e sottobicchiere. \nMasterclass e approfondimenti\nDurante l’evento sono previste masterclass a partecipazione prenotabile. Tra le tematiche in programma: \n\nVini e Salumi: un percorso tra l’antica vasca vinaria romana\, salumi territoriali e vini autodidatti\, a cura di ONAS e Retrogusti (7 e 8 dicembre\, 16:00-17:00).\nVini e Formaggi di Confine: vini toscani e umbri incontrano formaggi tipici\, per un dialogo gastronomico appassionante (7 e 8 dicembre\, 18:00-19:00).\n\nInfo utili\n\nDove: centro storico di Anghiari (AR)\nQuando: 6-8 dicembre 2025\nBiglietti / Partecipazione: carnet degustazioni da acquistare sul posto\nPrenotazione Masterclass: online tramite il sito ufficiale: www.vinicoli.it
URL:https://www.doctorwine.wine/event/anghiari-vinicoli-2025/
LOCATION:Anghiari (AR)\, Centro Storico\, Italy
CATEGORIES:Degustazione,Eventi Toscana
ATTACH;FMTTYPE=image/jpeg:https://www.doctorwine.wine/wp-content/uploads/2025/11/Vinicoli-2025.jpg
END:VEVENT
BEGIN:VEVENT
DTSTART;VALUE=DATE:20251206
DTEND;VALUE=DATE:20251207
DTSTAMP:20260419T182633
CREATED:20251120T115120Z
LAST-MODIFIED:20251120T115739Z
UID:47719-1764979200-1765065599@www.doctorwine.wine
SUMMARY:Modena - Vino Mosso 2025
DESCRIPTION:Vino Mosso 2025 – Modena\, 6 dicembre: la festa delle bollicine naturali con spumanti artigianali\, musiche\, produttori e convivialità.\nSabato 6 dicembre 2025\, dalle 11:00 alle 21:00\, Modena ospita la nuova edizione di Vino Mosso\, festival-mercato dedicato alle bollicine naturali promosso dall’Associazione Culturale Vino Crudo. \nL’evento si svolgerà nel suggestivo Cortile del Leccio\, in Via Francesco Selmi 67\, offrendo un’occasione imperdibile per degustare spumanti\, vini frizzanti e “mosso” artigianali selezionati direttamente dalle piccole cantine naturali. \nCosa aspettarsi\n“Vino Mosso – Effervescenze di naturale eleganza” non è una semplice degustazione: è una giornata dedicata al vino vivo\, biologico\, biodinamico e artigianale\, in un’atmosfera rilassata e conviviale. I produttori presenti provengono da tutta Italia e portano in assaggio etichette autentiche\, caratterizzate da rifermentazioni spontanee e un forte legame con il proprio territorio. \nIl format prevede banchi di assaggio dove i visitatori possono incontrare i vignaioli\, ascoltare le loro storie e acquistare le bottiglie direttamente in loco. Sarà anche un momento di condivisione\, fatto di musica\, calici e conversazioni genuine — non solo un mercato\, ma una festa del vino naturale. \nPerché partecipare\nPartecipare a Vino Mosso significa prendersi il tempo di scoprire le bollicine meno convenzionali e più autentiche: vini che raccontano il lavoro artigianale\, la fermentazione spontanea e la fragilità (e bellezza) di un processo non standardizzato. Se ti interessa il mondo del vino naturale\, qui puoi esplorare nuove espressioni\, incontrare produttori “veri” e bere con consapevolezza. \nInoltre\, la scelta di Modena e del suo cortile storico rende l’esperienza ancora più affascinante: non solo vino\, ma luogo\, comunità e convivialità. È perfetto per una giornata enoturistica originale\, anche abbinata a una visita nella città modenese\, ricca di patrimonio gastronomico e vinicolo. \nInfo pratiche\n\nDove: Cortile del Leccio\, Via Francesco Selmi 67\, Modena\nQuando: Sabato 6 dicembre 2025\, ore 11:00-21:00\nBiglietti: disponibili su Eventbrite\nOrganizzazione: Vino Crudo Associazione Culturale
URL:https://www.doctorwine.wine/event/modena-vino-mosso-2025/
LOCATION:Cortile del Leccio Modena\, Via Francesco Selmi 67\, Modena\, Italy
CATEGORIES:Degustazione,Eventi Emilia Romagna
ATTACH;FMTTYPE=image/jpeg:https://www.doctorwine.wine/wp-content/uploads/2025/11/Vino-Mosso-2025.jpg
END:VEVENT
BEGIN:VEVENT
DTSTART;VALUE=DATE:20251206
DTEND;VALUE=DATE:20251208
DTSTAMP:20260419T182633
CREATED:20251121T173512Z
LAST-MODIFIED:20251121T175532Z
UID:47752-1764979200-1765151999@www.doctorwine.wine
SUMMARY:Verona - ReWine Winter Edition
DESCRIPTION:ReWine Winter Edition a Verona: Sabato 6 e domenica 7 dicembre 2025\, torna l’evento enologico più elegante della stagione\, un weekend di vino nella magica Villa Arvedi\nUna location da sogno\nReWine Winter Edition si terrà nella splendida Villa Arvedi di Grezzana (VR)\, una delle ville storiche più suggestive del veronese. \nVilla Arvedi\, risalente al XV secolo\, domina la Valpantena con la sua imponenza architettonica\, i saloni secolari\, la veranda e un giardino all’italiana che racconta storie di arte e campagna veneta. L’atmosfera è perfetta per un evento che unisce eleganza\, gusto e convivialità\, lontano dal caos delle fiere vinicole tradizionali. \nCosa ti aspetta al ReWine Winter Edition\nSaranno presenti circa 25 cantine\, provenienti dalle zone vinicole del Veneto e anche da fuori. Ogni partecipante potrà degustare i vini proposti dalle cantine presenti\, passeggiando tra le sale nobili della villa\, con la possibilità di acquistare le bottiglie direttamente dai produttori. \nStand gastronomici proporranno prodotti tipici locali\, olio extravergine\, piatti caldi e freddi in abbinamento ai vini presenti. \nInoltre ogni giorno\, alle 15:00\, si terranno MasterClass guidate da sommelier\, per approfondire la conoscenza dei vini con spiegazioni tecniche e storie di cantina. \nProgramma delle due giornate:\n\nOre 12.00 Apertura: Le aziende danno il via alle degustazioni e vendita dei prodotti;\nOre 13.00 Gastronomia: Apertura stand prodotti gastronomici tipici in abbinamento ai vini\, potrete acquistare all’interno piatti caldi e freddi per tutta la durata dell’evento;\nOre 15.00 MasterClass: Masterclass vini in anfora\nOre 17.00 MasterClass: Masterclass metodo classico\nOre 20.00 Chiusura manifestazione\n\nBiglietti e modalità di partecipazione\nIl biglietto promozionale per l’evento è in prevendita sul sito ReWine- Biglietti \nPer prenotare i biglietti o partecipare alle masterclass\, visita il sito ufficiale ReWine
URL:https://www.doctorwine.wine/event/verona-rewine-winter-edition/
LOCATION:Villa Arvedi\, Verona\, Italy
CATEGORIES:Degustazione,Evento Veneto
ATTACH;FMTTYPE=image/jpeg:https://www.doctorwine.wine/wp-content/uploads/2025/11/Rewine-2.jpg
END:VEVENT
BEGIN:VEVENT
DTSTART;TZID=Europe/Rome:20251206T110000
DTEND;TZID=Europe/Rome:20251207T190000
DTSTAMP:20260419T182633
CREATED:20251125T091358Z
LAST-MODIFIED:20251125T091358Z
UID:47817-1765018800-1765134000@www.doctorwine.wine
SUMMARY:Calici al Museo
DESCRIPTION:Calici al Museo\, la fiera mercato dei vini al Museo del Tessile: quando il vino diventa cultura a Busto Arsizio\nA Busto Arsizio il vino torna protagonista con Calici al Museo\, un appuntamento che unisce degustazioni selezionate e scoperta culturale all’interno di una cornice unica: il Museo del Tessile. Un evento pensato per chi ama esplorare il territorio attraverso i suoi sapori\, immerso in un’atmosfera che valorizza tanto la storia locale quanto l’eccellenza enologica italiana. \nL’iniziativa nasce con un obiettivo chiaro: trasformare una serata di degustazione in un viaggio esperienziale. Tra banchi d’assaggio curati da produttori e cantine artigianali\, i partecipanti hanno l’opportunità di incontrare direttamente chi il vino lo crea\, ascoltare storie di vigneti\, annate e scelte produttive\, e lasciarsi guidare in un percorso che va oltre la semplice assaggio. Calici al Museo diventa così un ponte tra territorio\, cultura e convivialità. \nLa selezione delle etichette è studiata per abbracciare diverse aree italiane\, dalle realtà più note alle piccole cantine emergenti. Il pubblico può esplorare bianchi freschi e verticali\, rossi strutturati o di beva immediata\, rosati eleganti\, fino a qualche proposta più ricercata\, come metodi classici di piccole maison e vini da uve autoctone recuperate. Il valore aggiunto del format sta proprio nella possibilità di confrontare stili\, racconti e interpretazioni enologiche in un contesto aperto e informale. \nAd arricchire l’esperienza\, non mancano momenti dedicati alla scoperta del Museo del Tessile\, che apre le proprie sale offrendo ai visitatori uno sguardo sulla storia industriale di Busto Arsizio. Un modo per ricordare quanto cultura e territorio siano profondamente intrecciati: così come il museo conserva la memoria del passato produttivo cittadino\, il vino racconta l’identità e il lavoro delle sue terre d’origine. \nCalici al Museo è quindi più di una degustazione: è un invito a rallentare\, osservare\, ascoltare e assaporare. Oltre a queste straordinarie proposte\, troverai anche piatti alla carta\, dalle creazioni più semplici alle più raffinate\, per rendere questa esperienza davvero indimenticabile. \nInformazioni utili:\n\nQuando: Il 6 dicembre 2025 (ore 11.00-22.00) e 7 dicembre 2025 (ore 11.00-19.00)\nDove: il Museo del Tessile di Busto Arsizio\, location completamente coperta e riscaldata\nProduttori presenti: Oltre 35 produttori selezionati da tutta Italia\, centinaia di etichette in degustazione libera\nAbbinamento: Menu degustazione gourmet firmato da un grande chef\nBiglietti: in prevendita on line\nSito ufficiale: Calici al Museo
URL:https://www.doctorwine.wine/event/calici-al-museo/
LOCATION:Museo del Tessile\, Via Galvani\, Busto Arsizio (VA)\, Italy
CATEGORIES:Degustazione,Eventi Lombardia
ATTACH;FMTTYPE=image/png:https://www.doctorwine.wine/wp-content/uploads/2025/11/Calici-al-Museo.png
ORGANIZER;CN="Vale20":MAILTO:info@vale20.it
END:VEVENT
END:VCALENDAR