BEGIN:VCALENDAR
VERSION:2.0
PRODID:-//DoctorWine - ECPv6.15.18//NONSGML v1.0//EN
CALSCALE:GREGORIAN
METHOD:PUBLISH
X-ORIGINAL-URL:https://www.doctorwine.wine
X-WR-CALDESC:Eventi per DoctorWine
REFRESH-INTERVAL;VALUE=DURATION:PT1H
X-Robots-Tag:noindex
X-PUBLISHED-TTL:PT1H
BEGIN:VTIMEZONE
TZID:Europe/Rome
BEGIN:DAYLIGHT
TZOFFSETFROM:+0100
TZOFFSETTO:+0200
TZNAME:CEST
DTSTART:20250330T010000
END:DAYLIGHT
BEGIN:STANDARD
TZOFFSETFROM:+0200
TZOFFSETTO:+0100
TZNAME:CET
DTSTART:20251026T010000
END:STANDARD
BEGIN:DAYLIGHT
TZOFFSETFROM:+0100
TZOFFSETTO:+0200
TZNAME:CEST
DTSTART:20260329T010000
END:DAYLIGHT
BEGIN:STANDARD
TZOFFSETFROM:+0200
TZOFFSETTO:+0100
TZNAME:CET
DTSTART:20261025T010000
END:STANDARD
BEGIN:DAYLIGHT
TZOFFSETFROM:+0100
TZOFFSETTO:+0200
TZNAME:CEST
DTSTART:20270328T010000
END:DAYLIGHT
BEGIN:STANDARD
TZOFFSETFROM:+0200
TZOFFSETTO:+0100
TZNAME:CET
DTSTART:20271031T010000
END:STANDARD
END:VTIMEZONE
BEGIN:VEVENT
DTSTART;VALUE=DATE:20260131
DTEND;VALUE=DATE:20260203
DTSTAMP:20260419T171808
CREATED:20251229T120817Z
LAST-MODIFIED:20251229T121153Z
UID:49963-1769817600-1770076799@www.doctorwine.wine
SUMMARY:Wine&Siena 2026
DESCRIPTION:Wine&Siena 2026 – Siena capitale del vino italiano: tre giorni di degustazioni\, masterclass e approfondimenti enogastronomici\nWine&Siena è uno degli eventi enologici più prestigiosi e attesi del calendario italiano. Un festival che trasforma Siena in una vera e propria capitale del vino\, con un focus sulle eccellenze selezionate dalle commissioni d’assaggio del The WineHunter Award. Offre inoltre un ricco palinsesto di degustazioni\, masterclass e approfondimenti. L’edizione 2026 conferma la vocazione dell’evento come momento centrale per il mondo del vino\, unendo produttori\, operatori\, stampa e appassionati in un dialogo costante intorno al gusto\, alla cultura e alle storie del vino. \nIl festival prende il via sabato 31 gennaio con l’apertura ufficiale degli spazi espositivi e dei banchi di degustazione. Oltre 100 cantine e produttori nazionali presentano vini\, specialità gastronomiche\, spirits\, birre artigianali\, Extrawine e prodotti tipici\, offrendo un panorama ampio e articolato delle migliori produzioni italiane. Le degustazioni sono aperte anche domenica 1° febbraio e rappresentano un’occasione unica per esplorare oltre 600 etichette e confrontarsi direttamente con i produttori. \nLa giornata di lunedì 2 febbraio è dedicata agli operatori del settore e alla stampa. L’accesso è riservato per consentire momenti di confronto professionale\, networking e approfondimenti mirati su temi chiave del mercato enologico. \nIl programma di Wine&Siena 2026 è particolarmente ricco. Oltre alle degustazioni libere\, trovano spazio numerose Masterclass esclusive\, che guidano i partecipanti in percorsi sensoriali tematici tra terroir\, vitigni e annate. Ci saranno i WineHunter Talks\, incontri di approfondimento su temi cruciali come sostenibilità\, innovazione in cantina e scenari futuri del mercato del vino. La manifestazione propone anche momenti culturali e format come “AsSaggi di vino”\, una serie di eventi collegati nei wine bar senesi per scoprire il vino attraverso la biologia\, l’arte e la letteratura. \nWine&Siena 2026 non è solo una festa del vino\, ma un’esperienza culturale e sensoriale completa che fa dialogare territorio\, qualità\, storia e innovazione\, confermando il ruolo di Siena come riferimento d’eccellenza nel panorama enologico nazionale. \nInformazioni Utili:\n\nDate: Sabato 31 gennaio – Lunedì 2 febbraio 2026\nLocation: Santa Maria della Scala\nBiglietti e accrediti: disponibili sulla pagina ufficiale dell’evento
URL:https://www.doctorwine.wine/event/winesiena-2026/
LOCATION:Santa Maria della Scala\, Piazza Duomo\, Siena\, Italy
CATEGORIES:Degustazione,Eventi Toscana
ATTACH;FMTTYPE=image/jpeg:https://www.doctorwine.wine/wp-content/uploads/2025/12/WineSiena-2026.jpg
END:VEVENT
END:VCALENDAR