BEGIN:VCALENDAR
VERSION:2.0
PRODID:-//DoctorWine - ECPv6.15.20//NONSGML v1.0//EN
CALSCALE:GREGORIAN
METHOD:PUBLISH
X-ORIGINAL-URL:https://www.doctorwine.wine
X-WR-CALDESC:Eventi per DoctorWine
REFRESH-INTERVAL;VALUE=DURATION:PT1H
X-Robots-Tag:noindex
X-PUBLISHED-TTL:PT1H
BEGIN:VTIMEZONE
TZID:Europe/Rome
BEGIN:DAYLIGHT
TZOFFSETFROM:+0100
TZOFFSETTO:+0200
TZNAME:CEST
DTSTART:20250330T010000
END:DAYLIGHT
BEGIN:STANDARD
TZOFFSETFROM:+0200
TZOFFSETTO:+0100
TZNAME:CET
DTSTART:20251026T010000
END:STANDARD
BEGIN:DAYLIGHT
TZOFFSETFROM:+0100
TZOFFSETTO:+0200
TZNAME:CEST
DTSTART:20260329T010000
END:DAYLIGHT
BEGIN:STANDARD
TZOFFSETFROM:+0200
TZOFFSETTO:+0100
TZNAME:CET
DTSTART:20261025T010000
END:STANDARD
BEGIN:DAYLIGHT
TZOFFSETFROM:+0100
TZOFFSETTO:+0200
TZNAME:CEST
DTSTART:20270328T010000
END:DAYLIGHT
BEGIN:STANDARD
TZOFFSETFROM:+0200
TZOFFSETTO:+0100
TZNAME:CET
DTSTART:20271031T010000
END:STANDARD
END:VTIMEZONE
BEGIN:VEVENT
DTSTART;VALUE=DATE:20260524
DTEND;VALUE=DATE:20260526
DTSTAMP:20260423T033904
CREATED:20260421T091311Z
LAST-MODIFIED:20260421T092319Z
UID:55314-1779580800-1779753599@www.doctorwine.wine
SUMMARY:Radda in Chianti - Radda nel Bicchiere
DESCRIPTION:Radda nel Bicchiere: il 23 e 24 maggio\, nel cuore del Chianti Classico\, la storica manifestazione giunta alla sua 28ª edizione.\nIl 23 e 24 maggio torna a Radda in Chianti uno degli appuntamenti più autentici dedicati al vino toscano: Radda nel Bicchiere. Un evento che negli anni si è affermato come punto di riferimento per la valorizzazione del Chianti Classico\, capace di unire produttori\, operatori e appassionati in uno dei borghi simbolo della viticoltura italiana. \nRadda nel Bicchiere è un evento interamente dedicato al territorio e alle sue espressioni più identitarie. Durante le due giornate sarà possibile: \n\ndegustare oltre 100 etichette di Chianti Classico\nincontrare direttamente i produttori locali\nscoprire le diverse interpretazioni del Sangiovese\n\nIl format è quello del banco d’assaggio diffuso\, che si sviluppa lungo le vie del centro storico\, offrendo un’esperienza immersiva tra vino e paesaggio. \nAccanto alle degustazioni\, la manifestazione propone momenti di approfondimento che arricchiscono l’esperienza. Tra gli appuntamenti: masterclass tematiche dedicate al territorio\, degustazioni guidate e comparative e incontri tra diverse realtà vitivinicole. Non manca il dialogo con altri territori del vino\, elemento che negli ultimi anni ha arricchito il programma con confronti tra vitigni e stili produttivi. \n\nLe Degustazioni con i produttori:\n\n\n\nSabato 23 maggio ore 10.30 Palazzo del Podestà – “Radda in Chianti e Trentino: eleganza d’altitudine” con Clizia Zuin sommelier dell’anno 2025 Gambero Rosso.\nDomenica 24 maggio ore 10.30 Palazzo del Podestà – “Radda Vintage”\, un viaggio nel tempo attraverso le vecchie annate\, guidato da Davide Bonucci e Giovanni D’Alessandro\n\n\nAd ospitare l’evento è il borgo di Radda in Chianti\, nel cuore della denominazione del Chianti Classico. Un contesto che rappresenta perfettamente l’identità dell’evento: un centro storico medievale immerso in un paesaggio vitato tra i più iconici d’Italia. \nInformazioni utili\n\nDove: Radda in Chianti (SI)\nQuando: 23– 24 maggio\n\nL’evento è aperto a pubblico\, appassionati e operatori del settore \nConsulta il programma completo e iscriviti subito: www.raddanelbicchiere.net
URL:https://www.doctorwine.wine/event/radda-in-chianti-radda-nel-bicchiere/
LOCATION:Radda in Chianti\, (Siena)\, Italy
CATEGORIES:Degustazione,Eventi Toscana
ATTACH;FMTTYPE=image/jpeg:https://www.doctorwine.wine/wp-content/uploads/2026/04/Radda-nel-bicchiere-2026.jpg
END:VEVENT
BEGIN:VEVENT
DTSTART;VALUE=DATE:20260530
DTEND;VALUE=DATE:20260601
DTSTAMP:20260423T033904
CREATED:20260417T095401Z
LAST-MODIFIED:20260417T095401Z
UID:54963-1780099200-1780271999@www.doctorwine.wine
SUMMARY:Regina Ribelle – Vernaccia Di San Gimignano Wine Fest
DESCRIPTION:Regina Ribelle – Vernaccia di San Gimignano Wine Fest: Sabato 30 e domenica 31 maggio 2026 un weekend ricco di degustazioni\, masterclass\, eventi diffusi e intrattenimento\nRegina Ribelle\, il festival dedicato alla Vernaccia di San Gimignano torna con la IV edizione\, celebrando la storica “Regina Bianca” nel suo territorio \nDopo il successo della scorsa edizione\, che ha registrato la presenza di circa 1.500 wine lover\, torna dal 30 al 31 maggio 2026 Regina Ribelle – Vernaccia di San Gimignano Wine Fest\, il festival dedicato al celebre vino bianco toscano\, organizzato e promosso dal Consorzio del Vino Vernaccia di San Gimignano in collaborazione con il Comune di San Gimignano.\n\nL’edizione 2026 assume un valore storico particolare\, celebrando il 750° anniversario della prima attestazione documentata della Vernaccia di San Gimignano e i 60 anni dalla concessione della Doc. Un’edizione che\, pur nel segno di una storia secolare\, vuole continuare a dialogare con la contemporaneità\, rinnovando il racconto della denominazione attraverso linguaggi\, esperienze e contenuti di forte interesse per il consumatore e per l’appassionato\, sempre più attento a identità\, autenticità e cultura del territorio.\n\n\nIl calendario sarà ricco di eventi\, con iniziative diffuse in tutto il centro storico di San Gimignano: degustazioni itineranti\, masterclass tematiche\, incontri con i produttori e laboratori dedicati agli abbinamenti cibo-vino\, in dialogo con le eccellenze gastronomiche toscane e le proposte dei ristoratori locali. Non mancheranno momenti di approfondimento culturale e intrattenimento\, tra cui il suggestivo DJ-set serale nell’incantevole cornice della Rocca di Montestaffoli. \nCome ogni anno\, le giornate aperte al pubblico saranno anticipate da due giorni – 28 e 29 maggio – dedicati alla stampa nazionale e internazionale\, con la presentazione delle nuove annate\, convegni e tour nelle aziende del territorio. \nPer maggiori dettagli e per conoscere il programma completo visita la pagina ufficiale: https://www.reginaribelle.it/
URL:https://www.doctorwine.wine/event/regina-ribelle-vernaccia-di-san-gimignano-wine-fest-2/
LOCATION:San Gimignano\, San Gimignano\, Italia
CATEGORIES:Degustazione,Eventi Toscana
ATTACH;FMTTYPE=image/jpeg:https://www.doctorwine.wine/wp-content/uploads/2026/04/Regina-Ribelle.jpg
END:VEVENT
END:VCALENDAR