BEGIN:VCALENDAR
VERSION:2.0
PRODID:-//DoctorWine - ECPv6.15.20//NONSGML v1.0//EN
CALSCALE:GREGORIAN
METHOD:PUBLISH
X-WR-CALNAME:DoctorWine
X-ORIGINAL-URL:https://www.doctorwine.wine
X-WR-CALDESC:Eventi per DoctorWine
REFRESH-INTERVAL;VALUE=DURATION:PT1H
X-Robots-Tag:noindex
X-PUBLISHED-TTL:PT1H
BEGIN:VTIMEZONE
TZID:Europe/Rome
BEGIN:DAYLIGHT
TZOFFSETFROM:+0100
TZOFFSETTO:+0200
TZNAME:CEST
DTSTART:20250330T010000
END:DAYLIGHT
BEGIN:STANDARD
TZOFFSETFROM:+0200
TZOFFSETTO:+0100
TZNAME:CET
DTSTART:20251026T010000
END:STANDARD
BEGIN:DAYLIGHT
TZOFFSETFROM:+0100
TZOFFSETTO:+0200
TZNAME:CEST
DTSTART:20260329T010000
END:DAYLIGHT
BEGIN:STANDARD
TZOFFSETFROM:+0200
TZOFFSETTO:+0100
TZNAME:CET
DTSTART:20261025T010000
END:STANDARD
BEGIN:DAYLIGHT
TZOFFSETFROM:+0100
TZOFFSETTO:+0200
TZNAME:CEST
DTSTART:20270328T010000
END:DAYLIGHT
BEGIN:STANDARD
TZOFFSETFROM:+0200
TZOFFSETTO:+0100
TZNAME:CET
DTSTART:20271031T010000
END:STANDARD
END:VTIMEZONE
BEGIN:VEVENT
DTSTART;VALUE=DATE:20260528
DTEND;VALUE=DATE:20260530
DTSTAMP:20260425T210316
CREATED:20260424T122001Z
LAST-MODIFIED:20260424T123210Z
UID:55793-1779926400-1780099199@www.doctorwine.wine
SUMMARY:Press days Regina Ribelle – Vernaccia Di San Gimignano
DESCRIPTION:Press Days Regina Ribelle – Vernaccia di San Gimignano: il 28 e 29 maggio 2026 San Gimignano si prepara ad accogliere la stampa\nSan Gimignano si prepara ad accogliere giornaliste e giornalisti da tutta Italia e dall’estero per i Press Days di Regina Ribelle – Vernaccia di San Gimignano: due giornate dense di contenuti\, pensate per raccontare dall’interno uno dei bianchi più identitari del panorama enologico toscano. \nGiovedì 28 maggio\nSi parte giovedì 28 maggio dal Museo di Arte Moderna e Contemporanea R. De Grada\, sede principale dell’evento\, con la presentazione delle nuove annate di Vernaccia di San Gimignano DOCG e Vernaccia di San Gimignano DOCG Riserva. \nDalle 9:30 alle 16:00 le degustazioni con il servizio sommelier daranno tempo e spazio per approfondire\, assaggiare\, confrontarsi. \nNel pomeriggio la Sala di Dante ospita il seminario a cura di Filippo Bartolotta\, voce autorevole del giornalismo enogastronomico\, per un momento di riflessione e dibattito sulla Vernaccia di San Gimignano e sul suo ruolo nel panorama vinicolo contemporaneo. \nLa serata si chiude con una cena firmata dai Pescatori di Orbetello presso gli spazi di Lunaria Tuscany. \nVenerdì 29 maggio\nIl giorno successivo\, venerdì 29 maggio\, è la giornata dedicata ai Press Tour\, che porteranno i giornalisti direttamente nelle cantine dei produttori aderenti al Wine Fest. Un’occasione unica per toccare con mano il lavoro quotidiano di chi fa grande questa denominazione. \nLa serata si aprirà invece con l’inaugurazione della Mostra Personale di Stefano Bombardieri e a seguire in Piazza del Duomo si terrà la Cena di Gala firmata dallo Chef Nicola Gronchi del ristorante Da Romano – una stella Michelin – accompagnata dalla Vernaccia di San Gimignano DOCG e dalla presentazione di un’opera creata appositamente per la denominazione. \nDue giorni di lavoro\, confronto e scoperta per conoscere davvero la Vernaccia di San Gimignano\, dalla vigna al calice. \n  \n\nPer maggiori dettagli e per conoscere il programma completo visita la pagina ufficiale: https://www.reginaribelle.it/
URL:https://www.doctorwine.wine/event/press-days-regina-ribelle-vernaccia-di-san-gimignano/
LOCATION:Museo di Arte Moderna e Contemporanea R. De Grada\, San Gimignano\, Italy
CATEGORIES:Anteprima Vini,Degustazione,Eventi Toscana
ATTACH;FMTTYPE=image/png:https://www.doctorwine.wine/wp-content/uploads/2026/04/Doctor-Wine-Calendario-2.png
END:VEVENT
END:VCALENDAR