BEGIN:VCALENDAR
VERSION:2.0
PRODID:-//DoctorWine - ECPv6.15.20//NONSGML v1.0//EN
CALSCALE:GREGORIAN
METHOD:PUBLISH
X-ORIGINAL-URL:https://www.doctorwine.wine
X-WR-CALDESC:Eventi per DoctorWine
REFRESH-INTERVAL;VALUE=DURATION:PT1H
X-Robots-Tag:noindex
X-PUBLISHED-TTL:PT1H
BEGIN:VTIMEZONE
TZID:Europe/Rome
BEGIN:DAYLIGHT
TZOFFSETFROM:+0100
TZOFFSETTO:+0200
TZNAME:CEST
DTSTART:20240331T010000
END:DAYLIGHT
BEGIN:STANDARD
TZOFFSETFROM:+0200
TZOFFSETTO:+0100
TZNAME:CET
DTSTART:20241027T010000
END:STANDARD
BEGIN:DAYLIGHT
TZOFFSETFROM:+0100
TZOFFSETTO:+0200
TZNAME:CEST
DTSTART:20250330T010000
END:DAYLIGHT
BEGIN:STANDARD
TZOFFSETFROM:+0200
TZOFFSETTO:+0100
TZNAME:CET
DTSTART:20251026T010000
END:STANDARD
BEGIN:DAYLIGHT
TZOFFSETFROM:+0100
TZOFFSETTO:+0200
TZNAME:CEST
DTSTART:20260329T010000
END:DAYLIGHT
BEGIN:STANDARD
TZOFFSETFROM:+0200
TZOFFSETTO:+0100
TZNAME:CET
DTSTART:20261025T010000
END:STANDARD
END:VTIMEZONE
BEGIN:VEVENT
DTSTART;TZID=Europe/Rome:20250919T200000
DTEND;TZID=Europe/Rome:20250921T190000
DTSTAMP:20260426T004239
CREATED:20250829T080902Z
LAST-MODIFIED:20250829T082238Z
UID:40880-1758312000-1758481200@www.doctorwine.wine
SUMMARY:Sorsi di Vagliagli
DESCRIPTION:Sorsi di Vagliagli torna con la terza edizione: 19–20–21 settembre 2025\, tre giorni di vino\, sapori e cultura nel cuore del Chianti Classico.\n\nDopo il successo delle edizioni precedenti\, “Sorsi di Vagliagli” ritorna con la terza edizione. Un intero weekend di festa\, dal 19 al 21 settembre\, tra le suggestive vie del borgo medievale di Vagliagli\, alla scoperta del Chianti Classico Docg e delle eccellenze locali. \nOrganizzata dall’Associazione Vagliagli\, in collaborazione con la Polisportiva locale\, l’Associazione Camminando a Quercegrossa e con il patrocinio del Comune di Castelnuovo Berardenga e del Consorzio Chianti Classico\, la manifestazione si conferma come uno degli appuntamenti più attesi dell’autunno toscano per appassionati\, wine lovers e visitatori curiosi di scoprire il territorio attraverso il gusto. \nLe degustazioni vedranno coinvolte le aziende della UGA Vagliagli (Unità Geografica Aggiuntiva)\, che accompagneranno il pubblico alla scoperta delle diverse interpretazioni del Chianti Classico\, in un contesto autentico e conviviale. \nEsperienze da non perdere:\nVenerdì 19 settembre – Cena d’autore con degustazione alla cieca. Dalle ore 20.00\, presso La Taverna di Vagliagli\, va in scena un’esperienza sensoriale esclusiva firmata dallo chef Andrea Nassi. La sua cucina tradizionale incontra una selezione dei migliori Chianti Classico e Riserva in una degustazione alla cieca. I nomi dei produttori resteranno segreti fino all’ultimo calice. Un invito a lasciarsi guidare solo dal palato\, per scoprire l’anima più autentica del vino\, oltre l’etichetta. Posti limitati\, prenotazione obbligatoria. Per info e prenotazioni: La Taverna di Vagliagli: +39 0577 322532 \nSabato 20 e domenica 21 settembre – Vino\, street food e territorio. Il cuore del borgo ospiterà stand vinicoli\, banchi di assaggio\, piatti della tradizione rivisitati in chiave street food\, artigianato locale e momenti di convivialità\, accompagnati da musica dal vivo e intrattenimento. \nDomenica 21 settembre – Escursioni tra vigne e colline. Percorsi a piedi e in bicicletta permetteranno di esplorare il paesaggio circostante tra vigneti\, oliveti e scorci mozzafiato\, per vivere Vagliagli a 360 gradi. Per info e prenotazioni: vino@vagliagli.com \nInformazioni pratiche:\nL’evento si svolgerà nel centro storico di Vagliagli\, tra Piazza Vittorio Emanuele e le principali vie del borgo. \nOrari di apertura al pubblico:\n– Venerdì 19 settembre: ore 20.00 – Degustazione alla cieca.\n– Sabato 20 settembre: apertura banchetti dalle 18.00 alle 24.00\n– Domenica 21 settembre: ritrovo alle ore 10:00 a Vagliagli per la partenza dei percorsi a piedi o in bicicletta. Apertura banchetti dalle 12:00 alle 19:00. \nTicket degustazione (sabato e domenica). Prenotazione obbligatoria per la cena del 19 settembre. \nPer info e prenotazioni: Email: vino@vagliagli.com | La Taverna di Vagliagli: +39 0577 322532 | Sito ufficiale: www.vagliagli.com | Instagram: @vagliagli_official
URL:https://www.doctorwine.wine/event/sorsi-di-vagliagli/
LOCATION:Vagliagli (SI)\, Italy
CATEGORIES:Degustazione,Eventi Toscana
ATTACH;FMTTYPE=image/jpeg:https://www.doctorwine.wine/wp-content/uploads/2025/08/Doctor-Wine-Calendario.jpg
END:VEVENT
END:VCALENDAR