BEGIN:VCALENDAR
VERSION:2.0
PRODID:-//DoctorWine - ECPv6.15.20//NONSGML v1.0//EN
CALSCALE:GREGORIAN
METHOD:PUBLISH
X-WR-CALNAME:DoctorWine
X-ORIGINAL-URL:https://www.doctorwine.wine
X-WR-CALDESC:Eventi per DoctorWine
REFRESH-INTERVAL;VALUE=DURATION:PT1H
X-Robots-Tag:noindex
X-PUBLISHED-TTL:PT1H
BEGIN:VTIMEZONE
TZID:Europe/Rome
BEGIN:DAYLIGHT
TZOFFSETFROM:+0100
TZOFFSETTO:+0200
TZNAME:CEST
DTSTART:20240331T010000
END:DAYLIGHT
BEGIN:STANDARD
TZOFFSETFROM:+0200
TZOFFSETTO:+0100
TZNAME:CET
DTSTART:20241027T010000
END:STANDARD
BEGIN:DAYLIGHT
TZOFFSETFROM:+0100
TZOFFSETTO:+0200
TZNAME:CEST
DTSTART:20250330T010000
END:DAYLIGHT
BEGIN:STANDARD
TZOFFSETFROM:+0200
TZOFFSETTO:+0100
TZNAME:CET
DTSTART:20251026T010000
END:STANDARD
BEGIN:DAYLIGHT
TZOFFSETFROM:+0100
TZOFFSETTO:+0200
TZNAME:CEST
DTSTART:20260329T010000
END:DAYLIGHT
BEGIN:STANDARD
TZOFFSETFROM:+0200
TZOFFSETTO:+0100
TZNAME:CET
DTSTART:20261025T010000
END:STANDARD
END:VTIMEZONE
BEGIN:VEVENT
DTSTART;TZID=Europe/Rome:20251122T110000
DTEND;TZID=Europe/Rome:20251124T163000
DTSTAMP:20260426T022821
CREATED:20250915T092604Z
LAST-MODIFIED:20250916T074146Z
UID:41660-1763809200-1764001800@www.doctorwine.wine
SUMMARY:Piacenza - Fiera dei vini 2025
DESCRIPTION:Fiera dei Vini 2025: Dal 22 al 24 novembre 2025 la mostra mercato di Piacenza Expo esplora l’universo dei miscelati e valorizza il turismo del vino.\nEnoturismo e Mixology: la Fiera dei Vini 2025 allarga i propri orizzonti. Prevendite online già attive. \nLe novità dell’edizione 2025\nSi apre a nuove prospettive l’edizione 2025 della Fiera dei Vini\, in programma dal 22 al 24 novembre a Piacenza Expo. L’appuntamento si presenta quest’anno con due importanti novità: \n\nl’ampliamento dell’area dedicata alla mixology\, realizzato con il patrocinio di AIBES – Associazione Italiana Barmen e Sostenitori\,\nl’introduzione di un percorso di visita pensato per valorizzare le aziende vitivinicole che offrono esperienze di accoglienza. Oltre metà delle realtà espositrici – già 18 le regioni italiane rappresentate\, insieme a produttori da Austria\, Francia e Slovenia – presenta un’offerta enoturistica strutturata che sarà messa in evidenza grazie a una segnaletica dedicata e al catalogo distribuito all’ingresso della manifestazione. In questo contesto si inserisce la partnership con l’Associazione Nazionale Città del Vino\, che durante la Fiera dei Vini organizzerà un incontro istituzionale con i Comuni dell’Emilia-Romagna aderenti alla rete per promuovere percorsi e itinerari di turismo del vino sempre più integrati.\n\nUn format vincente\nSi conferma il format vincente attuato nelle scorse edizioni: una rassegna a misura d’uomo\, dove il dialogo diretto tra produttori e winelovers è al centro dell’esperienza: \n\nAi banchi d’assaggio sarà possibile incontrare le cantine\, degustare e acquistare direttamente i vini\, con la comodità dei carrelli a disposizione.\nA completare il percorso\, un’ampia selezione di specialità gastronomiche e artigianali.\nAnche quest’anno spazio alla cultura: tra gli appuntamenti collaterali torna la rassegna “Filari di Libri”\, l’area dedicata alle proposte editoriali italiane in abbinamento al territorio vitivinicolo.\n\n“Fiera dei Vini si conferma anche in questa edizione come la mostra mercato più dinamica e completa\, in grado di interpretare lo scenario enologico contemporaneo con una selezione di oltre duecento vignaioli – dichiara Sergio Copelli\, Coordinatore Generale di Piacenza Expo –. Di particolare interesse anche il focus professionale sul canale Horeca\, accompagnato da un’attività di marketing mirata a favorire l’incontro tra operatori”. \nLa Fiera dei Vini in breve\nAppuntamento sabato\, domenica 23 e lunedì 24 novembre 2025 al Piacenza Expo \nOrario di apertura al pubblico:  \n\nsabato 22 novembre dalle 11.00 alle 19.30\ndomenica 23 novembre dalle 11.00 alle 19.30\nlunedì 24 novembre dalle 10.00 alle 16.30\n\nLa biglietteria online è già attiva sul sito della manifestazione: www.fieradeivini.it. Soci AIS\, ONAV\, FISAR\, AIC\, AIBES e operatori del settore possono richiedere il biglietto giornaliero ridotto previa registrazione e accredito. I minorenni non pagano l’ingresso e non possono effettuare degustazioni. \nA partire dal 1° settembre è inoltre possibile acquistare online i ticket per le masterclass tematiche\, tra cui una dedicata all’olio extravergine di oliva a cura di Luigi Caricato\, direttore del magazine Olio Officina.
URL:https://www.doctorwine.wine/event/fiera-dei-vini-2025/
LOCATION:Piacenza Expo\, Piacenza\, Italy
CATEGORIES:Degustazione,Eventi Emilia Romagna,Fiera
ATTACH;FMTTYPE=image/jpeg:https://www.doctorwine.wine/wp-content/uploads/2025/09/Fiera-dei-Vini-2025.jpg
END:VEVENT
END:VCALENDAR