BEGIN:VCALENDAR
VERSION:2.0
PRODID:-//DoctorWine - ECPv6.15.18//NONSGML v1.0//EN
CALSCALE:GREGORIAN
METHOD:PUBLISH
X-ORIGINAL-URL:https://www.doctorwine.wine
X-WR-CALDESC:Eventi per DoctorWine
REFRESH-INTERVAL;VALUE=DURATION:PT1H
X-Robots-Tag:noindex
X-PUBLISHED-TTL:PT1H
BEGIN:VTIMEZONE
TZID:Europe/Rome
BEGIN:DAYLIGHT
TZOFFSETFROM:+0100
TZOFFSETTO:+0200
TZNAME:CEST
DTSTART:20250330T010000
END:DAYLIGHT
BEGIN:STANDARD
TZOFFSETFROM:+0200
TZOFFSETTO:+0100
TZNAME:CET
DTSTART:20251026T010000
END:STANDARD
BEGIN:DAYLIGHT
TZOFFSETFROM:+0100
TZOFFSETTO:+0200
TZNAME:CEST
DTSTART:20260329T010000
END:DAYLIGHT
BEGIN:STANDARD
TZOFFSETFROM:+0200
TZOFFSETTO:+0100
TZNAME:CET
DTSTART:20261025T010000
END:STANDARD
BEGIN:DAYLIGHT
TZOFFSETFROM:+0100
TZOFFSETTO:+0200
TZNAME:CEST
DTSTART:20270328T010000
END:DAYLIGHT
BEGIN:STANDARD
TZOFFSETFROM:+0200
TZOFFSETTO:+0100
TZNAME:CET
DTSTART:20271031T010000
END:STANDARD
END:VTIMEZONE
BEGIN:VEVENT
DTSTART;TZID=Europe/Rome:20260307T110000
DTEND;TZID=Europe/Rome:20260308T200000
DTSTAMP:20260421T174225
CREATED:20260219T103558Z
LAST-MODIFIED:20260219T103558Z
UID:52327-1772881200-1773000000@www.doctorwine.wine
SUMMARY:Livorno - Andar per Cantine LIVE
DESCRIPTION:“Andar per Cantine” accende la Toscana del vino: a Livorno debutta “Andar per Cantine LIVE” (7–8 marzo 2026)\nIl vino toscano smette di essere solo racconto e diventa incontro. Succede a Livorno con “Andar per Cantine LIVE”\, il nuovo evento immersivo firmato Enoturistica\, in programma sabato 7 e domenica 8 marzo 2026 presso le Officine Storiche del Complesso Commerciale e Residenziale Porta a Mare. \nDue giorni pensati per far “uscire” l’enoturismo dalle pagine e portarlo tra le persone. L’occasione è data dalla presentazione della nuova edizione 2026 di “Andar per Cantine”\, guida di riferimento dell’enoturismo in Toscana uscita con la prima edizione nel 2024 e costruita per accompagnare wine lovers e viaggiatori dentro cantine\, borghi e territori da vivere sul campo. \nIl format di Andar per Cantine LIVE\nIl format di Andar per Cantine LIVE è quello di un percorso narrativo: al centro c’è “La Banchina”\, palco per presentazioni e talk con giornalisti\, operatori e istituzioni; intorno prende forma l“’Arcipelago delle Cantine” con banchi d’assaggio e mini talk direttamente con i produttori; l“’Oceano delle Wine Destinations” guida il pubblico con mappe e totem multimediali attraverso 17 destinazioni e 68 borghi; la “Cruise Experience” propone invece degustazioni guidate con sommelier in piccoli gruppi (fino a 6 partecipanti)\, per chi cerca un ritmo più intimo e approfondito. \n«Con LIVE volevamo creare un ponte reale tra chi ama il vino e i luoghi in cui nasce: non una semplice presentazione\, ma un’esperienza che ti fa entrare nelle storie\, nelle persone e nelle destinazioni». Spiega Simone Nannipieri\, ideatore della guida\, coordinatore dell’evento e consulente per lo sviluppo dell’enoturismo. \nLa location\nDa sottolineare è anche il luogo scelto per ospitare l’evento: le Officine Storiche di Porta a Mare\, da cuore della cantieristica a simbolo di rigenerazione urbana\, con Livorno sempre più candidata a essere porta d’ingresso del turismo enogastronomico regionale. \n«Andar per Cantine LIVE rappresenta un esempio virtuoso di come il turismo enogastronomico possa diventare uno strumento reale di sviluppo per le imprese e per il territorio»\, dichiara Alessandro Ciapini\, Direttore Confesercenti Provinciale Livorno. \nLa Guida “Andar per Cantine”\nA dare la misura del progetto ci sono i numeri della guida: 137 cantine selezionate e oltre 400 esperienze tra degustazioni\, tour\, incontri\, vendemmia e attività speciali\, con un’offerta che fotografa l’evoluzione dell’accoglienza in cantina: degustazioni nel 100% dei casi\, wine shop nel 95\,6%\, proposte con cucina toscana nel 66\,2%\, agriturismo nel 49\,6% e wine resort nel 30\,9%. Tra le formule\, dominano i tour di gruppo (98\,5%)\, ma crescono anche percorsi privati (39\,4%) e personalizzati (18\,9%)\, mentre il 36% delle cantine propone esperienze “WOW”. Sul fronte prezzi\, il 26\,3%resta entro i 50 euro\, il 49\,6% si colloca tra 50 e 150 euro e il 13\,1% nella fascia alta; il 33\,1% evidenzia iniziative di sostenibilità\, mentre il 3\,6% segnala esperienze fruibili da persone con disabilità (dato dai siti). \nInformazioni utili\n\nQuando: sabato 7 e domenica 8 marzo 2026\nOrari: sabato 11:00–20:00\, domenica 11:00–20:00\nDove: presso le Officine Storiche del Complesso Commerciale e Residenziale Porta a Mare\nSito ufficiale: andarpercantine.live
URL:https://www.doctorwine.wine/event/livorno-andar-per-cantine-live/
LOCATION:officine Storiche\, Complesso Commerciale e Residenziale Porta a Mare\, Livorno\, Italy
CATEGORIES:Degustazione,Eventi Toscana
ATTACH;FMTTYPE=image/png:https://www.doctorwine.wine/wp-content/uploads/2026/02/Andar-per-cantine-Live-2026.png
END:VEVENT
END:VCALENDAR