BEGIN:VCALENDAR
VERSION:2.0
PRODID:-//DoctorWine - ECPv6.15.20//NONSGML v1.0//EN
CALSCALE:GREGORIAN
METHOD:PUBLISH
X-ORIGINAL-URL:https://www.doctorwine.wine
X-WR-CALDESC:Eventi per DoctorWine
REFRESH-INTERVAL;VALUE=DURATION:PT1H
X-Robots-Tag:noindex
X-PUBLISHED-TTL:PT1H
BEGIN:VTIMEZONE
TZID:Europe/Rome
BEGIN:DAYLIGHT
TZOFFSETFROM:+0100
TZOFFSETTO:+0200
TZNAME:CEST
DTSTART:20240331T010000
END:DAYLIGHT
BEGIN:STANDARD
TZOFFSETFROM:+0200
TZOFFSETTO:+0100
TZNAME:CET
DTSTART:20241027T010000
END:STANDARD
BEGIN:DAYLIGHT
TZOFFSETFROM:+0100
TZOFFSETTO:+0200
TZNAME:CEST
DTSTART:20250330T010000
END:DAYLIGHT
BEGIN:STANDARD
TZOFFSETFROM:+0200
TZOFFSETTO:+0100
TZNAME:CET
DTSTART:20251026T010000
END:STANDARD
BEGIN:DAYLIGHT
TZOFFSETFROM:+0100
TZOFFSETTO:+0200
TZNAME:CEST
DTSTART:20260329T010000
END:DAYLIGHT
BEGIN:STANDARD
TZOFFSETFROM:+0200
TZOFFSETTO:+0100
TZNAME:CET
DTSTART:20261025T010000
END:STANDARD
END:VTIMEZONE
BEGIN:VEVENT
DTSTART;VALUE=DATE:20250627
DTEND;VALUE=DATE:20250630
DTSTAMP:20260425T214954
CREATED:20250519T095022Z
LAST-MODIFIED:20250519T095022Z
UID:36888-1750982400-1751241599@www.doctorwine.wine
SUMMARY:VinoIntorno 2025
DESCRIPTION:VinoIntorno 2025: il festival della cultura enogastronomica celebra il gusto autentico dell’Italia da scoprire a Olevano Romano\nVinoIntorno 2025: Torna anche quest’anno uno degli appuntamenti più attesi per gli appassionati di vino e prodotti d’eccellenza: VinoIntorno\, il festival che celebra la cultura enogastronomica italiana in tutte le sue sfumature\, organizzata da Extrawine con la collaborazione del Gourmet Errante. \nL’evento si terrà nei giorni 20-21 & 27-28-29 Giugno 2025 nella suggestiva cornice di Olevano Romano\, incantevole borgo del Lazio immerso tra i vigneti e la storia. \nVinoIntorno è l’evento ideale per chi ama scoprire nuove realtà del panorama vitivinicolo italiano\, incontrare direttamente i produttori\, esplorare borghi autentici e lasciarsi guidare dalla curiosità. Un’esperienza che unisce cultura\, gusto e territorio\, perfetta per enoturisti e appassionati. \nCos’è VinoIntorno?\nVinoIntorno è molto più di una semplice degustazione: è un vero e proprio viaggio sensoriale tra i sapori e le tradizioni del nostro Paese. Nato con l’obiettivo di valorizzare le produzioni di qualità\, il festival riunisce ogni anno decine di cantine da tutta Italia\, piccole realtà artigianali\, produttori di eccellenze gastronomiche\, ma anche sommelier\, giornalisti e wine lovers. \nL’evento è organizzato dall’Associazione Extrawine in collaborazione con il Comune di Olevano Romano e il supporto di partner locali. Il tutto si svolge nella cornice storica del centro cittadino\, tra piazze\, vicoli e scorci panoramici che rendono l’esperienza ancora più suggestiva. \nCosa troverai a VinoIntorno\n\nDegustazioni di vini: oltre 70 cantine selezionate\, con particolare attenzione ai vitigni autoctoni e alle produzioni sostenibili. Dai rossi intensi del Sud ai bianchi minerali del Nord\, passando per bollicine e passiti da scoprire\, oltre 600 etichette in degustazione.\nSpecialità gastronomiche: salumi\, formaggi\, pane\, olio\, conserve e dolci artigianali da abbinare ai vini in assaggio. Un percorso del gusto che esalta le tipicità regionali.\nMasterclass e incontri: appuntamenti con esperti del settore\, verticali di vino\, focus su territori e produzioni\, momenti di approfondimento culturale.\nMusica e intrattenimento: concerti dal vivo\, spettacoli e animazione per vivere due serate all’insegna della convivialità.\n\nCome partecipare\nL’evento si svolge nel centro storico di Olevano Romano\, a 60 km da Roma\, nella suggestiva cornice della Piazza del Santuario della Santissima Annunziata. \nL’ingresso è libero\, ma per le degustazioni è necessario acquistare un biglietto\, che dà diritto ad assaggi illimitati. È possibile acquistarlo direttamente sul posto oppure in prevendita tramite il sito ufficiale o i canali social dell’organizzazione. \nL’accredito Stampa è consentito solo per un giorno fra i 4 destinati alle degustazioni. L’accesso alle conferenze della domenica invece è libero. \nTutti i dettagli sulla pagina dell’evento
URL:https://www.doctorwine.wine/event/vinointorno-2025-2/
LOCATION:Olevano Romano\, Olevano Romano\, Italia
CATEGORIES:Degustazione,Eventi Lazio
ATTACH;FMTTYPE=image/jpeg:https://www.doctorwine.wine/wp-content/uploads/2025/05/VinoIntorno-2.jpg
END:VEVENT
BEGIN:VEVENT
DTSTART;VALUE=DATE:20250620
DTEND;VALUE=DATE:20250622
DTSTAMP:20260425T214954
CREATED:20250519T094021Z
LAST-MODIFIED:20250519T095234Z
UID:36855-1750377600-1750550399@www.doctorwine.wine
SUMMARY:VinoIntorno 2025
DESCRIPTION:VinoIntorno 2025: il festival della cultura enogastronomica celebra il gusto autentico dell’Italia da scoprire a Olevano Romano\nVinoIntorno 2025: Torna anche quest’anno uno degli appuntamenti più attesi per gli appassionati di vino e prodotti d’eccellenza: VinoIntorno\, il festival che celebra la cultura enogastronomica italiana in tutte le sue sfumature\, organizzata da Extrawine con la collaborazione del Gourmet Errante. \nL’evento si terrà nei giorni 20-21 & 27-28-29 Giugno 2025 nella suggestiva cornice di Olevano Romano\, incantevole borgo del Lazio immerso tra i vigneti e la storia. \nVinoIntorno è l’evento ideale per chi ama scoprire nuove realtà del panorama vitivinicolo italiano\, incontrare direttamente i produttori\, esplorare borghi autentici e lasciarsi guidare dalla curiosità. Un’esperienza che unisce cultura\, gusto e territorio\, perfetta per enoturisti e appassionati. \nCos’è VinoIntorno?\nVinoIntorno è molto più di una semplice degustazione: è un vero e proprio viaggio sensoriale tra i sapori e le tradizioni del nostro Paese. Nato con l’obiettivo di valorizzare le produzioni di qualità\, il festival riunisce ogni anno decine di cantine da tutta Italia\, piccole realtà artigianali\, produttori di eccellenze gastronomiche\, ma anche sommelier\, giornalisti e wine lovers. \nL’evento è organizzato dall’Associazione Extrawine in collaborazione con il Comune di Olevano Romano e il supporto di partner locali. Il tutto si svolge nella cornice storica del centro cittadino\, tra piazze\, vicoli e scorci panoramici che rendono l’esperienza ancora più suggestiva. \nCosa troverai a VinoIntorno\n\nDegustazioni di vini: oltre 70 cantine selezionate\, con particolare attenzione ai vitigni autoctoni e alle produzioni sostenibili. Dai rossi intensi del Sud ai bianchi minerali del Nord\, passando per bollicine e passiti da scoprire\, oltre 600 etichette in degustazione.\nSpecialità gastronomiche: salumi\, formaggi\, pane\, olio\, conserve e dolci artigianali da abbinare ai vini in assaggio. Un percorso del gusto che esalta le tipicità regionali.\nMasterclass e incontri: appuntamenti con esperti del settore\, verticali di vino\, focus su territori e produzioni\, momenti di approfondimento culturale.\nMusica e intrattenimento: concerti dal vivo\, spettacoli e animazione per vivere due serate all’insegna della convivialità.\n\nCome partecipare\nL’evento si svolge nel centro storico di Olevano Romano\, a 60 km da Roma\, nella suggestiva cornice della Piazza del Santuario della Santissima Annunziata. \nL’ingresso è libero\, ma per le degustazioni è necessario acquistare un biglietto\, che dà diritto ad assaggi illimitati. È possibile acquistarlo direttamente sul posto oppure in prevendita tramite il sito ufficiale o i canali social dell’organizzazione. \nL’accredito Stampa è consentito solo per un giorno fra i 4 destinati alle degustazioni. L’accesso alle conferenze della domenica invece è libero. \nTutti i dettagli sulla pagina dell’evento
URL:https://www.doctorwine.wine/event/vinointorno-2025/
LOCATION:Olevano Romano\, Olevano Romano\, Italia
CATEGORIES:Degustazione,Eventi Lazio
ATTACH;FMTTYPE=image/jpeg:https://www.doctorwine.wine/wp-content/uploads/2025/05/VinoIntorno-2.jpg
END:VEVENT
END:VCALENDAR