BEGIN:VCALENDAR
VERSION:2.0
PRODID:-//DoctorWine - ECPv6.15.18//NONSGML v1.0//EN
CALSCALE:GREGORIAN
METHOD:PUBLISH
X-WR-CALNAME:DoctorWine
X-ORIGINAL-URL:https://www.doctorwine.wine
X-WR-CALDESC:Eventi per DoctorWine
REFRESH-INTERVAL;VALUE=DURATION:PT1H
X-Robots-Tag:noindex
X-PUBLISHED-TTL:PT1H
BEGIN:VTIMEZONE
TZID:Europe/Rome
BEGIN:DAYLIGHT
TZOFFSETFROM:+0100
TZOFFSETTO:+0200
TZNAME:CEST
DTSTART:20250330T010000
END:DAYLIGHT
BEGIN:STANDARD
TZOFFSETFROM:+0200
TZOFFSETTO:+0100
TZNAME:CET
DTSTART:20251026T010000
END:STANDARD
BEGIN:DAYLIGHT
TZOFFSETFROM:+0100
TZOFFSETTO:+0200
TZNAME:CEST
DTSTART:20260329T010000
END:DAYLIGHT
BEGIN:STANDARD
TZOFFSETFROM:+0200
TZOFFSETTO:+0100
TZNAME:CET
DTSTART:20261025T010000
END:STANDARD
BEGIN:DAYLIGHT
TZOFFSETFROM:+0100
TZOFFSETTO:+0200
TZNAME:CEST
DTSTART:20270328T010000
END:DAYLIGHT
BEGIN:STANDARD
TZOFFSETFROM:+0200
TZOFFSETTO:+0100
TZNAME:CET
DTSTART:20271031T010000
END:STANDARD
END:VTIMEZONE
BEGIN:VEVENT
DTSTART;TZID=Europe/Rome:20260328T110000
DTEND;TZID=Europe/Rome:20260329T180000
DTSTAMP:20260421T203342
CREATED:20260218T174006Z
LAST-MODIFIED:20260218T174006Z
UID:52309-1774695600-1774807200@www.doctorwine.wine
SUMMARY:Monforte d'Alba - I Grandi Terroirs del Barolo 2026
DESCRIPTION:I Grandi Terroirs del Barolo 2026: A Monforte d’Alba\, un intero weekend di degustazioni firmato Go Wine dedicato al Barolo\nTornano I Grandi Terroir del Barolo\, l’iniziativa ideata da Go Wine e giunta alla diciassettesima edizione\, in programma sabato 28 e domenica 29 marzo 2026 a Monforte d’Alba\, uno dei centri più importanti della Langa del Barolo. \nSede dell’evento saranno ancora una volta le eleganti sale di Palazzo Martinengo – Moda Venue (Via Cavour\, 10)\, nel centro storico del paese. \nL’evento conferma e rafforza il proprio carattere distintivo: un’occasione di approfondimento sul Barolo e sul suo territorio\, con al centro le Menzioni Geografiche Aggiuntive (M.G.A.)\, per raccontare – attraverso l’assaggio – le diverse anime della denominazione. \nUn percorso che valorizza cantine che producono Barolo in più etichette\, espressione di cru\, siti e parti diverse del territorio\, esaltando l’anima e le peculiarità del Nebbiolo e interpretando le diversità come una ricchezza che invita a comprendere più a fondo la grandezza di questo vino. \nUn evento mirato\, tra degustazione e territorio\nL’edizione 2026 si propone come una sorta di anteprima della nuova annata sul territorio\, mantenendo una formula collaudata che nelle ultime edizioni ha registrato una crescente partecipazione e interesse. \nUn evento mirato e\, a suo modo\, esclusivo\, che vuole: \n\ncomunicare le peculiarità dei diversi cru\nfar riflettere degustatori e pubblico sull’importanza del fattore terra–territorio\nvalorizzare l’incontro diretto con i produttori\ninvitare esperti ed enoappassionati a vivere un fine settimana in Langa\, tra degustazioni\, visite in cantina e scoperta del territorio.\n\nIl Consorzio Vino Nobile di Montepulciano ospite speciale dell’evento\nSarà il Consorzio del Vino Nobile di Montepulciano l’ospite speciale de I Grandi Terroir del Barolo\, con un approfondimento dedicato al progetto delle Pievi\, recentemente istituito. \nLo studio storico della geologia e della geografia del territorio ha portato alla individuazione di 12 zone\, definite nel disciplinare di produzione UGA (Unità geografiche aggiuntive)\, le stesse anteposte in etichetta con la menzione “Pieve”. \nUn tema che dialogherà in modo naturale con le Menzioni Geografiche Aggiuntive del Barolo: anche a Montepulciano il racconto del vino passa attraverso una lettura sempre più precisa delle diverse identità del territorio. \nDurante l’evento sarà proposta una selezione di vini rappresentativi delle diverse Pievi\, offrendo al pubblico un interessante confronto tra due grandi denominazioni italiane unite dalla volontà di mettere al centro il territorio come elemento distintivo. \nIl programma\n\nDove: Palazzo Martinengo – Moda Venue \nSala dei Grifoni\nVia Cavour\, 10 – Monforte d’Alba (CN)\nSabato 28 marzo 2026  – Banco d’assaggio dalle 11.00 alle 18.00\, articolato su due turni\n\nprimo turno: 11.00 – 14.30\nsecondo turno: 14.30 – 18.00\n\n\nDomenica 29 marzo 2026 – Banco d’assaggio dalle 11.00 alle 18.00\, articolato su due turni\n\nprimo turno: 11.00 – 14.30\nsecondo turno: 14.30 – 18.00\n\n\n\n\nMasterclass di approfondimento\, anche su annate anteriori\nUn Master sul Barolo (sabato 28 marzo)\, con lezioni\, percorsi tematici e degustazioni\nVisite in cantina e proposte di soggiorno sul territorio\nAbbinamenti enogastronomici nei ristoranti della zona\n\nIn questa edizione sarà inoltre introdotto in forma sperimentale un piccolo shop de “I Grandi Terroir del Barolo”\, che consentirà al pubblico di acquistare una selezione di Barolo degustati durante l’evento. \nLe Masterclass\nDurante le due giornate sono previste quattro masterclass dal titolo: “Terroir a confronto: Barolo e Vino Nobile di Montepulciano\, menzioni geografiche\, sottozone e territorio”. \nSaranno condotte dal giornalista Gianni Fabrizio\, curatore della guida ai Vini d’Italia del Gambero Rosso. \nSi tratta di percorsi d’assaggio di confronto tra Barolo e Vino Nobile di Montepulciano. \nIn ogni degustazione saranno in assaggio 4 Barolo e 4 Vino Nobile di Montepulciano\, con etichette che varieranno in ciascun appuntamento. \nCalendario e orari: \n\nSabato 28 marzo\n\nOre 14.30\nOre 17.00\n\n\nDomenica 29 marzo\n\nOre 11.00\nOre 15.30\n\n\n\nLe masterclass si svolgono su prenotazione. Per prenotare la partecipazione alla masterclass vai alla pagina dedicata \nIl Master sul Barolo – Sabato 28 marzo\nSabato 28 marzo è in programma il Master sul Barolo: una giornata in cui si potrà approfondire sul campo la conoscenza di questo vino fra lezioni\, percorsi nel territorio di produzione e degustazioni. \nNei prossimi giorni i dettagli e il percorso della giornata. \nChi fosse interessato può confermare la preadesione scrivendo alla mail stampa.eventi@gowinet.it \nCome partecipare\nLa degustazione al banco d’assaggio si svolgerà su turni e con prenotazione obbligatoria\, per garantire la migliore esperienza di visita e di assaggio. \nBiglietti in prevendita online – Riduzioni per chi prenota online \nIngresso gratuito per chi si associa a Go Wine
URL:https://www.doctorwine.wine/event/monforte-dalba-i-grandi-terroirs-del-barolo-2026/
LOCATION:Palazzo Martinengo\, Moda Venue\, Via Cavour\, 10\, Monforte d’Alba\, Italy
CATEGORIES:Degustazione,Eventi Piemonte
ATTACH;FMTTYPE=image/jpeg:https://www.doctorwine.wine/wp-content/uploads/2026/02/I-grandi-terroir-del-Barolo-2026.jpg
ORGANIZER;CN="Go Wine":MAILTO:info@gowinet.it
END:VEVENT
END:VCALENDAR