BEGIN:VCALENDAR
VERSION:2.0
PRODID:-//DoctorWine - ECPv6.15.20//NONSGML v1.0//EN
CALSCALE:GREGORIAN
METHOD:PUBLISH
X-ORIGINAL-URL:https://www.doctorwine.wine
X-WR-CALDESC:Eventi per DoctorWine
REFRESH-INTERVAL;VALUE=DURATION:PT1H
X-Robots-Tag:noindex
X-PUBLISHED-TTL:PT1H
BEGIN:VTIMEZONE
TZID:Europe/Rome
BEGIN:DAYLIGHT
TZOFFSETFROM:+0100
TZOFFSETTO:+0200
TZNAME:CEST
DTSTART:20250330T010000
END:DAYLIGHT
BEGIN:STANDARD
TZOFFSETFROM:+0200
TZOFFSETTO:+0100
TZNAME:CET
DTSTART:20251026T010000
END:STANDARD
BEGIN:DAYLIGHT
TZOFFSETFROM:+0100
TZOFFSETTO:+0200
TZNAME:CEST
DTSTART:20260329T010000
END:DAYLIGHT
BEGIN:STANDARD
TZOFFSETFROM:+0200
TZOFFSETTO:+0100
TZNAME:CET
DTSTART:20261025T010000
END:STANDARD
BEGIN:DAYLIGHT
TZOFFSETFROM:+0100
TZOFFSETTO:+0200
TZNAME:CEST
DTSTART:20270328T010000
END:DAYLIGHT
BEGIN:STANDARD
TZOFFSETFROM:+0200
TZOFFSETTO:+0100
TZNAME:CET
DTSTART:20271031T010000
END:STANDARD
END:VTIMEZONE
BEGIN:VEVENT
DTSTART;VALUE=DATE:20260509
DTEND;VALUE=DATE:20260510
DTSTAMP:20260426T061950
CREATED:20260425T143105Z
LAST-MODIFIED:20260425T144119Z
UID:55920-1778284800-1778371199@www.doctorwine.wine
SUMMARY:Roma  - Quartiere Vino Pigneto 2026
DESCRIPTION:Quartiere Vino Pigneto 2026 torna a maggio\, l’evento diffuso sui vini naturali che quest’anno si rinnova con nuovi percorsi e nuovi spazi creativi\nSabato 9 maggio prende il via la terza edizione dell’evento dedicato al vino naturale\, che trasforma  il quartiere Pigneto in un grande itinerario di degustazione con vignaioli internazionali\, passeggiate culturali e il nuovo spazio creativo VinArt Est \nÈ ormai diventato un appuntamento imperdibile per gli appassionati di vino naturale a Roma\, l’evento diffuso dedicato al vino naturale\, che per un giorno trasforma il quartiere romano del Pigneto in un grande percorso di degustazione a cielo aperto. \nLa manifestazione\, giunta alla terza edizione\, coinvolge decine di locali e tanti vignaioli provenienti da tutta Italia e dall’estero\, dando vita a un’esperienza che unisce vino\, incontri e scoperta. L’evento è ideato e organizzato da SO2 Enoteca\, enoteca e distribuzione di vini naturali radicata nel territorio\, e da Solovino Enoteca\, realtà attiva nell’organizzazione di eventi di riferimento nel settore come Vini Selvaggi\, Convivium Renaissance\, Vin’Aia e altri progetti dedicati al vino naturale. \nQuartiere Vino Pigneto nasce con l’obiettivo di valorizzare il vino come espressione culturale e territoriale\, mettendo al centro produttori che lavorano nel rispetto della terra e delle persone. Protagonisti sono vini autentici e artigianali\, lontani dalle logiche industriali\, raccontati direttamente dai vignaioli che li producono. \nLe novità 2026\nL’edizione 2026 introduce nuove modalità di accesso e nuovi spazi dedicati alla creatività\, pensati per rendere l’esperienza ancora più fluida e coinvolgente. Per facilitare la partecipazione sono stati infatti previsti due punti di ritiro del pass\, dove i visitatori potranno prendere calice e braccialetto prima di iniziare il percorso: Piazza Nuccitelli e  SO2 Distribuzione. \nPresso Piazza Nuccitelli saranno presenti gli artisti\, illustratori e fumettisti di VinArt Est\, un nuovo progetto che affianca al vino un mercato dedicato a illustratori\, artisti e creativi che esporranno le proprie opere per tutta la giornata di sabato e domenica a partire dalle ore 12. Alcuni di loro saranno presenti anche in locali selezionati del quartiere\, arricchendo il percorso degustativo con interventi artistici e opere lungo il circuito dell’evento. \nDomenica presso Piazza Nuccitelli sarà presente anche il food truck Ciriola & bar con i vini naturali di SO2 e la partecipazione di alcuni vignaioli ospiti a sorpresa. \nDurante la giornata di sabato\, sempre presso Piazza Nuccitelli\, si terranno anche momenti di talk e dibattiti con un programma che sarà pubblicato a breve sui canali social ufficiali dell’evento. \nUn’altra novità riguarda l’introduzione di due nuovi percorsi consigliati\, segnalati sulla mappa e pensati per guidare il pubblico tra i locali del quartiere da nord a sud. Un modo per vivere l’evento con maggiore tranquillità\, evitando affollamenti e permettendo di scoprire tutte le tappe del percorso. \nQuartiere Vino Pigneto non è una fiera tradizionale\, ma un’esperienza da vivere camminando: si entra nei locali del quartiere\, si incontrano i vignaioli\, si degustano i vini e si ascoltano le storie che nascono nei vigneti. \nNon solo vino: passeggiate e botteghe del quartiere\nQuartiere Vino Pigneto è anche un momento di incontro e scoperta del territorio: saranno organizzate passeggiate alla scoperta delle vecchie osterie e delle storie del Pigneto. Le passeggiate saranno guidate dallo storico Guido Farinelli dell’associazione Bella Storia\, che accompagnerà i partecipanti tra racconti\, aneddoti e trasformazioni urbane del quartiere. La partecipazione alla passeggiata ha un costo di 5 euro a persona e a breve sarà possibile prenotare online le visite guidate\, con la possibilità di integrare la passeggiata con il percorso degustativo dell’evento.\nAnche le attività artigianali del quartiere diventano parte integrante dell’evento\, aprendo i propri spazi e accogliendo i vignaioli. Botteghe\, laboratori e negozi si trasformano così in tappe del percorso\, permettendo al pubblico di entrare in contatto con il lavoro degli artigiani e con l’energia creativa che caratterizza il Pigneto. \nCome funziona\nPartecipare è semplice: acquistando il pass si ricevono calice e braccialetto\, con cui iniziare il percorso tra i locali aderenti del quartiere. Le degustazioni avvengono direttamente ai banchi allestiti nei bar\, nelle enoteche e nei ristoranti del Pigneto\, dove i vignaioli raccontano il proprio lavoro\, il territorio di provenienza e la filosofia produttiva.\nSabato 9 maggio la cassa per il ritiro del pass e del calice sarà aperta già dalle ore 12:00\, sia presso Enoteca SO2 sia presso il punto di ritiro in Piazza Nuccitelli\, dove sarà possibile iniziare la giornata con gli artisti di VinArt Est\, food truck e vini naturali. Per un giorno il quartiere diventa così un grande itinerario del vino naturale\, dove il pubblico può muoversi liberamente tra le diverse tappe. \nMain partnerMain partner dell’edizione 2026 è Necci dal 1924\, luogo simbolo del Pigneto e punto di riferimento culturale e gastronomico del quartiere\, che contribuirà a rendere ancora più centrale e riconoscibile il cuore della manifestazione.\n\nInformazioni\nSabato 9 maggio dalle 16:00 alle 21:00 \nTicket disponibili sul sito: www.quartierevinopigneto.it \nL’evento è organizzato con il patrocinio del V Municipio di Roma
URL:https://www.doctorwine.wine/event/roma-quartiere-vino-pigneto-2026/
LOCATION:Quartiere Pigneto\, Piazza Nuccitelli\, Roma\, Italy
CATEGORIES:Degustazione,Eventi Roma
ATTACH;FMTTYPE=image/jpeg:https://www.doctorwine.wine/wp-content/uploads/2026/04/Quartiere-Vino-Pigneto.jpg
END:VEVENT
END:VCALENDAR