BEGIN:VCALENDAR
VERSION:2.0
PRODID:-//DoctorWine - ECPv6.15.20//NONSGML v1.0//EN
CALSCALE:GREGORIAN
METHOD:PUBLISH
X-WR-CALNAME:DoctorWine
X-ORIGINAL-URL:https://www.doctorwine.wine
X-WR-CALDESC:Eventi per DoctorWine
REFRESH-INTERVAL;VALUE=DURATION:PT1H
X-Robots-Tag:noindex
X-PUBLISHED-TTL:PT1H
BEGIN:VTIMEZONE
TZID:Europe/Rome
BEGIN:DAYLIGHT
TZOFFSETFROM:+0100
TZOFFSETTO:+0200
TZNAME:CEST
DTSTART:20230326T010000
END:DAYLIGHT
BEGIN:STANDARD
TZOFFSETFROM:+0200
TZOFFSETTO:+0100
TZNAME:CET
DTSTART:20231029T010000
END:STANDARD
BEGIN:DAYLIGHT
TZOFFSETFROM:+0100
TZOFFSETTO:+0200
TZNAME:CEST
DTSTART:20240331T010000
END:DAYLIGHT
BEGIN:STANDARD
TZOFFSETFROM:+0200
TZOFFSETTO:+0100
TZNAME:CET
DTSTART:20241027T010000
END:STANDARD
BEGIN:DAYLIGHT
TZOFFSETFROM:+0100
TZOFFSETTO:+0200
TZNAME:CEST
DTSTART:20250330T010000
END:DAYLIGHT
BEGIN:STANDARD
TZOFFSETFROM:+0200
TZOFFSETTO:+0100
TZNAME:CET
DTSTART:20251026T010000
END:STANDARD
END:VTIMEZONE
BEGIN:VEVENT
DTSTART;VALUE=DATE:20240525
DTEND;VALUE=DATE:20240527
DTSTAMP:20260425T200845
CREATED:20240514T072046Z
LAST-MODIFIED:20240514T072046Z
UID:18997-1716595200-1716767999@www.doctorwine.wine
SUMMARY:Radda nel Bicchiere 2024\, Radda in Chianti
DESCRIPTION:“Radda nel Bicchiere”\, la 27° edizione ospita il Barbaresco\nAppuntamento sabato 25 e domenica 26 maggio 2024 per le vie del borgo rinascimentale di Radda in Chianti. Una grande festa per tutto il territorio. \nSi rinnova anche quest’anno l’evento promosso e organizzato dalla Proloco che ha come protagonista il vino Chianti Classico e i suoi produttori. Banchi d’assaggio e degustazioni studiate ad hoc che ogni volta richiamano migliaia di visitatori. \nTorna l’attesissimo evento chiantigiano “Radda nel Bicchiere”\, la manifestazione dedicata al vino del Chianti Classico che ogni anno richiama migliaia di visitatori. \nL’appuntamento è per sabato 25 e domenica 26 maggio 2024 e per questa sua ventisettesima edizione la kermesse ospiterà alcune aziende produttrici di Barbaresco con una degustazione dedicata; a guidarla i giornalisti Antonio Boco e Paolo De Cristofaro. \nIl tradizionale evento promosso e organizzato dalla Proloco di Radda in Chianti\, con la preziosa collaborazione del Consorzio Chianti Classico e dell’associazione Vignaioli di Radda\, vedrà più di trenta aziende vinicole partecipanti con oltre cento etichette a disposizione di enoturisti e appassionati per due giornate all’insegna dell’allegria\, ma anche dell’approfondimento. \nOltre alla degustazione che metterà a confronto i territori di Radda in Chianti e Barbaresco\, si terrà il percorso guidato a numero chiuso ‟Radda vintage”\, con una carrellata di quattordici vecchie annate di Chianti Classico dedicata a veri amanti del marchio. Immancabile poi l‘ambìta 15° edizione del concorso “Degustazione alla cieca”. \nIl costo del bicchiere griffato è di 25 Euro e dà diritto ad assaggiare tutte le etichette ai banchi dei produttori. L’iscrizione alle degustazioni a numero chiuso è a parte. \nDurante la manifestazione ristoranti e wine-bar di Radda in Chianti offriranno per l’occasione menù speciali\, che saranno consultabili nel libretto consegnato al momento dell’acquisto del calice. \nPer info e prenotazioni alle degustazioni a numero chiuso è possibile telefonare alla ProLoco allo 0577/738494 oppure scrivere a info@prolocoradda.it con un po’ di giorni in anticipo. \nwww.raddanelbicchiere.net \nwww.facebook.it/raddanelbicchiere
URL:https://www.doctorwine.wine/event/radda-nel-bicchiere-2024-radda-in-chianti/
ATTACH;FMTTYPE=image/jpeg:https://www.doctorwine.wine/wp-content/uploads/2024/05/Radda-nel-Bicchiere.jpg
END:VEVENT
END:VCALENDAR