BEGIN:VCALENDAR
VERSION:2.0
PRODID:-//DoctorWine - ECPv6.15.18//NONSGML v1.0//EN
CALSCALE:GREGORIAN
METHOD:PUBLISH
X-WR-CALNAME:DoctorWine
X-ORIGINAL-URL:https://www.doctorwine.wine
X-WR-CALDESC:Eventi per DoctorWine
REFRESH-INTERVAL;VALUE=DURATION:PT1H
X-Robots-Tag:noindex
X-PUBLISHED-TTL:PT1H
BEGIN:VTIMEZONE
TZID:Europe/Rome
BEGIN:DAYLIGHT
TZOFFSETFROM:+0100
TZOFFSETTO:+0200
TZNAME:CEST
DTSTART:20240331T010000
END:DAYLIGHT
BEGIN:STANDARD
TZOFFSETFROM:+0200
TZOFFSETTO:+0100
TZNAME:CET
DTSTART:20241027T010000
END:STANDARD
BEGIN:DAYLIGHT
TZOFFSETFROM:+0100
TZOFFSETTO:+0200
TZNAME:CEST
DTSTART:20250330T010000
END:DAYLIGHT
BEGIN:STANDARD
TZOFFSETFROM:+0200
TZOFFSETTO:+0100
TZNAME:CET
DTSTART:20251026T010000
END:STANDARD
BEGIN:DAYLIGHT
TZOFFSETFROM:+0100
TZOFFSETTO:+0200
TZNAME:CEST
DTSTART:20260329T010000
END:DAYLIGHT
BEGIN:STANDARD
TZOFFSETFROM:+0200
TZOFFSETTO:+0100
TZNAME:CET
DTSTART:20261025T010000
END:STANDARD
END:VTIMEZONE
BEGIN:VEVENT
DTSTART;VALUE=DATE:20251012
DTEND;VALUE=DATE:20251013
DTSTAMP:20260422T021452
CREATED:20250924T093014Z
LAST-MODIFIED:20250924T093014Z
UID:42814-1760227200-1760313599@www.doctorwine.wine
SUMMARY:Val Polis Cellae 2025
DESCRIPTION:Val Polis Cellae 2025: L’Evento Enoturistico della Valpolicella ti aspetta!\nDomenica 12 ottobre 2025 la Valpolicella apre le porte a tutti gli amanti del vino\, della buona cucina e dell’arte con Val Polis Cellae 2025\, l’evento enoturistico che da anni racconta e celebra questo territorio unico. \nPer un’intera giornata\, dalle 10 alle 18\, sarà possibile vivere la magia della vendemmia visitando ben 27 cantine della denominazione Valpolicella\, ognuna pronta ad accogliere i visitatori con degustazioni\, piatti tipici e momenti culturali. I vigneti\, le colline e le vallate della Strada del Vino si trasformeranno in un percorso sensoriale che unisce gusto\, tradizione e bellezza. \nIl cuore dell’evento sono i sei percorsi tematici\, che attraversano le diverse aree della Valpolicella\, da Fumane a Sant’Ambrogio\, da Marano a Negrar\, fino a Verona\, Grezzana\, Mezzane\, Illasi\, Lavagno e San Martino Buon Albergo. In ogni tappa\, i produttori apriranno le loro cantine per raccontare le proprie etichette e condividere l’essenza del loro lavoro. Ma non solo vino: ogni percorso sarà arricchito da proposte gastronomiche locali e da esposizioni artistiche\, rendendo l’esperienza ancora più completa e coinvolgente. \nVal Polis Cellae non è solo un evento dedicato al vino\, ma una vera e propria immersione nello stile di vita della Valpolicella. \nCon un unico biglietto – acquistabile esclusivamente online – ogni partecipante avrà diritto a due degustazioni in ciascuna cantina\, alla visita degli spazi produttivi e a un kit composto da calice e sacca portabicchiere\, indispensabile compagno di viaggio tra i vigneti. I bambini fino a 15 anni potranno partecipare gratuitamente\, mentre gli adulti avranno la possibilità di costruire il proprio itinerario liberamente\, seguendo i percorsi consigliati o spostandosi da una zona all’altra in totale autonomia. \nRiepilogo:\n\nQuando: domenica 12 ottobre dalle 10.00 alle 18.00\nCosa: Ventisette cantine della Valpolicella\, sei percorsi e ottimo vino\, il tutto circondato da gustosi piatti tipici e arte.\nDove: Presso cantine sulla Strada del Vino Valpolicella\nInfo e dettagli: segui il link\nI biglietti sono limitati e disponibili solo online: assicurati subito il tuo posto e preparati a vivere una giornata indimenticabile tra vino\, arte e convivialità. Acquista il tuo biglietto qui\n\nAd arricchire la giornata ci saranno anche una serie di agevolazioni riservate ai partecipanti presso ristoranti\, agriturismi e bed & breakfast del territorio\, per prolungare l’esperienza e scoprire ancora più a fondo l’ospitalità locale. \nUn calice alla mano\, paesaggi autunnali da cartolina\, piatti della tradizione e l’incontro diretto con i produttori: Val Polis Cellae 2025 è l’occasione perfetta per lasciarsi conquistare dalla Valpolicella in uno dei momenti più suggestivi dell’anno. \n 
URL:https://www.doctorwine.wine/event/val-polis-cellae-2025/
LOCATION:Valpolicella\, Italy
CATEGORIES:Degustazione,Evento Veneto
ATTACH;FMTTYPE=image/jpeg:https://www.doctorwine.wine/wp-content/uploads/2025/09/Val-Polis-Cellae.jpg
END:VEVENT
BEGIN:VEVENT
DTSTART;TZID=Europe/Rome:20250606T163000
DTEND;TZID=Europe/Rome:20250608T220000
DTSTAMP:20260422T021452
CREATED:20250506T102424Z
LAST-MODIFIED:20250529T104155Z
UID:36224-1749227400-1749420000@www.doctorwine.wine
SUMMARY:Priverno (LT) - Vini d'Abbazia
DESCRIPTION:Vini d’Abbazia: dal 6 all’8 giugno 2025\, nell’incantevole Abbazia di Fossanova\, l’evento che celebra la tradizione enologica monastica\nDal 6 all’8 giugno 2025\, l’Abbazia di Fossanova a Priverno (LT) accoglierà la IV edizione di Vini d’Abbazia. L’evento celebra la tradizione enologica monastica attraverso storia\, cultura e degustazioni d’eccellenza. \nVini d’Abbazia è un’importante vetrina per il Lazio\, per le numerose personalità che coinvolge gli opinion maker del vino\, del turismo e del lifestyle\, a cui offre la possibilità di conoscere le produzioni vitivinicole\, le bellezze artistiche e paesaggistiche\, valorizzando al meglio il territorio della Regione. \nSi tratta in pratica di una delle manifestazioni di maggior rilievo nel panorama enologico laziale\, sulla quale Arsial intende investire con crescente impegno. Negli ultimi anni\, il comparto vitivinicolo del Lazio ha  compiuto un significativo percorso di crescita qualitativa. Ha ottenendo importanti riconoscimenti sia in ambito nazionale che internazionale. I vini laziali stanno finalmente raccogliendo l’attenzione e il prestigio che meritano. E Vini d’Abbazia è una manifestazione che valorizza anche il mondo vitivinicolo del Lazio perché fa accendere i riflettori su un territorio che dietro di sé ha un’antica tradizione. \nVini d’Abbazia è quindi un e vento unico. Un’iniziativa più che mai necessaria oggi in cui c’è bisogno di un  linguaggio diverso. Serve infatti trasmettere più emozione che tecnica\, per poter avvicinare i più giovani al mondo del vino; e questa manifestazione  un evento che trasmette cultura\, ma anche emozioni. \nVini d’Abbazia è un viaggio nell’affascinante tradizione enologica di monasteri e abbazie. Tra i protagonisti di questa edizione\, l’Abbazia di Novacella\, l’Abbazia di Praglia\, il monastero di Badia a Passignano degli Antinori e Feudi di San Gregorio con l’Abbazia del Goleto\, oltre a importanti realtà francesi e georgiane. \nLa manifestazione vedrà tre giorni ricchi di masterclass e conferenze. Non mancheranno i banchi d’assaggio\, distribuiti intorno al suggestivo Chiostro dell’Abbazia e uno Slow Food Village\, l’area  gastronomica con numerosi stand di produttori e presìdi del grande movimento internazionale. \nProgramma:\nVenerdì 6 Giugno 2025 \n\nore 16:30 – 22:00: Percorso degustazione\nore 17:30: incontro “Custodi della Vite: i monaci e la cultura del vino” presso l’Infermeria del Borgo di Fossanova\, introdotto in video da S.E.R. Monsignor Mariano Crociata\, Vescovo di Latina-Terracina-Sezze-Priverno. A moderare sarà il giornalista RAI Marcello Masi.\nore 18:00 – 19:30: Masterclass “Il Cesanese: vino dei papi” guidata da Andrea Amadei\, sommelier e voce di Decanter su Rai Radio 2\nore 20:00 – 21:30: Masterclass “La Gioia delle bollicine” a cura di Chiara Giovoni – giornalista\, autrice e Ambassadeur du Champagne per l’Italia\n\nSabato 7 Giugno 2025 \n\nore 11:00\, confronto formativo dal titolo “Cooperazione per il Turismo e l’Enoturismo Sostenibile”\, un laboratorio dei giovani soci BCC e giovani imprenditori\, dedicato alla costruzione partecipata dell’offerta turistica rigenerativa.\nore 16:30 – 22:00: Percorso degustazione\nore 17:30\, incontro “Giubileo\, Turismo e Imprese: Strategie per una Crescita Integrata del Territorio” presso l’Infermeria del Borgo\, moderato dalla giornalista RAI Roberta Ammendola\, offrirà uno spunto strategico sul ruolo del Giubileo 2025 come leva di sviluppo per l’agroalimentare di qualità e il turismo esperienziale.\nore 18:00 – 19:45: Masterclass “Il vino dei Romani\, il nettare della storia” con Cristina Mercuri – DipWSET\, Wine Educator\, Wine Editor Forbes e Candidata Master of Wine – e Federica Colaiacomo\, archeologa e direttrice scientifica del Museo Lavinium\nore 20:00 – 21:30: Masterclass “Amphora” accenderà i riflettori su un metodo ancestrale\, con Amphora Revolution di Merano WineFestival e Vinitaly\, introdotta da Helmuth Köcher\, fondatore del Merano WineFestival\, e condotta da Simona Geri\, amministratore unico di The Winesetter e WineHunter Scout.\n\nDomenica 8 Giugno 2025 \n\nore 16:30 – 22:00: Percorso degustazione\nore 17:30 talk “Radici antiche e idee innovative: il vino secondo le donne”\, dedicato alla visione femminile nel mondo vitivinicolo. Un momento di confronto tra professioniste che stanno ridisegnando il settore\, tra sostenibilità\, identità e innovazione.\nore 18:00 – 19:45: Masterclass “Il Viaggio” con Chiara Giorleo – critica enogastronomica e capo panel per l’Italia del concorso World’s Best Vineyards. Con lei Fabio Sironi\, caporedattore della rivista DOVE ed esperto narratore di luoghi.\nore 20:00 – 21:45: Masterclass “Vino\, Donne e Leadership” con Manuela Zennaro\, giornalista de La Repubblica e responsabile regionale dell’associazione Le Donne del Vino.\n\nL’evento\, ideato dal giornalista Rocco Tolfa\, è organizzato da Strada del vino di Latina\, la Cooperativa Taste\nRoots\, l’Associazione Polygonal\, con il sostegno della Regione Lazio e dell’Arsial\, la Camera di Commercio di Frosinone  Latina e l’Azienda speciale Informare\, Il Comune di Priverno\, Confagricoltura\, la Bcc  Roma e l’Associazione Italiana Sommelier\, partner tecnico dell’evento. Un ringraziamento va anche ai sacerdoti dell’Istituto del Verbo Incarnato che hanno in cura l’Abbazia di Fossanova. \nTutte le informazioni nella pagina ufficiale https://vinidabbazia.com/
URL:https://www.doctorwine.wine/event/vini-dabbazia/
LOCATION:Abbazia di Fossanova\, Priverno (LT)\, Italy
CATEGORIES:Degustazione,Eventi Lazio
ATTACH;FMTTYPE=image/jpeg:https://www.doctorwine.wine/wp-content/uploads/2025/05/Vini-dAbbazia.jpg
END:VEVENT
END:VCALENDAR