BEGIN:VCALENDAR
VERSION:2.0
PRODID:-//DoctorWine - ECPv6.15.20//NONSGML v1.0//EN
CALSCALE:GREGORIAN
METHOD:PUBLISH
X-ORIGINAL-URL:https://www.doctorwine.wine
X-WR-CALDESC:Eventi per DoctorWine
REFRESH-INTERVAL;VALUE=DURATION:PT1H
X-Robots-Tag:noindex
X-PUBLISHED-TTL:PT1H
BEGIN:VTIMEZONE
TZID:Europe/Rome
BEGIN:DAYLIGHT
TZOFFSETFROM:+0100
TZOFFSETTO:+0200
TZNAME:CEST
DTSTART:20240331T010000
END:DAYLIGHT
BEGIN:STANDARD
TZOFFSETFROM:+0200
TZOFFSETTO:+0100
TZNAME:CET
DTSTART:20241027T010000
END:STANDARD
BEGIN:DAYLIGHT
TZOFFSETFROM:+0100
TZOFFSETTO:+0200
TZNAME:CEST
DTSTART:20250330T010000
END:DAYLIGHT
BEGIN:STANDARD
TZOFFSETFROM:+0200
TZOFFSETTO:+0100
TZNAME:CET
DTSTART:20251026T010000
END:STANDARD
BEGIN:DAYLIGHT
TZOFFSETFROM:+0100
TZOFFSETTO:+0200
TZNAME:CEST
DTSTART:20260329T010000
END:DAYLIGHT
BEGIN:STANDARD
TZOFFSETFROM:+0200
TZOFFSETTO:+0100
TZNAME:CET
DTSTART:20261025T010000
END:STANDARD
END:VTIMEZONE
BEGIN:VEVENT
DTSTART;VALUE=DATE:20250810
DTEND;VALUE=DATE:20250811
DTSTAMP:20260422T132551
CREATED:20250723T090418Z
LAST-MODIFIED:20250723T090418Z
UID:39375-1754784000-1754870399@www.doctorwine.wine
SUMMARY:Un’estate alla maniera suveretana - Suber Mixology
DESCRIPTION:Un’estate alla maniera suveretana: Bianchi\, rosati e cocktail animeranno i mesi più caldi del piccolo borgo maremmano\, mentre cresce l’attesa per Calici di Stelle.\nIl Consorzio Suvereto e Val di Cornia ospiterà nei suoi giardini due eventi dedicati all’estate. Presenterà i vini prodotti in questo spicchio di Maremma affacciato sull’Isola d’Elba. Due serate dedicate alla migliore produzione vinicola di zona\, da godere in abbinamento a piatti tipici\, buona musica e voglia di stare insieme. \nSi inizia sabato 26 luglio con Suber Aperitivo\, dove i protagonisti saranno i vini bianchi e rosati prodotti dalle ventisette aziende consorziate. Un appuntamento al tramonto\, da osservare da una delle più belle terrazze affacciate sulla Val di Cornia\, in una serata all’insegna della socialità e del buon vino. \nDomenica 10 agosto\, nel più ampio cartellone di Calici di Stelle – Suvereto\, il Consorzio presenta la seconda edizione di Suber Mixology. L’evento è dedicato all’incontro tra vino e cocktail\, che prenderà forma in alcuni signature realizzati partendo dalle etichette di zona. Un modo nuovo di approcciarsi al vino\, capace di sposarsi ai più attuali gusti e tendenze di consumo\, declinato per l’occasione ‘alla maniera suveretana’. \nL’appuntamento si inserisce nel più ampio cartellone di Calici di Stelle. In questo evento centinaia di turisti e enoappassionati hanno l’occasione di scoprire il paese medievale di Suvereto e il suo profondo legame con il vino\, da sempre coltivato in zona. \nScheda ‘Suber Aperitivo’\nLuogo: Giardini Consorzio Suvereto e Val di Cornia – P.zza Montebello\, 1 – Suvereto\nData e Orario: sabato 26 luglio\, 19.00 – 23.00\nProposta Food: Piatti tipici estivi a cura dell’Ente Valorizzazione Suvereto\nDjSet: Jaci Dj \nScheda ‘Suber Mixology’\nLuogo: Giardini Consorzio Suvereto e Val di Cornia – P.zza Montebello\, 1 – Suvereto\nData e Orario: domenica 10 agosto\, 21.00 – 01.00\nCosto ingresso: 10€ a cocktail\nDjSet: Jaci Dj \nPer maggiori informazioni\,  segui l’evento suoi social Facebook e Instagram  \n 
URL:https://www.doctorwine.wine/event/unestate-alla-maniera-suveretana-suber-mixology/
LOCATION:Giardini Consorzio Suvereto e Val di Cornia\, P.zza Montebello\, 1\, Suvereto\, Italy
CATEGORIES:Degustazione,Eventi Toscana
ATTACH;FMTTYPE=image/jpeg:https://www.doctorwine.wine/wp-content/uploads/2025/07/Unestate-alla-maniera-suveretana-2.jpg
ORGANIZER;CN="Consorzio di tutela vini DOP Suvereto e Val di Cornia":MAILTO:info@suveretowine.com
END:VEVENT
BEGIN:VEVENT
DTSTART;VALUE=DATE:20250726
DTEND;VALUE=DATE:20250727
DTSTAMP:20260422T132551
CREATED:20250723T085229Z
LAST-MODIFIED:20250723T090515Z
UID:39364-1753488000-1753574399@www.doctorwine.wine
SUMMARY:Un’estate alla maniera suveretana - Suber Aperitivo
DESCRIPTION:Un’estate alla maniera suveretana: Bianchi\, rosati e cocktail animeranno i mesi più caldi del piccolo borgo maremmano\, mentre cresce l’attesa per Calici di Stelle.\nIl Consorzio Suvereto e Val di Cornia ospiterà nei suoi giardini due eventi dedicati all’estate. Presenterà i vini prodotti in questo spicchio di Maremma affacciato sull’Isola d’Elba. Due serate dedicate alla migliore produzione vinicola di zona\, da godere in abbinamento a piatti tipici\, buona musica e voglia di stare insieme. \nSi inizia sabato 26 luglio con Suber Aperitivo\, dove i protagonisti saranno i vini bianchi e rosati prodotti dalle ventisette aziende consorziate. Un appuntamento al tramonto\, da osservare da una delle più belle terrazze affacciate sulla Val di Cornia\, in una serata all’insegna della socialità e del buon vino. \nDomenica 10 agosto\, nel più ampio cartellone di Calici di Stelle – Suvereto\, il Consorzio presenta la seconda edizione di Suber Mixology. L’evento è dedicato all’incontro tra vino e cocktail\, che prenderà forma in alcuni signature realizzati partendo dalle etichette di zona. Un modo nuovo di approcciarsi al vino\, capace di sposarsi ai più attuali gusti e tendenze di consumo\, declinato per l’occasione ‘alla maniera suveretana’. \nL’appuntamento si inserisce nel più ampio cartellone di Calici di Stelle. In questo evento centinaia di turisti e enoappassionati hanno l’occasione di scoprire il paese medievale di Suvereto e il suo profondo legame con il vino\, da sempre coltivato in zona. \nScheda ‘Suber Aperitivo’\nLuogo: Giardini Consorzio Suvereto e Val di Cornia – P.zza Montebello\, 1 – Suvereto\nData e Orario: sabato 26 luglio\, 19.00 – 23.00\nProposta Food: Piatti tipici estivi a cura dell’Ente Valorizzazione Suvereto\nDjSet: Jaci Dj \nScheda ‘Suber Mixology’\nLuogo: Giardini Consorzio Suvereto e Val di Cornia – P.zza Montebello\, 1 – Suvereto\nData e Orario: domenica 10 agosto\, 21.00 – 01.00\nCosto ingresso: 10€ a cocktail\nDjSet: Jaci Dj \nPer maggiori informazioni\,  segui l’evento suoi social Facebook e Instagram  \n 
URL:https://www.doctorwine.wine/event/unestate-alla-maniera-suveretana/
LOCATION:Giardini Consorzio Suvereto e Val di Cornia\, P.zza Montebello\, 1\, Suvereto\, Italy
CATEGORIES:Degustazione,Eventi Toscana
ATTACH;FMTTYPE=image/jpeg:https://www.doctorwine.wine/wp-content/uploads/2025/07/Unestate-alla-maniera-suveretana.jpg
ORGANIZER;CN="Consorzio di tutela vini DOP Suvereto e Val di Cornia":MAILTO:info@suveretowine.com
END:VEVENT
END:VCALENDAR