BEGIN:VCALENDAR
VERSION:2.0
PRODID:-//DoctorWine - ECPv6.15.20//NONSGML v1.0//EN
CALSCALE:GREGORIAN
METHOD:PUBLISH
X-WR-CALNAME:DoctorWine
X-ORIGINAL-URL:https://www.doctorwine.wine
X-WR-CALDESC:Eventi per DoctorWine
REFRESH-INTERVAL;VALUE=DURATION:PT1H
X-Robots-Tag:noindex
X-PUBLISHED-TTL:PT1H
BEGIN:VTIMEZONE
TZID:Europe/Rome
BEGIN:DAYLIGHT
TZOFFSETFROM:+0100
TZOFFSETTO:+0200
TZNAME:CEST
DTSTART:20250330T010000
END:DAYLIGHT
BEGIN:STANDARD
TZOFFSETFROM:+0200
TZOFFSETTO:+0100
TZNAME:CET
DTSTART:20251026T010000
END:STANDARD
BEGIN:DAYLIGHT
TZOFFSETFROM:+0100
TZOFFSETTO:+0200
TZNAME:CEST
DTSTART:20260329T010000
END:DAYLIGHT
BEGIN:STANDARD
TZOFFSETFROM:+0200
TZOFFSETTO:+0100
TZNAME:CET
DTSTART:20261025T010000
END:STANDARD
BEGIN:DAYLIGHT
TZOFFSETFROM:+0100
TZOFFSETTO:+0200
TZNAME:CEST
DTSTART:20270328T010000
END:DAYLIGHT
BEGIN:STANDARD
TZOFFSETFROM:+0200
TZOFFSETTO:+0100
TZNAME:CET
DTSTART:20271031T010000
END:STANDARD
END:VTIMEZONE
BEGIN:VEVENT
DTSTART;TZID=Europe/Rome:20260131T140000
DTEND;TZID=Europe/Rome:20260201T190000
DTSTAMP:20260426T030421
CREATED:20251229T095522Z
LAST-MODIFIED:20251229T095522Z
UID:49954-1769868000-1769972400@www.doctorwine.wine
SUMMARY:Roma - Beviamoci Sud 2026
DESCRIPTION:Beviamoci Sud 2026 – Il grande Festival dei vini del Sud Italia\, a Roma\, con banchi d’assaggio\, masterclass\, premi Eccellenze e Ambasciatori del Sud.\nBeviamoci Sud è uno dei principali appuntamenti dedicati ai vini del Sud Italia\, una manifestazione che celebra la straordinaria varietà e ricchezza enologica del Mezzogiorno\, valorizzando i vitigni autoctoni\, i produttori di qualità e le tradizioni vitivinicole territoriali. Il festival nasce dall’idea e dalla collaborazione tra Riserva Grande\, il wine writer Andrea Petrini e il giornalista Luciano Pignataro\, con l’obiettivo di creare uno spazio di confronto\, degustazione e valorizzazione davvero unico nel panorama italiano. \nLa VII edizione di Beviamoci Sud si terrà a Roma presso il prestigioso The Westin Excelsior\, sabato 31 gennaio e domenica 1° febbraio 2026. L’evento\, che si svolge in uno degli hotel più iconici della Capitale\, rappresenta un’occasione imperdibile per appassionati\, wine lovers\, operatori professionali e stampa specializzata di immergersi nelle grandi espressioni vitivinicole delle regioni meridionali italiane. \nDate e orari dell’evento:\n\nSabato 31 gennaio 2026 – apertura banchi d’assaggio dalle 14:00 alle 20:00\nDomenica 1 febbraio 2026 – Premiazione Ambasciatori ed Eccellenze Beviamoci Sud Roma ore 11.00\nDomenica 1 febbraio 2026 – apertura banchi d’assaggio dalle 14:00 alle 19:00\n\nLa manifestazione propone banchi di degustazione con i vini delle migliori cantine provenienti da Campania\, Puglia\, Basilicata\, Calabria\, Sicilia\, Molise e\, nella rappresentanza territoriale\, anche dal Lazio\, permettendo di scoprire la vastissima gamma di vitigni autoctoni meridionali – dal Nero d’Avola al Primitivo\, dall’Aglianico al Greco e alla Falanghina\, e molte altre espressioni locali autentiche e di carattere. \nOltre alle degustazioni libere\, Beviamoci Sud 2026 prevede masterclass tematiche e sessioni di approfondimento guidate da esperti. Si potrà così esplorare  territori\, tecniche di vinificazione e profili organolettici. Il programma in aggiornamento nella pagina ufficiale  \nNon mancano momenti di riconoscimento con premi dedicati: Il Premio “Eccellenze di Beviamoci Sud”\, che celebra i migliori vini selezionati dalla giuria tecnica presieduta da Luciano Pignataro\, e il Premio “Ambasciatori del Sud”\, rivolto a ristoratori\, enotecari e comunicatori che si distinguono nella promozione del vino meridionale. \nPartecipare a Beviamoci Sud significa non solo degustare grandi vini\, ma vivere un’esperienza culturale e sensoriale. Significa inoltre confrontarsi con produttori e professionisti\, scoprendo la ricchezza di territori spesso ancora poco conosciuti e celebrando la straordinaria identità vitivinicola del Sud Italia. \nPer ulteriori informazioni https://www.beviamocisudroma.it/
URL:https://www.doctorwine.wine/event/roma-beviamoci-sud-2026/
LOCATION:The Westin Excelsior Rome\, Via Veneto 125\, Roma\, Italy
CATEGORIES:Degustazione,Eventi Roma
ATTACH;FMTTYPE=image/png:https://www.doctorwine.wine/wp-content/uploads/2025/12/Beviamoci-Sud-2026.png
ORGANIZER;CN="Riserva Grande":MAILTO:eventi@riservagrande.com
END:VEVENT
END:VCALENDAR