BEGIN:VCALENDAR
VERSION:2.0
PRODID:-//DoctorWine - ECPv6.15.18//NONSGML v1.0//EN
CALSCALE:GREGORIAN
METHOD:PUBLISH
X-WR-CALNAME:DoctorWine
X-ORIGINAL-URL:https://www.doctorwine.wine
X-WR-CALDESC:Eventi per DoctorWine
REFRESH-INTERVAL;VALUE=DURATION:PT1H
X-Robots-Tag:noindex
X-PUBLISHED-TTL:PT1H
BEGIN:VTIMEZONE
TZID:Europe/Rome
BEGIN:DAYLIGHT
TZOFFSETFROM:+0100
TZOFFSETTO:+0200
TZNAME:CEST
DTSTART:20250330T010000
END:DAYLIGHT
BEGIN:STANDARD
TZOFFSETFROM:+0200
TZOFFSETTO:+0100
TZNAME:CET
DTSTART:20251026T010000
END:STANDARD
BEGIN:DAYLIGHT
TZOFFSETFROM:+0100
TZOFFSETTO:+0200
TZNAME:CEST
DTSTART:20260329T010000
END:DAYLIGHT
BEGIN:STANDARD
TZOFFSETFROM:+0200
TZOFFSETTO:+0100
TZNAME:CET
DTSTART:20261025T010000
END:STANDARD
BEGIN:DAYLIGHT
TZOFFSETFROM:+0100
TZOFFSETTO:+0200
TZNAME:CEST
DTSTART:20270328T010000
END:DAYLIGHT
BEGIN:STANDARD
TZOFFSETFROM:+0200
TZOFFSETTO:+0100
TZNAME:CET
DTSTART:20271031T010000
END:STANDARD
END:VTIMEZONE
BEGIN:VEVENT
DTSTART;VALUE=DATE:20260423
DTEND;VALUE=DATE:20260428
DTSTAMP:20260421T235002
CREATED:20260419T154101Z
LAST-MODIFIED:20260420T073223Z
UID:55022-1776902400-1777334399@www.doctorwine.wine
SUMMARY:Caserta - Campania Stories 2026
DESCRIPTION:Campania Stories: dalla reggia di Caserta parte l’edizione 2026. la stampa nazionale e internazionale alla scoperta delle nuove annate dei vini campani tra patrimonio UNESCO\, identità e grandi territori del vino\nSarà la Reggia di Caserta\, patrimonio UNESCO e simbolo universale della grandezza storica e culturale della Campania\, il luogo di apertura dell’edizione 2026 di Campania Stories\, la presentazione delle nuove annate dei vini prodotti nelle principali denominazioni regionali alla stampa specializzata nazionale e internazionale\, in programma dal 23 al 27 aprile 2026. \nOrganizzato da Miriade & Partners con le cantine partecipanti\, con il sostegno della Regione Campania\, in partnership con AIS Campania e in collaborazione con il Consorzio Tutela Vini Caserta VITICA. \nL’evento si aprirà giovedì 23 aprile con la giornata inaugurale presso la Reggia di Caserta. Il contesto\, di straordinario valore storico e artistico\, rappresenta al meglio il dialogo tra cultura\, territorio e vino. \nLe degustazioni tecniche si svolgeranno nei giorni successivi e saranno articolate per tipologia\, offrendo alla stampa nazionale e internazionale un’analisi approfondita delle nuove annate dei vini campani. Si svolgeranno sessioni dedicate ai vini bianchi\, rosati\, rossi e spumanti\, oltre a momenti di approfondimento e visite nei territori e nelle cantine di tutta la regione. \nCome da tradizione\, la manifestazione si concluderà con l’attesissimo Campania Stories Day\, in programma lunedì 27 aprile presso il Vega Palace di Carinaro (Caserta)\, giornata aperta a operatori e appassionati del settore\, con accesso su prenotazione e suddivisione in fasce orarie (info eventi@miriadeweb.it). \nCampania Stories si conferma un appuntamento centrale per la promozione delle eccellenze vinicole della regione\, attraverso tasting dedicati alla stampa internazionale\, contenuti tecnici\, attività digitali e momenti di approfondimento. La manifestazione contribuisce a valorizzare e raccontare\, durante tutto l’anno\, la Campania del vino sui mercati internazionali. \nLe cantine partecipanti all’edizione 2026 di Campania Stories sono:\n\nper la provincia di Avellino. Antica Hirpinia\, Benito Ferrara\, Borgodangelo\, Cantine di Marzo\, Ciro Picariello\, Colli di Lapio\, Contrade di Taurasi – Cantine Lonardo\, De’ Gaeta\, Di Meo\, Di Prisco\, Donnachiara\, Giovanni Carlo Vesce\, I Capitani\, Laura De Vito\, Luigi Tecce\, Macchie Santa Maria\, Nardone Nardone Domenico\, Perillo\, Pietracupa\, Rocca del Principe\, Tenuta Cavalier Pepe\, Tenuta De Gregorio\, Tenuta del Meriggio\, Tenuta Scuotto\, Tenute Capaldo – Feudi di San Gregorio\, Torricino\, Traerte\, Vesevo e Villa Raiano;\nper la provincia di Benevento. Aia dei Colombi\, Cantina del Taburno\, Fattoria La Rivolta\, Fontanavecchia\, I Colli del Sannio 1976\, La Fortezza\, La Guardiense\, Nifo Sarrapochiello\, Ocone 1910 Taburno Wine County e Terre Stregate;\nper la provincia di Caserta. Alois\, Cantina di Lisandro\, Cantina Trabucco\, Caputo 1890\, Tenuta Selvanova\, Fattoria Pagano\, Gennaro Papa\, Il Verro\, La Masseria di Sessa\, Masseria Felicia\, Masseria Piccirillo\, Porto di Mola\, Scaramuzzo\, Sclavia\, Tenuta Fontana\, Vigne Chigi\, Villa Matilde Avallone e Viticoltori del Casavecchia;\nper la provincia di Napoli. Agnanum\, Bosco de’ Medici\, Cantina Tizzano\, Cantine Antonio Mazzella\, Cantine Astroni\, Cantine del Mare\, Cantine Olivella\, Carputo Vini\, Casa Setaro\, Cenatiempo Vini d’Ischia\, Contrada Salandra\, La Sibilla\, Salvatore Martusciello\, Sorrentino Vini\, Tenuta Augustea e Tenuta Loffredo;\nper la provincia di Salerno. Cantina dei Quinti\, Cantina Polito\, Ettore Sammarco\, Guerritore\, Marisa Cuomo\, Montevetrano\, San Salvatore 19.88\, Viticoltori Lenza e Vuolo.\n\nPer altre informazioni www.campaniastories.com
URL:https://www.doctorwine.wine/event/campania-stories-2026/
LOCATION:Caserta\, Italy
CATEGORIES:Degustazione,Eventi Campania
ATTACH;FMTTYPE=image/jpeg:https://www.doctorwine.wine/wp-content/uploads/2026/04/Campania-Stories-scaled.jpg
END:VEVENT
END:VCALENDAR