BEGIN:VCALENDAR
VERSION:2.0
PRODID:-//DoctorWine - ECPv6.15.20//NONSGML v1.0//EN
CALSCALE:GREGORIAN
METHOD:PUBLISH
X-WR-CALNAME:DoctorWine
X-ORIGINAL-URL:https://www.doctorwine.wine
X-WR-CALDESC:Eventi per DoctorWine
REFRESH-INTERVAL;VALUE=DURATION:PT1H
X-Robots-Tag:noindex
X-PUBLISHED-TTL:PT1H
BEGIN:VTIMEZONE
TZID:Europe/Rome
BEGIN:DAYLIGHT
TZOFFSETFROM:+0100
TZOFFSETTO:+0200
TZNAME:CEST
DTSTART:20250330T010000
END:DAYLIGHT
BEGIN:STANDARD
TZOFFSETFROM:+0200
TZOFFSETTO:+0100
TZNAME:CET
DTSTART:20251026T010000
END:STANDARD
BEGIN:DAYLIGHT
TZOFFSETFROM:+0100
TZOFFSETTO:+0200
TZNAME:CEST
DTSTART:20260329T010000
END:DAYLIGHT
BEGIN:STANDARD
TZOFFSETFROM:+0200
TZOFFSETTO:+0100
TZNAME:CET
DTSTART:20261025T010000
END:STANDARD
BEGIN:DAYLIGHT
TZOFFSETFROM:+0100
TZOFFSETTO:+0200
TZNAME:CEST
DTSTART:20270328T010000
END:DAYLIGHT
BEGIN:STANDARD
TZOFFSETFROM:+0200
TZOFFSETTO:+0100
TZNAME:CET
DTSTART:20271031T010000
END:STANDARD
END:VTIMEZONE
BEGIN:VEVENT
DTSTART;VALUE=DATE:20260513
DTEND;VALUE=DATE:20260514
DTSTAMP:20260425T211034
CREATED:20260419T101012Z
LAST-MODIFIED:20260419T101211Z
UID:54988-1778630400-1778716799@www.doctorwine.wine
SUMMARY:Basilicanova - La Moldavia: questa sconosciuta -  Wine and Food Academy
DESCRIPTION:Conclude la stagione della Wine and Food Academy 2025/2026 “La Moldavia: questa sconosciuta”. Degustazioni\, cultura e beneficenza per sostenere le scuole di Padre Paolino in Uganda.\nWine and Food Academy 2025/2026: un viaggio tra gusto\, cultura e solidarietà\nLa Wine and Food Academy APS conclude la stagione autunno-inverno 2025/2026\, un percorso di nove appuntamenti enogastronomici. L’obiettivo è valorizzare la cultura del vino e del  cibo italiano attraverso esperienze di degustazione\, incontri\, approfondimenti e momenti di convivialità. \nGli eventi\, in programma tra Parma\, Reggio Emilia\, Bologna\, Bolzano e Soriano Calabro\, propongono un viaggio che unisce tradizione e innovazione\, con un’attenzione particolare al dialogo tra territori e alla scoperta di produzioni autentiche. \nMa la rassegna non è solo un omaggio al gusto: ogni tappa assume anche un valore solidale. Parte del ricavato di ciascun evento sarà infatti devoluto all’Associazione “Amici di Padre Paolino” per completare la scuola di Kakoni\, in Uganda\, e altre strutture educative e sanitarie avviate dal missionario comboniano Padre Paolino Tomaino\, scomparso nel 2024 dopo oltre cinquant’anni di attività in Africa. \nUn impegno concreto che trasforma ogni incontro della Wine and Food Academy in un’esperienza di gusto\, cultura e responsabilità. Così la convivialità diventa un mezzo per costruire futuro.Il progetto gode del patrocinio della Regione Emilia-Romagna\, del Comune di Parma e del Comune di San Giorgio di Piano. Si inserisce nel quadro delle iniziative a sostegno della candidatura della Cucina italiana a Patrimonio Unesco. \nTra le collaborazioni principali figurano Rotary FRACH Team Italia 4 – Delegazione Bologna Nord “Giulietta Masina”\, FenImprese Bologna e numerose realtà dell’eccellenza enogastronomica nazionale. \nIl programma completo della stagione è disponibile su www.wineandfoodacademy.it. \nLa Moldavia: questa sconosciuta  – Wine and Food Academy – Mercoledì 13 maggio 2026 a Basilicanova (PR)\nMercoledì 13 maggio 2026 presso il Tennis Club President di Basilicanova (PR) sarà la volta dell’ultimo evento della stagione: “la Moldavia questa sconosciuta”\, storia e degustazione di vini Moldavi\, per scoprire la storia e le peculiarità di questa regione. \nLa Moldavia vanta una tradizione vinicola millenaria\, con origini che risalgono a oltre 5.000 anni fa. Le prime coltivazioni della vite sono attribuite ai Geto-Daci e ai Romani\, testimoniando un legame profondo tra vino e cultura locale. Durante il Medioevo\, la regione divenne un importante centro vinicolo dell’Europa orientale. In epoca sovietica\, la Moldavia fu il principale produttore di vino dell’URSS\, mantenendo una grande varietà grazie ai suoi microclimi. La viticoltura ha sempre avuto un ruolo chiave nell’economia moldava e continua a rappresentare un simbolo di identità nazionale. Le influenze culturali di Greci\, Romani e Ottomani hanno arricchito le tecniche e i gusti locali. \nI vini in degustazione: \n\nCuvée de Purcari Brut White Wine\nChateau Vartely\, Vino Spumante Bianco Brut\, Pinot Nero\nCuvée de Purcari Brut Rosé\nThe Governor’s Blend\, Cabernet Sauvignon 50%\, Feteasca Neagra 25%\, Saperavi\n25%\nNegru de Purcari\, 55% Cabernet-Sauvignon – 40% Saperavi – 5% Rara Neagra\nBarbaro\, Syrah – 30%\, Tempranillo – 27%\, Cabernet Sauvignon – 25%\, Saperavi – 18%\n\nA conclusione seguirà un piatto a base di affettati misti di Parma e Parmigiano Reggiano e un primo piatto. \nInfo e prenotazioni: info@wineandfoodacademy.it
URL:https://www.doctorwine.wine/event/basilicanova-la-moldavia-questa-sconosciuta-wine-and-food-academy/
LOCATION:Tennis Club President\, via Fornello\, 2\, Basilicanova (PR)\, Italy
CATEGORIES:Degustazione,Evento Emilia Romagna
ATTACH;FMTTYPE=image/jpeg:https://www.doctorwine.wine/wp-content/uploads/2026/04/La-Moldavia-Wine-and-food-Academy.jpg
END:VEVENT
END:VCALENDAR