BEGIN:VCALENDAR
VERSION:2.0
PRODID:-//DoctorWine - ECPv6.15.20//NONSGML v1.0//EN
CALSCALE:GREGORIAN
METHOD:PUBLISH
X-WR-CALNAME:DoctorWine
X-ORIGINAL-URL:https://www.doctorwine.wine/?lang=en
X-WR-CALDESC:Events for DoctorWine
REFRESH-INTERVAL;VALUE=DURATION:PT1H
X-Robots-Tag:noindex
X-PUBLISHED-TTL:PT1H
BEGIN:VTIMEZONE
TZID:Europe/Rome
BEGIN:DAYLIGHT
TZOFFSETFROM:+0100
TZOFFSETTO:+0200
TZNAME:CEST
DTSTART:20250330T010000
END:DAYLIGHT
BEGIN:STANDARD
TZOFFSETFROM:+0200
TZOFFSETTO:+0100
TZNAME:CET
DTSTART:20251026T010000
END:STANDARD
BEGIN:DAYLIGHT
TZOFFSETFROM:+0100
TZOFFSETTO:+0200
TZNAME:CEST
DTSTART:20260329T010000
END:DAYLIGHT
BEGIN:STANDARD
TZOFFSETFROM:+0200
TZOFFSETTO:+0100
TZNAME:CET
DTSTART:20261025T010000
END:STANDARD
BEGIN:DAYLIGHT
TZOFFSETFROM:+0100
TZOFFSETTO:+0200
TZNAME:CEST
DTSTART:20270328T010000
END:DAYLIGHT
BEGIN:STANDARD
TZOFFSETFROM:+0200
TZOFFSETTO:+0100
TZNAME:CET
DTSTART:20271031T010000
END:STANDARD
END:VTIMEZONE
BEGIN:VEVENT
DTSTART;VALUE=DATE:20260528
DTEND;VALUE=DATE:20260530
DTSTAMP:20260426T004524
CREATED:20260424T122001Z
LAST-MODIFIED:20260424T122001Z
UID:55915-1779926400-1780099199@www.doctorwine.wine
SUMMARY:Press days Regina Ribelle - Vernaccia Di San Gimignano
DESCRIPTION:Press Days Rebel Queen – Vernaccia di San Gimignano: May 28 and 29\, 2026 San Gimignano prepares to welcome the press\nSan Gimignano is preparing to welcome journalists from all over Italy and abroad for the Press Days of Regina Ribelle – Vernaccia di San Gimignano: two days full of content\, designed to  Telling from the inside one of the most identifiable whites on the Tuscan wine scene. \nThursday\, May 28\nIt starts on Thursday\, May 28 from the R. De Grada Museum of Modern and Contemporary Art\, the event’s main venue\, with the presentation of the new vintages of Vernaccia di San Gimignano DOCG and Vernaccia di San Gimignano DOCG Riserva. \nFrom 9:30 a.m. to 4:00 p.m. tastings with sommelier service will provide time and space to explore\, taste\, and compare. \nIn the afternoon\, Dante Hall hosts a seminar curated by Filippo Bartolotta\, an authoritative voice in food and wine journalism\, for a moment of reflection and debate on Vernaccia di San Gimignano and its role in the contemporary wine scene. \nThe evening closes with a signature dinner by the Fishermen of Orbetello at the Lunaria Tuscany spaces. \nFriday\, May 29\nThe next day\, Friday\, May 29\, is the day dedicated to Press Tours\, which will take journalists directly to the wineries of the producers participating in Wine Fest. This is a unique opportunity to experience firsthand the daily work of those who make this denomination great.  \nInstead\, the evening will open with the inauguration of Stefano Bombardieri’s Personal Exhibition\, followed by a Gala Dinner in Piazza del Duomo signed by Chef Nicola Gronchi of the Da Romano restaurant-one Michelin star-accompanied by Vernaccia di San Gimignano DOCG and the presentation of a work created especially for the denomination. \nTwo days of work\, discussion and discovery to really get to know Vernaccia di San Gimignano\, from vineyard to goblet. \n  \n\nFor more details and the full program\, visit the official page: https://www.reginaribelle.it/
URL:https://www.doctorwine.wine/event/press-days-regina-ribelle-vernaccia-di-san-gimignano/?lang=en
LOCATION:Museo di Arte Moderna e Contemporanea R. De Grada\, San Gimignano\, Italy
CATEGORIES:Preview Wines,Tasting,Tuscany Events
ATTACH;FMTTYPE=image/png:https://www.doctorwine.wine/wp-content/uploads/2026/04/Doctor-Wine-Calendario-2.png
END:VEVENT
END:VCALENDAR