BEGIN:VCALENDAR
VERSION:2.0
PRODID:-//DoctorWine - ECPv6.15.20//NONSGML v1.0//EN
CALSCALE:GREGORIAN
METHOD:PUBLISH
X-WR-CALNAME:DoctorWine
X-ORIGINAL-URL:https://www.doctorwine.wine/?lang=en
X-WR-CALDESC:Events for DoctorWine
REFRESH-INTERVAL;VALUE=DURATION:PT1H
X-Robots-Tag:noindex
X-PUBLISHED-TTL:PT1H
BEGIN:VTIMEZONE
TZID:Europe/Rome
BEGIN:DAYLIGHT
TZOFFSETFROM:+0100
TZOFFSETTO:+0200
TZNAME:CEST
DTSTART:20240331T010000
END:DAYLIGHT
BEGIN:STANDARD
TZOFFSETFROM:+0200
TZOFFSETTO:+0100
TZNAME:CET
DTSTART:20241027T010000
END:STANDARD
BEGIN:DAYLIGHT
TZOFFSETFROM:+0100
TZOFFSETTO:+0200
TZNAME:CEST
DTSTART:20250330T010000
END:DAYLIGHT
BEGIN:STANDARD
TZOFFSETFROM:+0200
TZOFFSETTO:+0100
TZNAME:CET
DTSTART:20251026T010000
END:STANDARD
BEGIN:DAYLIGHT
TZOFFSETFROM:+0100
TZOFFSETTO:+0200
TZNAME:CEST
DTSTART:20260329T010000
END:DAYLIGHT
BEGIN:STANDARD
TZOFFSETFROM:+0200
TZOFFSETTO:+0100
TZNAME:CET
DTSTART:20261025T010000
END:STANDARD
END:VTIMEZONE
BEGIN:VEVENT
DTSTART;TZID=Europe/Rome:20250118T103000
DTEND;TZID=Europe/Rome:20250119T190000
DTSTAMP:20260425T002501
CREATED:20250109T161819Z
LAST-MODIFIED:20250116T155656Z
UID:30910-1737196200-1737313200@www.doctorwine.wine
SUMMARY:Rome - La Sardegna di Vinodabere\, 3rd edition
DESCRIPTION:La Sardegna di Vinodabere: per il terzo anno consecutivo torna l’evento esclusivo dedicato ai vini dell’isola\, nato per promuovere e far scoprire a chi non le conosce la varietà e la complessità vitivinicola della regione.\n\nCon 45 aziende ed oltre 200 vini a Roma il 18 e 19 gennaio potrete fare un viaggio tra i territori vitivinicoli della Sardegna alla scoperta di un vero e proprio piccolo continente. \n\nVinodabere (www.vinodabere.it) è una testata giornalistica on line che da anni promuove con i suoi articoli e con i suoi eventi la cultura enogastronomica\, dando visibilità a realtà già note e storiche come a quelle nuove e da scoprire. I territori\, i vini e le specialità gastronomiche della Sardegna sono sempre stati\, sin dalla sua nascita\, al centro dell’attenzione della testata giornalistica e del suo direttore Maurizio Valeriani. Da qui la nascita della Guida ai Migliori Vini della Sardegna (link)\, giunta alla settima edizione. \nL’evento:\nLa Sardegna di Vinodabere\, 3° edizione: Sabato 18 e domenica 19 gennaio\, all’Hotel Belstay a Roma\, sarà possibile incontrare ai banchi di assaggio numerosi produttori sardi (45 aziende)\, in rappresentanza delle tante aree (vere e proprie sub-regioni) dove si produce vino di qualità. \nTra più di 200 referenze tra bianchi\, rosati\, rossi\, vini dolci e ossidativi\, e perfino bollicine\, ci si potrà orientare per apprezzare\, come merita\, la ricchezza enologica della Sardegna\, conoscere i vignaioli che la animano e sperimentare nel calice lo stato dell’arte della viticoltura sarda\, giunta ormai a livelli di indiscutibile eccellenza. Un viaggio dunque tra le produzioni provenienti dai territori di Alghero\, Anglona\, Gallura\, Mamoiada\, Mandrolisai\, Ogliastra\, Oliena\, Orgosolo\, Oristanese\, Romangia\, Sulcis e sud Sardegna\, alcuni dei quali diventeranno i protagonisti delle masterclass in programma sabato 18 gennaio (presto maggiori dettagli sul sito vinodabere.it). \nIl programma:\n\nSabato 18 gennaio \n\nDurante la mattina: Masterclass (dettagli e orari da definire)\nDalle 13:30 alle 15:30: Apertura banchi di assaggio esclusivamente per operatori (ristoratori\, agenti\, distributori\, enotecari)\, stampa\, sommelier e assaggiatori ONAV\nDalle 15:30 alle 19:30: Apertura banchi di assaggio anche per il pubblico\n\nDomenica 19 gennaio \n\nDalle 10:30 alle 13:30: Apertura banchi di assaggio per operatori (ristoratori\, agenti\, distributori\, enotecari)\, Stampa e sommelier e assaggiatori ONAV\nDalle 13:30 alle 19:00: Apertura banchi di assaggio per il pubblico\, per sommelier e assaggiatori ONAV\, per operatori e Stampa \n\n\nInformazioni Utili:\nPer conoscere le aziende ed i vini presenti nei banchi di assaggio e per ogni altra informazione sull’evento consultate il sito https://vinodabere.it/ \nGli operatori possono richiedere l’accredito scrivendo una mail entro il 17 gennaio (e ricevendo poi conferma) a operatorivinodabere@gmail.com \nI giornalisti possono richiedere l’accredito scrivendo una mail entro il 17 gennaio (e ricevendo poi conferma) a stampavinodabere@gmail.com \nSommelier e assaggiatori ONAV con tessera in corso di validità possono entrare anche alla degustazione riservata alla stampa e agli operatori del settore\, previo acquisto del biglietto
URL:https://www.doctorwine.wine/event/rome-the-sardinia-of-vinodabere-3rd-edition/?lang=en
LOCATION:Hotel Belstay\, Roma\, Via Bogliasco\, 27\, Roma
CATEGORIES:Rome Events,Tasting
ATTACH;FMTTYPE=image/jpeg:https://www.doctorwine.wine/wp-content/uploads/2025/01/La-Sardegna-di-Vinodabere-1.jpg
END:VEVENT
BEGIN:VEVENT
DTSTART;TZID=Europe/Rome:20250118T160000
DTEND;TZID=Europe/Rome:20250119T230000
DTSTAMP:20260425T002501
CREATED:20250109T164933Z
LAST-MODIFIED:20250109T164933Z
UID:30912-1737216000-1737327600@www.doctorwine.wine
SUMMARY:Salerno - A Sea of Leaves 2025
DESCRIPTION:A Sea of Leaves 2025: On Jan. 18 and 19\, 2025\, the extraordinary Zaha Hadid-designed Salerno Maritime Station will become the hub of sustainable Italian oenology by hosting A Sea of Leaves\, a presentation event for the 6th edition of the Bio Guide.\n\nAt Un Mare di Foglie 2025 on January 18 and 19 the presentation of the 6th edition of Guida Bio\, edited by Antonio Stanzione and published by Rubbettino. Guida Bio is the only national guide dedicated exclusively to wines from organic farming (certified and/or in conversion) and was created with the intention of enhancing the green and eco-sustainable choices of the wine world and other sectors of agricultural production. \nOrganic farming is a difficult challenge\, but it is also a path of responsibility in producing the good and safeguarding the opportunities of future generations\, environmental sustainability and processing. Today more and more producers are involved in this world\, driven by environmental\, social and consumer protection motivations. The latter then is an increasingly attentive actor to the origin of raw materials\, the certification of their origin and the quality of their processing procedures. Organic therefore is a choice of awareness\, ethics\, foresight\, respect and quality.    \nThe event:\nThe initiative offers a mix of tastings\, meetings and insights\, with a focus on sustainability and quality issues. Visitors will be able to taste the award-winning wines in the guide\, talking directly with the producers. It will be a time to get up close and personal with the stories and challenges that characterize the world of organic wine. The morning of Sunday 19 will be dedicated to the official presentation of the Organic Guide and the presentation of the prestigious Foglie d’Oro\, an award reserved for wines that stand out for quality and typicality. In the afternoon\, the tasting counters will reopen from 4 p.m. to continue exploring the excellent wines present. The event will offer a journey through more than 2\,500 reviewed labels. It will be a journey through different territories and producers who work to combine environmental protection and quality of the final product.   \nThe Program:\nSaturday\, Jan. 18: \n\n4 p.m. – 11 p.m. tasting of award-winning wines in the guide\n\nSunday\, Jan. 19: \n\nmorning Bio Guide presentation and presentation of the prestigious Golden Leaves\n4 p.m. – 11 p.m. tasting of award-winning wines in the guide\n\nUseful Information:\nFor more information and to purchase tickets\, visit the official website: https://www.guidabio.it/un-mare-di-foglie-2025/ where you will also find the updated list of participating companies.
URL:https://www.doctorwine.wine/event/salerno-a-sea-of-leaves-2025/?lang=en
LOCATION:Stazione Marittima di Salerno\, Via Molo Manfredi\, Salerno\, 84121\, Italy
CATEGORIES:Tasting
ATTACH;FMTTYPE=image/jpeg:https://www.doctorwine.wine/wp-content/uploads/2025/01/Un-Mare-di-Foglie.jpg
END:VEVENT
END:VCALENDAR