BEGIN:VCALENDAR
VERSION:2.0
PRODID:-//DoctorWine - ECPv6.15.18//NONSGML v1.0//EN
CALSCALE:GREGORIAN
METHOD:PUBLISH
X-WR-CALNAME:DoctorWine
X-ORIGINAL-URL:https://www.doctorwine.wine/?lang=en
X-WR-CALDESC:Events for DoctorWine
REFRESH-INTERVAL;VALUE=DURATION:PT1H
X-Robots-Tag:noindex
X-PUBLISHED-TTL:PT1H
BEGIN:VTIMEZONE
TZID:Europe/Rome
BEGIN:DAYLIGHT
TZOFFSETFROM:+0100
TZOFFSETTO:+0200
TZNAME:CEST
DTSTART:20240331T010000
END:DAYLIGHT
BEGIN:STANDARD
TZOFFSETFROM:+0200
TZOFFSETTO:+0100
TZNAME:CET
DTSTART:20241027T010000
END:STANDARD
BEGIN:DAYLIGHT
TZOFFSETFROM:+0100
TZOFFSETTO:+0200
TZNAME:CEST
DTSTART:20250330T010000
END:DAYLIGHT
BEGIN:STANDARD
TZOFFSETFROM:+0200
TZOFFSETTO:+0100
TZNAME:CET
DTSTART:20251026T010000
END:STANDARD
BEGIN:DAYLIGHT
TZOFFSETFROM:+0100
TZOFFSETTO:+0200
TZNAME:CEST
DTSTART:20260329T010000
END:DAYLIGHT
BEGIN:STANDARD
TZOFFSETFROM:+0200
TZOFFSETTO:+0100
TZNAME:CET
DTSTART:20261025T010000
END:STANDARD
END:VTIMEZONE
BEGIN:VEVENT
DTSTART;VALUE=DATE:20250120
DTEND;VALUE=DATE:20250121
DTSTAMP:20260422T021822
CREATED:20250109T172138Z
LAST-MODIFIED:20250109T172138Z
UID:31261-1737331200-1737417599@www.doctorwine.wine
SUMMARY:Autoctono si nasce... Bologna
DESCRIPTION:On Monday\, January 20\, 2025 in Bologna Go Wine inaugurates its 2025 activities with an event related to the “Autoctono si nasce…” tour it is promoting throughout Italy.\nAutoctono si nasce… Bologna tasting and promotion event\, is one of the most important events of the year in the city\, entirely dedicated to Italian native grape varieties.  \nThe event:\nAutoctono si nasce. Bologna: In the halls of the Hotel Relais Bellaria a parterre of wineries will meet directly with the public\, other wineries will participate by presenting wines in a special Enoteca\, enhancing the theme of biodiversity in the vineyard. \nAt the center of the event is the richness of the Italian vineyard\, made up of many realities linked by history and culture to different territories\, from the north to the south of the country. More than 65 varieties will be represented: an extraordinary tasting opportunity also for the overall profile of the participating wineries. To ensure the best influx of participants and to allow a greater number of people to access the tasting desk\, the entrances will be divided by shifts (to which it will be mandatory to adhere) and by reservation \nProgram:\nMonday\, January 20\, 2025 \n\n4:00 p.m.-6:00 p.m.: Preview reserved exclusively for qualified professionals (wine and food journalists\, industry professionals)\n6-8 p.m.: first round of opening the tasting booth to the public.\n8 p.m. to 10 p.m.: second round of opening the tasting to the public\n\nUseful information:\nReserve your entry to the tasting at https://www.gowinet.it/evento/autoctono-si-nasce-bologna-20-gennaio-2025/ where you will also find a complete list of participating companies. The request for accreditation is made by email. Go Wine will verify and confirm the accreditation in writing.. For the accreditation request you can email stampa.eventi@gowinet.it or call 0173 364631
URL:https://www.doctorwine.wine/event/autoctono-si-nasce-bologna/?lang=en
LOCATION:Hotel Relais Bellaria\, Bologna\, Via Altura\, 11bis\, Bologna\, 40139\, Italy
CATEGORIES:Tasting
ATTACH;FMTTYPE=image/jpeg:https://www.doctorwine.wine/wp-content/uploads/2025/01/autoctono-si-nasce-bologna.jpg
ORGANIZER;CN="Go Wine":MAILTO:info@gowinet.it
END:VEVENT
END:VCALENDAR