BEGIN:VCALENDAR
VERSION:2.0
PRODID:-//DoctorWine - ECPv6.15.18//NONSGML v1.0//EN
CALSCALE:GREGORIAN
METHOD:PUBLISH
X-WR-CALNAME:DoctorWine
X-ORIGINAL-URL:https://www.doctorwine.wine/?lang=en
X-WR-CALDESC:Events for DoctorWine
REFRESH-INTERVAL;VALUE=DURATION:PT1H
X-Robots-Tag:noindex
X-PUBLISHED-TTL:PT1H
BEGIN:VTIMEZONE
TZID:Europe/Rome
BEGIN:DAYLIGHT
TZOFFSETFROM:+0100
TZOFFSETTO:+0200
TZNAME:CEST
DTSTART:20240331T010000
END:DAYLIGHT
BEGIN:STANDARD
TZOFFSETFROM:+0200
TZOFFSETTO:+0100
TZNAME:CET
DTSTART:20241027T010000
END:STANDARD
BEGIN:DAYLIGHT
TZOFFSETFROM:+0100
TZOFFSETTO:+0200
TZNAME:CEST
DTSTART:20250330T010000
END:DAYLIGHT
BEGIN:STANDARD
TZOFFSETFROM:+0200
TZOFFSETTO:+0100
TZNAME:CET
DTSTART:20251026T010000
END:STANDARD
BEGIN:DAYLIGHT
TZOFFSETFROM:+0100
TZOFFSETTO:+0200
TZNAME:CEST
DTSTART:20260329T010000
END:DAYLIGHT
BEGIN:STANDARD
TZOFFSETFROM:+0200
TZOFFSETTO:+0100
TZNAME:CET
DTSTART:20261025T010000
END:STANDARD
END:VTIMEZONE
BEGIN:VEVENT
DTSTART;TZID=Europe/Rome:20250208T160000
DTEND;TZID=Europe/Rome:20250209T220000
DTSTAMP:20260420T043310
CREATED:20250128T102933Z
LAST-MODIFIED:20250128T102933Z
UID:31881-1739030400-1739138400@www.doctorwine.wine
SUMMARY:DiVino Rome
DESCRIPTION:Back to diVino Roma\, the wine festival created by Decanter Wine Academy\, dedicated to everyone: wine lovers\, tourists\, the curious\, wine professionals and the press.\nThe dates to mark in your diary are February 8 and 9\, 2025. The location is once again Villa Piccolomini\, located on the Aurelia Antica\, with its enchanting garden overlooking St. Peter’s Dome. As always the focus will be on more than 100 wineries from all over Italy\, with more than 300 labels for tasting\, accompanied by finger food\, masterclasses\, djset. But the 2025 novelties are really a lot and range from new consumption styles to innovative formats to enjoy the wine experience in freedom. In addition\, new to this edition will be the section dedicated to no-alcohol or low-alcohol wines\, which since a few months can also be produced in Italy. And then the dancing\, every evening at the end of the event the dances will open with diVino Dance\, with DJ set Tempesta to dispose of the excess alcohol together and go home serene. During the DiVino Dance\, drinks counter with free water and coffee\, plus also free alcohol test always for those who want to check their condition before driving.  \nThe program of diVino Rome:\n\n\nSaturday\, February 8\, 2025 \n\n4 p.m. to 10 p.m. tasting booths\n4:30 pm Masterclass “The Oenological Gems of the South” Speakers Luca Gardini\, Best Sommelier in the World 2010\, BWW – Best Italy Wine Critic of the World 2022\, curator of La Guida ai 1000 Vini d’Italia de L’Espresso and Fabio Mecca\, Oenologist of the Year 2025.\n10 p.m. to midnight Post-event with diVino Dance\n\nSunday\, February 9\, 2025 \n\n4 to 9 p.m. tasting booths\n4:30 p.m. Masterclass “Dealolated wines\, a new frontier?” Speakers Angelo Petracci Referente Guida Vitae Ais. \n9-10 p.m. Post-event with diVino Dance\n\nUseful information:\n\nThe link to the official website of the diVino Roma event is https://www.decanterwineacademy.org/divino \n\nTickets are available online. Press and industry professionals can email accrediti@decanterwineacademy.org by Monday\, Feb. 3. For bloggers send email that will be evaluated by staff. Mandatory reservations for the Masterclasses\, with limited seating\, by writing to info@decanterwineacademy.org
URL:https://www.doctorwine.wine/event/divino-rome/?lang=en
LOCATION:Villa Piccolomini\, via Aurelia Antica\, 164\, Roma\, Italy
CATEGORIES:Rome Events,Tasting
ATTACH;FMTTYPE=image/jpeg:https://www.doctorwine.wine/wp-content/uploads/2025/01/Divino-Roma.jpg
ORGANIZER;CN="Decanter Wine Academy":MAILTO:info@decanterwineacademy.org
END:VEVENT
END:VCALENDAR