BEGIN:VCALENDAR
VERSION:2.0
PRODID:-//DoctorWine - ECPv6.15.18//NONSGML v1.0//EN
CALSCALE:GREGORIAN
METHOD:PUBLISH
X-WR-CALNAME:DoctorWine
X-ORIGINAL-URL:https://www.doctorwine.wine/?lang=en
X-WR-CALDESC:Events for DoctorWine
REFRESH-INTERVAL;VALUE=DURATION:PT1H
X-Robots-Tag:noindex
X-PUBLISHED-TTL:PT1H
BEGIN:VTIMEZONE
TZID:Europe/Rome
BEGIN:DAYLIGHT
TZOFFSETFROM:+0100
TZOFFSETTO:+0200
TZNAME:CEST
DTSTART:20240331T010000
END:DAYLIGHT
BEGIN:STANDARD
TZOFFSETFROM:+0200
TZOFFSETTO:+0100
TZNAME:CET
DTSTART:20241027T010000
END:STANDARD
BEGIN:DAYLIGHT
TZOFFSETFROM:+0100
TZOFFSETTO:+0200
TZNAME:CEST
DTSTART:20250330T010000
END:DAYLIGHT
BEGIN:STANDARD
TZOFFSETFROM:+0200
TZOFFSETTO:+0100
TZNAME:CET
DTSTART:20251026T010000
END:STANDARD
BEGIN:DAYLIGHT
TZOFFSETFROM:+0100
TZOFFSETTO:+0200
TZNAME:CEST
DTSTART:20260329T010000
END:DAYLIGHT
BEGIN:STANDARD
TZOFFSETFROM:+0200
TZOFFSETTO:+0100
TZNAME:CET
DTSTART:20261025T010000
END:STANDARD
END:VTIMEZONE
BEGIN:VEVENT
DTSTART;TZID=Europe/Rome:20250210T093000
DTEND;TZID=Europe/Rome:20250212T190000
DTSTAMP:20260420T082150
CREATED:20250115T121612Z
LAST-MODIFIED:20250119T101008Z
UID:31275-1739179800-1739386800@www.doctorwine.wine
SUMMARY:Wine Paris
DESCRIPTION:On February 10\, 11 and 12\, 2025\, Paris will host the 3rd edition of Wine Paris\, one of the most important and influential events in the wine and spirits industry worldwide.\n \nWine Paris is a Food and Wine Experience of International Relevance.  \nWine Paris is considered the global meeting point for producers\, buyers\, experts and wine and spirits enthusiasts. The event offers a unique opportunity to discover new producers\, expand one’s network of contacts and participate in meaningful discussions on industry trends and innovations. Following the extraordinary success of the 2024 edition\, Wine Paris 2025 is eagerly awaited: After three years of strong\ngrowth\, the event rises again in power with more than 4\,600 exhibitors from 50 producing countries and 50\,000 visitors\nexpected from 140 countries.   \n\nProgram and Attractions\nThe event will be held at the Paris Expo Porte de Versailles\, an iconic venue for the wine and spiritual industry. The Wine Paris 2025 program includes a wide range of activities and attractions. Highlights will include: \n\nGuided Tastings: Visitors can enjoy a selection of wines and spirits from around the world\, accompanied by expert sommeliers.\nMasterclasses and Workshops: Educational and training events covering various aspects of wine and spirits production\, offering technical and practical insights.\nNetworking Sessions: Opportunities to meet manufacturers\, distributors\, retailers and other industry professionals\, fostering business exchanges and collaborations.\nPresentations and Conferences: Talks by industry experts who will discuss the latest trends\, innovations and challenges in the wine and spirits market.\n\n\nParticipation and Registration\nWine Paris 2025 is open to all industry professionals as well as the general public of wine enthusiasts. Registration is required and participants will receive a badge to print and present at the entrance. For more information and to register\, you can visit the event’s official website: https://wineparis.com/
URL:https://www.doctorwine.wine/event/wine-paris/?lang=en
LOCATION:Paris Expo Porte de Versailles\, Parigi
CATEGORIES:Foreign Events,Tasting
ATTACH;FMTTYPE=image/jpeg:https://www.doctorwine.wine/wp-content/uploads/2025/01/Wine-Paris-e1736943336347.jpg
ORGANIZER;CN="Vinexposium":MAILTO:vinexposium@clccom.com
END:VEVENT
END:VCALENDAR