BEGIN:VCALENDAR
VERSION:2.0
PRODID:-//DoctorWine - ECPv6.15.18//NONSGML v1.0//EN
CALSCALE:GREGORIAN
METHOD:PUBLISH
X-WR-CALNAME:DoctorWine
X-ORIGINAL-URL:https://www.doctorwine.wine/?lang=en
X-WR-CALDESC:Events for DoctorWine
REFRESH-INTERVAL;VALUE=DURATION:PT1H
X-Robots-Tag:noindex
X-PUBLISHED-TTL:PT1H
BEGIN:VTIMEZONE
TZID:Europe/Rome
BEGIN:DAYLIGHT
TZOFFSETFROM:+0100
TZOFFSETTO:+0200
TZNAME:CEST
DTSTART:20240331T010000
END:DAYLIGHT
BEGIN:STANDARD
TZOFFSETFROM:+0200
TZOFFSETTO:+0100
TZNAME:CET
DTSTART:20241027T010000
END:STANDARD
BEGIN:DAYLIGHT
TZOFFSETFROM:+0100
TZOFFSETTO:+0200
TZNAME:CEST
DTSTART:20250330T010000
END:DAYLIGHT
BEGIN:STANDARD
TZOFFSETFROM:+0200
TZOFFSETTO:+0100
TZNAME:CET
DTSTART:20251026T010000
END:STANDARD
BEGIN:DAYLIGHT
TZOFFSETFROM:+0100
TZOFFSETTO:+0200
TZNAME:CEST
DTSTART:20260329T010000
END:DAYLIGHT
BEGIN:STANDARD
TZOFFSETFROM:+0200
TZOFFSETTO:+0100
TZNAME:CET
DTSTART:20261025T010000
END:STANDARD
END:VTIMEZONE
BEGIN:VEVENT
DTSTART;VALUE=DATE:20250221
DTEND;VALUE=DATE:20250222
DTSTAMP:20260420T023808
CREATED:20250122T162941Z
LAST-MODIFIED:20250123T105825Z
UID:31522-1740096000-1740182399@www.doctorwine.wine
SUMMARY:Arezzo - Valdarno di Sopra Day
DESCRIPTION:Valdarno di Sopra Day returns as part of the Previews of Tuscany: the appointment is February 21 at Il Borro (Arezzo)\n\nValdarno di Sopra Doc\n \n\n\n\n\n\nValdarno di Sopra Doc is a young appellation with ancient roots\, located in the heart of Tuscany\, in the triangle formed by Florence\, Siena and Arezzo\, and the vineyards stretch parallel to the flow of the Arno River. Officially recognized in 2011\, this appellation stands out for the quality of its wines\, which are appreciated both nationally and internationally. The producers of the Consorzio di Tutela Valdarno di Sopra Doc work with care and respect toward natural cycles\, and have adopted the territory as the focus of every choice: a reality that has voluntarily and sharedly taken on the organic dimension as a collective vision. \nValdarno di Sopra day 2025\nValdarno di Sopra Day is an annual event that celebrates the enological richness of this region. During this event\, visitors have the opportunity to taste a wide range of wines produced from the area’s native grape varieties. The second edition of Valdarno di Sopra Day takes place on Friday\, February 21 as part of the week of the Anteprime Toscane. The appointment with the tasting of the new 2021 and 2022 Doc vintages is at Il Borro\, on the San Giustino estate. The estate of Ferruccio Ferragamo\, who leads it together with his sons Salvatore and Vittoria\, thus opens its doors to wine lovers for the Anteprime di Toscana. The event’s program is rich and varied. Activities include guided tastings\, visits to wineries\, food and wine workshops and lectures on the world of wine. In addition\, there will be moments dedicated to music and art\, creating a festive and engaging atmosphere. Wine enthusiasts will be able to participate in wine tours that will take them to discover the area’s most renowned vineyards and wineries.  \nThe Program\nFriday\, February 21 \n\n9 a.m. – 10:15 a.m.: “The world of wine between norms and the need for change\,” panel coordinated by Daniele Cernilli\n10:15 a.m. – 10:45 a.m.: The awarding of the Beatrice Torrini prize and the preview presentation of the RAI documentary “Cultivating Lives. “ The trailer screening will be attended by the Tuscan women featured in the documentary. \n10:45 a.m. – 12:00 p.m.: “Concrete responses to climate change: vine resistance\, sustainability\, biodiversity\,” panel coordinated by Alessandra Biondi Bartolini\n12 noon – 1:30 p.m.: Climat and Vigna wine tasting with master of wine Susan Hulme\nfollowed by a light lunch\n2:30pm – 3:00pm: presentation of the Previews with Armando Castagno. Vintages 2021 and 2022 will be evaluated with a focus on the terroir and characteristics of the wines being tasted. \nFrom 3 p.m.: the tasting of the Previews.\n\nUseful information\nThe event has a limited number of participants and pre-registration is mandatory to attend. In any case\, pre-registration does not guarantee confirmation of participation. Accreditation to the event will be communicated via email. Full details at https://www.valdarnodisopradoc.it/
URL:https://www.doctorwine.wine/event/arezzo-valdarno-di-sopra-day/?lang=en
LOCATION:Il Borro\, Località Il Borro 1\, San Giustino Valdarno (Arezzo)\, Italy
CATEGORIES:Tasting,Tuscany Events
ATTACH;FMTTYPE=image/jpeg:https://www.doctorwine.wine/wp-content/uploads/2025/01/Valdarno-di-Sopra-Day-1.jpg
ORGANIZER;CN="Consorzio Valdarno di Sopra DOC":MAILTO:info@valdarnodisopradoc.it
END:VEVENT
BEGIN:VEVENT
DTSTART;TZID=Europe/Rome:20250221T160000
DTEND;TZID=Europe/Rome:20250223T210000
DTSTAMP:20260420T023808
CREATED:20250125T093722Z
LAST-MODIFIED:20250125T093722Z
UID:31675-1740153600-1740344400@www.doctorwine.wine
SUMMARY:Rome - I Migliori Vini Italiani di Luca Maroni
DESCRIPTION:The great walk around tasting of Luca Maroni’s I Migliori Vini Italiani returns to Rome.\nFrom Feb. 20-23\, 2025\, Rome will host the presentation of the guidebook “I Migliori Vini Italiani\,” edited by Luca Maroni\, now in its 31st edition. Once again\, the location will be the Salone delle Fontane in the Eur district\, Rome. It will be a unique opportunity to discover more than 100 labels of wines from all regions of Italy\, selected for their quality and uniqueness. The selection\, as always\, is curated by Luca Maroni: not only creator of the event together with his sister Francesca Romana Maroni\, but also sensory analyst and well-known Italian wine signature. The event program is rich and varied. Three days of unlimited tastings. It will also be possible to participate in exclusive workshops and meetings with industry experts\, unmissable presentations and the opportunity to learn more about Luca Maroni’s tasting method.  \nThe program\nThe opening will be on Thursday\, February 20 with an invitation-only evening. The tasting dedicated to the public will take place at the following times: \n\nFriday\, Feb. 21\, 4 p.m. to midnight\nSaturday\, Feb. 22\, 4 p.m. to midnight\nSunday\, Feb. 23\, 4 to 9 p.m.\n\nGuests will have the opportunity to learn the secrets behind wine production\, learn the tasting method developed by Luca Maroni and participate in expert-led sessions. \nUseful Information\nAll information is available at  https://roma.imiglioriviniitaliani.com/\n  \nTo attend the event\, you can purchase presale tickets online or directly at the box office; tickets include access to all scheduled tastings and meetings. \nIndustry Operators and Press are entitled to free admission upon acceptance of the accreditation request. Below are links to apply for accreditation as an industry operator or as Press
URL:https://www.doctorwine.wine/event/rome-i-migliori-vini-italiani-di-luca-maroni/?lang=en
LOCATION:Salone delle Fontane Roma\, Via Ciro il Grande 10/12\, Roma\, Italy
CATEGORIES:Rome Events,Tasting
ATTACH;FMTTYPE=image/jpeg:https://www.doctorwine.wine/wp-content/uploads/2025/01/i-migliori-vini-italiani.jpg
END:VEVENT
END:VCALENDAR