BEGIN:VCALENDAR
VERSION:2.0
PRODID:-//DoctorWine - ECPv6.15.18//NONSGML v1.0//EN
CALSCALE:GREGORIAN
METHOD:PUBLISH
X-ORIGINAL-URL:https://www.doctorwine.wine/?lang=en
X-WR-CALDESC:Events for DoctorWine
REFRESH-INTERVAL;VALUE=DURATION:PT1H
X-Robots-Tag:noindex
X-PUBLISHED-TTL:PT1H
BEGIN:VTIMEZONE
TZID:Europe/Rome
BEGIN:DAYLIGHT
TZOFFSETFROM:+0100
TZOFFSETTO:+0200
TZNAME:CEST
DTSTART:20240331T010000
END:DAYLIGHT
BEGIN:STANDARD
TZOFFSETFROM:+0200
TZOFFSETTO:+0100
TZNAME:CET
DTSTART:20241027T010000
END:STANDARD
BEGIN:DAYLIGHT
TZOFFSETFROM:+0100
TZOFFSETTO:+0200
TZNAME:CEST
DTSTART:20250330T010000
END:DAYLIGHT
BEGIN:STANDARD
TZOFFSETFROM:+0200
TZOFFSETTO:+0100
TZNAME:CET
DTSTART:20251026T010000
END:STANDARD
BEGIN:DAYLIGHT
TZOFFSETFROM:+0100
TZOFFSETTO:+0200
TZNAME:CEST
DTSTART:20260329T010000
END:DAYLIGHT
BEGIN:STANDARD
TZOFFSETFROM:+0200
TZOFFSETTO:+0100
TZNAME:CET
DTSTART:20261025T010000
END:STANDARD
END:VTIMEZONE
BEGIN:VEVENT
DTSTART;TZID=Europe/Rome:20250307T100000
DTEND;TZID=Europe/Rome:20250309T200000
DTSTAMP:20260419T183230
CREATED:20250216T165652Z
LAST-MODIFIED:20250216T165652Z
UID:33109-1741341600-1741550400@www.doctorwine.wine
SUMMARY:Cortona - Chianina and Syrah
DESCRIPTION:Chianina and Syrah\, in Cortona March 7-9\, 2025\, in two beautiful locations. The event celebrates Good Living in the land of Tuscany in the largest festival dedicated to the great excellence of the Valdichiana. \nA three-day culinary event\, preview of the great Syrahs\, meetings\, cultural gatherings\, conferences\, music\, masterclasses\, cooking demonstrations\, presentation of craft activities related to food and wine\, and gala dinners with the participation of big names in Italian cuisine. Guests will be the great Italian and international Syrahs that will nominate Cortona to become the capital of Syrah.  \nThe locations\nThe historic Etruscan town of Cortona with its ancient palaces\, narrow alleys and artisan workshops has always been home to Chianina & Syrah. The 2025 edition will be hosted by theformer Sant’Agostino Convent\, at 40 Via Guelfa\, dating back to the 13th century and now used as a convention center. Its rooms\, organized around the cloister frescoed with episodes from the life of St. Augustine\, will feature conferences\, master classes\, cooking shows and tastings.   \nThe Signorelli Theater\, located in the square of the same name and designed in perfect neoclassical style by Carlo Gatteschi in 1854\, will instead host the two gala dinners scheduled for March 9 and 11. \nThe program\nA rich program that includes two gala dinners with great chefs from all over Italy\, more than 15 starred chefs\, journalists\, wine and food experts sommeliers\, wine producers and great wineries\, tastings of the great syrahs of Cortona with the extraordinary participation of great Italian syrahs and as special guests the French Syrahs. \nThe big grill lit to taste His Majesty The Chianina IGP Steak cooked over a wood fire\, but also burgers and more than 40 restaurants that will offer Chianina and Syrah-based specialties. A special section will be dedicated to Italian haute patisserie and artisanal ice cream.  \nA large area will be dedicated to children who will be able to taste Chianina roasts and hamburgers and become\, for a turn\, chefs\, grillers and ice cream makers. \nProgram details are being updated on the official page \nHow to participate\nTo attend events in the packed program that includes tastings\, master classes\, gala dinners\, cooking shows and more you can purchase tickets online at terretrusche.com or\, for some events\, purchase tickets on site. \nYour ticket to the “A Bite and a Sip” exhibition will give you access to tastings of more than 40 Syrah-producing wineries and Chianina and Syrah dishes offered by local restaurateurs and chefs from Italy as well as participate in cooking shows and other events included in the ticket. \nReservations are required for gala dinners. \nFor more information you can contact Terretrusche at 0575 606887 or email ticketing@terretrusche.com.
URL:https://www.doctorwine.wine/event/cortona-chianina-and-syrah/?lang=en
LOCATION:Cortona\, Cortona\, Italia
CATEGORIES:Tasting,Tuscany Events
ATTACH;FMTTYPE=image/jpeg:https://www.doctorwine.wine/wp-content/uploads/2025/02/Chianina-e-Syrah-scaled.jpg
ORGANIZER;CN="Terretrusche":MAILTO:ticketing@terretrusche.com.
END:VEVENT
END:VCALENDAR