BEGIN:VCALENDAR
VERSION:2.0
PRODID:-//DoctorWine - ECPv6.15.18//NONSGML v1.0//EN
CALSCALE:GREGORIAN
METHOD:PUBLISH
X-WR-CALNAME:DoctorWine
X-ORIGINAL-URL:https://www.doctorwine.wine/?lang=en
X-WR-CALDESC:Events for DoctorWine
REFRESH-INTERVAL;VALUE=DURATION:PT1H
X-Robots-Tag:noindex
X-PUBLISHED-TTL:PT1H
BEGIN:VTIMEZONE
TZID:Europe/Rome
BEGIN:DAYLIGHT
TZOFFSETFROM:+0100
TZOFFSETTO:+0200
TZNAME:CEST
DTSTART:20240331T010000
END:DAYLIGHT
BEGIN:STANDARD
TZOFFSETFROM:+0200
TZOFFSETTO:+0100
TZNAME:CET
DTSTART:20241027T010000
END:STANDARD
BEGIN:DAYLIGHT
TZOFFSETFROM:+0100
TZOFFSETTO:+0200
TZNAME:CEST
DTSTART:20250330T010000
END:DAYLIGHT
BEGIN:STANDARD
TZOFFSETFROM:+0200
TZOFFSETTO:+0100
TZNAME:CET
DTSTART:20251026T010000
END:STANDARD
BEGIN:DAYLIGHT
TZOFFSETFROM:+0100
TZOFFSETTO:+0200
TZNAME:CEST
DTSTART:20260329T010000
END:DAYLIGHT
BEGIN:STANDARD
TZOFFSETFROM:+0200
TZOFFSETTO:+0100
TZNAME:CET
DTSTART:20261025T010000
END:STANDARD
END:VTIMEZONE
BEGIN:VEVENT
DTSTART;TZID=Europe/Rome:20250307T100000
DTEND;TZID=Europe/Rome:20250309T200000
DTSTAMP:20260421T192244
CREATED:20250216T165652Z
LAST-MODIFIED:20250216T165652Z
UID:33109-1741341600-1741550400@www.doctorwine.wine
SUMMARY:Cortona - Chianina and Syrah
DESCRIPTION:Chianina and Syrah\, in Cortona March 7-9\, 2025\, in two beautiful locations. The event celebrates Good Living in the land of Tuscany in the largest festival dedicated to the great excellence of the Valdichiana. \nA three-day culinary event\, preview of the great Syrahs\, meetings\, cultural gatherings\, conferences\, music\, masterclasses\, cooking demonstrations\, presentation of craft activities related to food and wine\, and gala dinners with the participation of big names in Italian cuisine. Guests will be the great Italian and international Syrahs that will nominate Cortona to become the capital of Syrah.  \nThe locations\nThe historic Etruscan town of Cortona with its ancient palaces\, narrow alleys and artisan workshops has always been home to Chianina & Syrah. The 2025 edition will be hosted by theformer Sant’Agostino Convent\, at 40 Via Guelfa\, dating back to the 13th century and now used as a convention center. Its rooms\, organized around the cloister frescoed with episodes from the life of St. Augustine\, will feature conferences\, master classes\, cooking shows and tastings.   \nThe Signorelli Theater\, located in the square of the same name and designed in perfect neoclassical style by Carlo Gatteschi in 1854\, will instead host the two gala dinners scheduled for March 9 and 11. \nThe program\nA rich program that includes two gala dinners with great chefs from all over Italy\, more than 15 starred chefs\, journalists\, wine and food experts sommeliers\, wine producers and great wineries\, tastings of the great syrahs of Cortona with the extraordinary participation of great Italian syrahs and as special guests the French Syrahs. \nThe big grill lit to taste His Majesty The Chianina IGP Steak cooked over a wood fire\, but also burgers and more than 40 restaurants that will offer Chianina and Syrah-based specialties. A special section will be dedicated to Italian haute patisserie and artisanal ice cream.  \nA large area will be dedicated to children who will be able to taste Chianina roasts and hamburgers and become\, for a turn\, chefs\, grillers and ice cream makers. \nProgram details are being updated on the official page \nHow to participate\nTo attend events in the packed program that includes tastings\, master classes\, gala dinners\, cooking shows and more you can purchase tickets online at terretrusche.com or\, for some events\, purchase tickets on site. \nYour ticket to the “A Bite and a Sip” exhibition will give you access to tastings of more than 40 Syrah-producing wineries and Chianina and Syrah dishes offered by local restaurateurs and chefs from Italy as well as participate in cooking shows and other events included in the ticket. \nReservations are required for gala dinners. \nFor more information you can contact Terretrusche at 0575 606887 or email ticketing@terretrusche.com.
URL:https://www.doctorwine.wine/event/cortona-chianina-and-syrah/?lang=en
LOCATION:Cortona\, Cortona\, Italia
CATEGORIES:Tasting,Tuscany Events
ATTACH;FMTTYPE=image/jpeg:https://www.doctorwine.wine/wp-content/uploads/2025/02/Chianina-e-Syrah-scaled.jpg
ORGANIZER;CN="Terretrusche":MAILTO:ticketing@terretrusche.com.
END:VEVENT
BEGIN:VEVENT
DTSTART;TZID=Europe/Rome:20250308T100000
DTEND;TZID=Europe/Rome:20250309T190000
DTSTAMP:20260421T192244
CREATED:20250218T092133Z
LAST-MODIFIED:20250218T092133Z
UID:33224-1741428000-1741546800@www.doctorwine.wine
SUMMARY:Florence - Eccellenza di Toscana
DESCRIPTION:Since 2000\, Eccellenza di Toscana has been the Italian Sommelier Association of Tuscany’s event that highlights and enhances the region’s wine quality.\nEccellenza di Toscana returns to the spotlight on March 8 and 9\, 2025 at the Stazione Leopolda in Florence. The format will feature more than 150 wineries presenting more than 900 labels at tasting tables\, conferences\, workshops\, guided tastings and master classes.  \nThe event\nAt the heart of the event are tastings at tasting tables offered by individual producers. Each visitor can discover them independently or through AIS Tours led by professional sommeliers for small groups.  \nAlso remaining staples of the Eccellenza di Toscana program are the wine\, oil and beer tasting pills with the AIS Wine Schools\, AIS Oil Schools and AIS Beer Schools. Also added to this edition is the collaboration with ANAG for guided distillate tastings and with Catinari for a series of Chocolate Schools with artisanal chocolate tasting.  \nBoth days of the event will be accompanied by “excellent” Masterclasses. One Masterclass will be in collaboration with the Women of Wine\, to emphasize-just in conjunction with Women’s Day-the importance of their role in the world of wine at multiple levels. In fact\, the Association welcomes 118 members\, including producers\, sommeliers\, journalists\, bloggers and influencers who have brought with their professionalism an added value in the communication of wine culture.   \nThe highlight of the first day will be the presentation of the new wine guide “Eccellenza di Toscana\,” where the best AIS sommeliers tell the story of wine Tuscany in an unprecedented way\, through more than 2100 wines reviewed and ranked according to a numerical score in hundredths\, more than 450 wineries complete with information on catering\, hospitality\, wine experience and tastings. A guide that represents a unicum of its kind; in the form of individual cards it collects the analysis\, review and evaluation of the wines of each winery\, accompanied by the image of the most significant label of each winery.  \nOn the second day\, the spotlight will turn instead to the presentation of an “excellent” reality of the Tuscan territory such as Sparla&Gerardi\, which will tell about its experience between sweet Tuscan wines and French bubbles. \nUseful information\nPublic entrance on the two days from 10 a.m. to 7 p.m. \nOn the event’s official page\, however\, you can find the detailed program\, a list of participating wineries and all the necessary information. \nTickets can be purchased online at the ticketone link.
URL:https://www.doctorwine.wine/event/florence-eccellenza-di-toscana/?lang=en
LOCATION:Stazione Leopolda\, Firenze\, Viale Fratelli Rosselli\, 5\, Firenze\, 50144\, Italia
CATEGORIES:Tasting,Tuscany Events
ATTACH;FMTTYPE=image/jpeg:https://www.doctorwine.wine/wp-content/uploads/2025/02/Eccellenza-di-Toscana-3.jpg
END:VEVENT
BEGIN:VEVENT
DTSTART;TZID=Europe/Rome:20250308T100000
DTEND;TZID=Europe/Rome:20250309T200000
DTSTAMP:20260421T192244
CREATED:20250220T093759Z
LAST-MODIFIED:20250220T093759Z
UID:33307-1741428000-1741550400@www.doctorwine.wine
SUMMARY:Spring Festival - Food and Culture in Franciacorta
DESCRIPTION:Spring Festival returns to Franciacorta: On March 8 and 9\, Franciacorta will host the second edition of the Spring Festival\, a weekend dedicated to the meeting of culture\, food and wine and tradition.\nThe Spring Festival will offer a rich program of experiences\, including off-menu dishes made with PGI Sicilian Red Orange\, accompanied tours by the FAI Group of Sebino and Franciacorta to the area’s historic sites\, cultural tours by the Mu.Di. – Museo diffuso della Franciacorta\, cultural events\, winery visits and sensory tastings conducted by Sommeliers.  \nA unique opportunity to discover the area through authentic flavors\, fascinating stories and picturesque landscapes. Immerse yourself in the atmosphere of the Festival!  \nHere are all the scheduled proposals: \nOff-menu dishes made with Sicilian Red Orange PGI (March 3 to 9)\nChefs from the area will create a new gastronomic experience\, experimenting with the encounter between local tradition and a Sicilian excellence: the IGP Red Orange of Sicily.\nA journey through surprising flavors\, where creativity and territory come together in unique off-menu dishes. \nClick here for details\, times and reservations \nGuided tours in collaboration with the FAI Group of Sebino and Franciacorta (March 8 and 9)\nOn the occasion of the Spring Festival\, the FAI Group of Sebino and Franciacorta will organize escorted tours of the historical and cultural sites of Franciacorta. \n– Church of Sant’Eufemia in Nigoline di Corte Franca\n– Ragnoli Palace in Colombaro di Corte Franca\n– Carmagnola Castle in Clusane d’Iseo\nClick here for details\, times and reservations \nCultural Events at the Winery (March 8 and 9)\nDuring the Spring Festival\, wineries will open their doors to the public\, organizing events celebrating the culture\, gastronomy of the area and Franciacorta.\nClick here for details\, times and reservations \nSensory Tastings at the Franciacorta Consortium (March 8 and 9)\nIt will be possible to discover the world of Franciacorta through a unique sensory adventure! Under the expert guidance of AIS Sommelier Nicola Bonera\, you will be able to learn to recognize the typical olfactory notes of Franciacorta\, immersing yourself in an unforgettable sensory experience with the tasting of three types.   Click here for details\, times and reservations \nPresentations of Armando Castagno’s book “Viaggio Franciacorta – A Diary” (March 8 and 9)\nAuthor and journalist Armando Castagno will be in Franciacorta to talk about the experience that took him through Franciacorta. The two book presentations will be followed by a toast with Franciacorta.\nThe presentations will take place at:\n– Auditorium of Santa Giulia\, Brescia\n– Monastery of San Pietro in Lamosa\, Provaglio d’Iseo\nClick here for details\, times and reservations \nVisits Mu.Di. – Spread Museum of Franciacorta (March 8 and 9) \nOn the occasion of the Spring Festival\, the Museo Diffuso della Franciacorta will organize cultural visits to some of the most fascinating places in the area.\n– Museum of Oriental Art – Mazzocchi Collection\n– Church of Santa Maria in Favento\n– Oldofredi Castle and the square of Paderno Franciacorta\n– Piamarta Museum\n– Discipline of San Silvestro\n– Olivetan Abbey\nClick here for details\, times and reservations   \nTours with tastings in Franciacorta wineries during the Spring Festival weekend.\nClick here for a list of participating wineries \nThe full program and reservations are available at the link: franciacorta.wine/en/festival-spring
URL:https://www.doctorwine.wine/event/spring-festival-food-and-culture-in-franciacorta/?lang=en
LOCATION:Franciacorta\, Italy
CATEGORIES:Tasting
ATTACH;FMTTYPE=image/jpeg:https://www.doctorwine.wine/wp-content/uploads/2025/02/Festival-di-primavera-2.jpg
END:VEVENT
BEGIN:VEVENT
DTSTART;TZID=Europe/Rome:20250308T110000
DTEND;TZID=Europe/Rome:20250309T190000
DTSTAMP:20260421T192244
CREATED:20250217T091428Z
LAST-MODIFIED:20250217T091428Z
UID:33134-1741431600-1741546800@www.doctorwine.wine
SUMMARY:Milan Wine & Spirits
DESCRIPTION:Milano Wine & Spirits\, the international wine and spirits trade show\, Saturday\, March 8 and Sunday\, March 9\, 2025 at Malpensafiere\nMilano Wine & Spirits caters to Wine Lovers\, Sommeliers and Industry Professionals. \nWine producers will be able to offer their wines for tasting and direct sale. It will also be possible to taste the best spirits from all over Italy\, and food & beverage products will be selected by the organization to enrich the tasting and sales offerings during the event.  \n70 wine producers\, 30 spirits producers for a total of 800 labels for tasting. Visitors will be able to buy their favorite wines and other products at the fair just like in a big market!  \nBig news this year: free Masterclasses where producers will talk about their products in exclusive sessions. \nExhibition market hours: \n\nSaturday\, March 8\, 11 a.m. to 9 p.m.\nSunday\, March 9\, 11 a.m. to 7 p.m.\n\nFind out the list of participating wineries and all the details of the event on the official Milano Wine & Spirits page where you can buy presale tickets
URL:https://www.doctorwine.wine/event/milan-wine-spirits/?lang=en
LOCATION:Malpensafiere\, via XI settembre\, 16\, Busto Arsizio (VA)\, Italy
CATEGORIES:Milan Events,Tasting
ATTACH;FMTTYPE=image/jpeg:https://www.doctorwine.wine/wp-content/uploads/2025/02/Milano-Wine-Spirits.jpg
ORGANIZER;CN="Vale20":MAILTO:info@vale20.it
END:VEVENT
BEGIN:VEVENT
DTSTART;TZID=Europe/Rome:20250308T140000
DTEND;TZID=Europe/Rome:20250310T170000
DTSTAMP:20260421T192244
CREATED:20250217T172347Z
LAST-MODIFIED:20250217T172347Z
UID:33183-1741442400-1741626000@www.doctorwine.wine
SUMMARY:Rome Wine Expo
DESCRIPTION:Rome Wine Expo: from Saturday\, March 8 to Monday\, March 10\, 2025\, the Eternal City celebrates wine culture through the Festival of the World’s Great Wines. Rome thus confirms its centrality in the quality wine sector. \nRome Wine Expo is an event that focuses on the greatness of Italian wine and celebrates the historical memory of an area that increasingly promotes the culture of quality. This is Rome’s potential: a pivot where the greatness of Italian wine converges.  \nNow in its third year\, the Rome Wine Expo 2025 is one of the capital’s great wine festivals\, with ne Expoproven producers from around the world. \nTasting benches\, masterclasses and meetings\, business and meetings. All this is Rome Wine Expo\, where the different territorial declination of Italian wines characterized by a constant qualitative growth will be emphasized.  \nThe Grand Hotel Palatino\, right in the center of Rome\, on the Palatine Hill between the Colosseum and Piazza Venezia\, will be the setting for the event. \nTasting tables will follow the following schedule: \n\nSaturday\, March 8\, 2 p.m. – 8 p.m.\nSunday\, March 9 2 p.m. – 8 p.m.\nMonday\, March 10\, 11 a.m. – 5 p.m.\n\nThe rich program of events and Masterclasses is being finalized. All details and updates are available on the official page https://www.romewinexpo.com/ where presale tickets can be purchased.
URL:https://www.doctorwine.wine/event/rome-wine-expo/?lang=en
LOCATION:Grand Hotel Palatino\, Via Cavour 213/M\, Roma
CATEGORIES:Rome Events,Tasting
ATTACH;FMTTYPE=image/jpeg:https://www.doctorwine.wine/wp-content/uploads/2025/02/Rome-Wine-Expo.jpg
END:VEVENT
END:VCALENDAR