BEGIN:VCALENDAR
VERSION:2.0
PRODID:-//DoctorWine - ECPv6.15.18//NONSGML v1.0//EN
CALSCALE:GREGORIAN
METHOD:PUBLISH
X-WR-CALNAME:DoctorWine
X-ORIGINAL-URL:https://www.doctorwine.wine/?lang=en
X-WR-CALDESC:Events for DoctorWine
REFRESH-INTERVAL;VALUE=DURATION:PT1H
X-Robots-Tag:noindex
X-PUBLISHED-TTL:PT1H
BEGIN:VTIMEZONE
TZID:Europe/Rome
BEGIN:DAYLIGHT
TZOFFSETFROM:+0100
TZOFFSETTO:+0200
TZNAME:CEST
DTSTART:20240331T010000
END:DAYLIGHT
BEGIN:STANDARD
TZOFFSETFROM:+0200
TZOFFSETTO:+0100
TZNAME:CET
DTSTART:20241027T010000
END:STANDARD
BEGIN:DAYLIGHT
TZOFFSETFROM:+0100
TZOFFSETTO:+0200
TZNAME:CEST
DTSTART:20250330T010000
END:DAYLIGHT
BEGIN:STANDARD
TZOFFSETFROM:+0200
TZOFFSETTO:+0100
TZNAME:CET
DTSTART:20251026T010000
END:STANDARD
BEGIN:DAYLIGHT
TZOFFSETFROM:+0100
TZOFFSETTO:+0200
TZNAME:CEST
DTSTART:20260329T010000
END:DAYLIGHT
BEGIN:STANDARD
TZOFFSETFROM:+0200
TZOFFSETTO:+0100
TZNAME:CET
DTSTART:20261025T010000
END:STANDARD
END:VTIMEZONE
BEGIN:VEVENT
DTSTART;TZID=Europe/Rome:20250327T150000
DTEND;TZID=Europe/Rome:20250330T200000
DTSTAMP:20260419T234320
CREATED:20250220T104948Z
LAST-MODIFIED:20250302T142848Z
UID:33326-1743087600-1743364800@www.doctorwine.wine
SUMMARY:Weinkost\, the Bolzano Wine Show
DESCRIPTION:Weinkost\, the Bolzano Wine Show: Wine stars in Bolzano\, March 27-30 showcasing the best of South Tyrol’s wines at Mareccio Castle.\nWeinkost\, the Bolzano Wine Show\, an edition\, the 98th\, full of events: seminars\, taste workshops\, guided tours\, castle dinners and many special initiatives\, such as booking a personal sommelier! \nBolzano\, wine and Mareccio Castle\nAn exceptional triptych to celebrate the excellence of a tradition at South Tyrol’s oldest wine event. With about 200 labels and 47 wineries from Bolzano\, Oltradige\, Bassa Atesina\, Valle Isarco\, Valle dell’Adige\, Merano and Burgraviato\, Weinkost\, the Bolzano Wine Show\, an important showcase of wine excellence from all over South Tyrol that has been attracting connoisseurs and enthusiasts to the beautiful city\, the capital of wine and good taste\, since 1896 (this is edition no. 98)\, returns to enliven the South Tyrolean capital.  \nFrom March 27 to March 30\, 2025\, the halls of Castel Mareccio\, one of the city’s most atmospheric locations\, will host wine tastings and taste workshops and masterclasses with the participation of important names in the food and wine industry who will take visitors on a fascinating journey to discover labels and flavors of the territory that are as unique as they are surprising. \nThe curtain rises on Thursday\, March 27\, at 3 p.m. with the first tastings during which sommeliers will serve the different wines directly at the table and “tell about” them while also revealing curiosities related to the various wineries. \nNot only that. During the event organized by the Bolzano Tourist Board in cooperation with the Italian Academy of Cuisine and the Sommelier Association\, there will also be musical concerts in the castle’s large courtyard as well as three seminars and three taste workshops. A suitable approach for both enthusiasts and those approaching the “world of Bacchus” for the first time.   \nThe private sommelier\nAn exclusive treat is the “Your Sommelier” initiative. Those who wish to have a dedicated service can book a personal sommelier to be guided through tastings and enter the world of wine through curiosities\, stories and valuable advice.  \nThe Innkeeper in the Castle\nOn Thursday\, Friday and Saturday evenings\, don’t miss the three appointments with “L’Oste nel Castello\,” refined dinners in the Thun Hall of Mareccio Castle. During the evening\, local chefs will delight guests with their dishes\, the result of an extraordinary blend of South Tyrolean cuisine and centuries-old winemaking tradition:  \n\nChef Günther Lobiser of the Signaterhof restaurant in Signato/Renon will present traditional dishes revised with a creative twist. (Thursday\, 3/27/03) \nChef Anton Dalvai of Locanda Alpina Dorfner in Montagna (BZ) will bring to the table the best of local cuisine with an innovative twist. (Friday\, 03/28) \nChef Louis Agostini of Condito restaurant\, an emblem of the contemporary new wave of Bolzano’s culinary scene.\n\nAlso not to be missed are the seminars at the castle: \n\nHelmut Köcher with the seminar Le cuvée\nAndré Senoner with the seminar Biodiversity.\nThe meeting of with winemaker Otto Cologna and cheese affineur Hansi Baumgartner dedicated to wine-cheese pairing.\nSommelier Christine Mayr welcomes visitors with two unique experiences: the first\, “The Rosés… From Savory to Sweet\,” and the second\, “The Bubbles…Tasty\,” the latter paired with fruits and vegetables.\n\nThe guided tour “Bolzano\, City of Wine”\nThen there will be no shortage for the curious (and others) of the guided tour “Bolzano\, City of Wine.” Participants will be accompanied to discover the streets of the center in a very interesting historical-enogastronomic tour. The tour will end with a toast right at the Wine Exhibition. The tour is available on the four days of the Exhibition and reservations are required.    \nOpening hours\nThursday\, 03/27 from 3 p.m. to 10 p.m.\nFriday\, 03/28 from 3 p.m. to 10 p.m.\nSaturday\, 29.03 from 11 a.m. to 10 p.m.\nSunday\, 30.03 from 11 a.m. to 8 p.m. \nMasterclasses/seminars 2025\n\nThursday/Friday: at 6 p.m.\nSaturday: at 3 p.m. and 6 p.m.\nSunday: at 3 p.m. and 6 p.m.\n\nHow does the Exhibition work?\nTable reservations are recommended for tasting. Online reservation is also always required for seminars Tables will be reserved for a maximum of 3 hours from the arrival time indicated in the reservation.\n– Online\n– at +39 3473976957\n– E-mail info@bolzano-bozen.itio
URL:https://www.doctorwine.wine/event/weinkost-the-bolzano-wine-show/?lang=en
LOCATION:Castel Mareccio\, Bolzano\, Italy
CATEGORIES:Tasting
ATTACH;FMTTYPE=image/jpeg:https://www.doctorwine.wine/wp-content/uploads/2025/02/Weinkost-la-Mostra-Vini-di-Bolzano.jpg
ORGANIZER;CN="Azienda di Soggiorno e Turismo di Bolzano":MAILTO:info@bolzano-bozen.it
END:VEVENT
END:VCALENDAR