BEGIN:VCALENDAR
VERSION:2.0
PRODID:-//DoctorWine - ECPv6.15.18//NONSGML v1.0//EN
CALSCALE:GREGORIAN
METHOD:PUBLISH
X-ORIGINAL-URL:https://www.doctorwine.wine/?lang=en
X-WR-CALDESC:Events for DoctorWine
REFRESH-INTERVAL;VALUE=DURATION:PT1H
X-Robots-Tag:noindex
X-PUBLISHED-TTL:PT1H
BEGIN:VTIMEZONE
TZID:Europe/Rome
BEGIN:DAYLIGHT
TZOFFSETFROM:+0100
TZOFFSETTO:+0200
TZNAME:CEST
DTSTART:20240331T010000
END:DAYLIGHT
BEGIN:STANDARD
TZOFFSETFROM:+0200
TZOFFSETTO:+0100
TZNAME:CET
DTSTART:20241027T010000
END:STANDARD
BEGIN:DAYLIGHT
TZOFFSETFROM:+0100
TZOFFSETTO:+0200
TZNAME:CEST
DTSTART:20250330T010000
END:DAYLIGHT
BEGIN:STANDARD
TZOFFSETFROM:+0200
TZOFFSETTO:+0100
TZNAME:CET
DTSTART:20251026T010000
END:STANDARD
BEGIN:DAYLIGHT
TZOFFSETFROM:+0100
TZOFFSETTO:+0200
TZNAME:CEST
DTSTART:20260329T010000
END:DAYLIGHT
BEGIN:STANDARD
TZOFFSETFROM:+0200
TZOFFSETTO:+0100
TZNAME:CET
DTSTART:20261025T010000
END:STANDARD
END:VTIMEZONE
BEGIN:VEVENT
DTSTART;TZID=Europe/Rome:20250404T100000
DTEND;TZID=Europe/Rome:20250406T180000
DTSTAMP:20260419T221959
CREATED:20250315T163530Z
LAST-MODIFIED:20250315T163530Z
UID:34277-1743760800-1743962400@www.doctorwine.wine
SUMMARY:Cerea - ViniVeri
DESCRIPTION:Wines according to Nature. This is the philosophy of ViniVeri\, Italy’s longest-running event of wines and food products made by natural processes now in its 21st edition. \nViniVeri is the natural wine fair dedicated to wine enthusiasts\, wine professionals and the press. The Area Exp in Cerea will host more than 150 wineries from all over Europe\, ready to present their most authentic labels. Visitors will have the opportunity to taste artisanal wines\, discovering the stories and traditions that make them unique. In addition to the tasting counters\, the event will include meetings with producers\, thematic insights and moments of discussion to explore the world of natural wine.    \nThe natural wine fair ViniVeri 2025 is in fact organized by the Viniveri Consortium of artisan winemakers united by a common philosophy and respect for natural cycles\, the integrity of territories\, and the biodiversity of the environment. \nEvent hours are 10 a.m. to 6 p.m. all three days\, April 4\, 5 and 6. Tickets can be purchased online or on-site\, with a special price reserved for industry professionals with accreditation. Admission is free for the press\, subject to registration.   \nViniVeri is not only an event for enthusiasts and professionals\, but also an opportunity to immerse oneself in a community that shares values of sustainability and authenticity. An unmissable event for those who want to discover the true spirit of natural wine in a convivial and inspiring atmosphere.  \nAll information is available at www.viniveri.net
URL:https://www.doctorwine.wine/event/cerea-viniveri/?lang=en
LOCATION:Area Exp La Fabbrica Cerea\, Via Guglielmo Oberdan\, 10\, Cerea (Verona)\, Italy
CATEGORIES:Tasting
ATTACH;FMTTYPE=image/jpeg:https://www.doctorwine.wine/wp-content/uploads/2025/03/ViniVeri.jpg
END:VEVENT
BEGIN:VEVENT
DTSTART;TZID=Europe/Rome:20250404T180000
DTEND;TZID=Europe/Rome:20250406T230000
DTSTAMP:20260419T221959
CREATED:20250315T153931Z
LAST-MODIFIED:20250315T153931Z
UID:34263-1743789600-1743980400@www.doctorwine.wine
SUMMARY:Verona - Vinitaly and the City
DESCRIPTION:Vinitaly and the City\, Vinitaly’s fuori salone\, is back: three days of tastings\, meetings and events spread throughout the heart of Verona.\nVinitaly and the City is Vinitaly’s off-show event that transforms the heart of Verona into a stage dedicated to Italian wine and food culture. This event\, which takes place April 4-6\, 2025\, offers a unique experience for wine lovers\, industry experts and the curious\, combining the pleasure of tasting with the discovery of the city\, a UNESCO World Heritage Site.  \nDuring the three days\, participants will be able to immerse themselves in a sensory journey of fine wine tastings\, master classes\, talks with experts and mixology sessions. \nThe main locations include Piazza dei Signori\, where a Great Wine Shop will be set up in the Loggia di Fra Giocondo\, and the Loggia Antica\, dedicated to mixology with the best bartenders of the moment. At the Cortile Mercato Vecchio\, on the other hand\, you can discover wines and food and wine products accompanied by fascinating stories during Wine Talks. An unmissable experience is the panoramic terrace of the Lamberti Tower\, where\, at a height of 84 meters\, you can toast with a breathtaking view of Verona.   \nHours: \n\nFriday\, April 4\, 6 p.m. – 11 p.m.\nSaturday\, April 5\, 3 p.m. – 11 p.m.\nSunday\, April 6\, 3 p.m. – 11 p.m.\n\nTo participate\, you can purchase the tasting booklet online or at the event. \nVinitaly and the City is not just an event\, but an opportunity to celebrate the excellence of Italian wine in a unique historical and cultural setting. An appointment that combines tradition\, innovation and conviviality\, making it an unforgettable experience for all participants.  \nAll id ettails are available on the official page https://www.vinitaly.com/eventi/vinitaly-and-the-city/verona/
URL:https://www.doctorwine.wine/event/verona-vinitaly-and-the-city/?lang=en
LOCATION:Verona\, Verona\, Italy
CATEGORIES:Fair,Tasting
ATTACH;FMTTYPE=image/jpeg:https://www.doctorwine.wine/wp-content/uploads/2025/03/Vinitaly-and-the-City.jpg
ORGANIZER;CN="VeronaFiere":MAILTO:pressoffice@veronafiere.it
END:VEVENT
BEGIN:VEVENT
DTSTART;VALUE=DATE:20250405
DTEND;VALUE=DATE:20250406
DTSTAMP:20260419T221959
CREATED:20250303T124529Z
LAST-MODIFIED:20250303T124529Z
UID:33869-1743811200-1743897599@www.doctorwine.wine
SUMMARY:Verona - Operawine 2025
DESCRIPTION:“Wine Spectator” and the 131 wineries of “OperaWine” 2025 will be featured in the US magazine’s most prestigious tasting in Italy\, a prologue to Vinitaly 2025\nFrom the collaboration of Veronafiere and Vinitaly with the prestigious American magazine Wine Spectator\, OperaWine\, Finest Italian Wines: Great Producers selected by Wine Spectator\, was born in 2012. \nAs its name implies\, OperaWine is the exclusive event that offers trade operators from all over the world the chance to learn about the best Italian wines. \nThe ranking is compiled by the experts of Wine Spectator\, a publication that is an internationally recognized authority in the wine industry. Out of this scrutiny comes the excellence of Italian producers. Wineries from all over the peninsula despite the difference in territory\, production style and company size\, are united by the very high quality of the wines produced.   \nOperaWine gives journalists\, operators and key industry personalities exclusive access to this Finest Italian Wines Selection by Wine Spectator. \nThe true protagonist of the event is the ability to tell the great diversity of Italian wine\, both in tradition and in the new frontiers of enology. OperaWine is a kermesse with an international scope\, a showcase that projects the best Italian wines towards exports to major foreign markets. Selected Italian wines become true ambassadors of Made in Italy.   \nFinally\, OperaWine is the premiere event of Vinitaly\, the most elegant way to declare open the dances of the most important International Wine and Spirits Exhibition. All of these elements make OperaWine one of the most fascinating and most anticipated wine events on the entire Verona and Italian calendar.  \nThe fourteenth edition of OperaWine will be held on April 5\, 2025 at the former Mercatali Galleries. \nOperaWine welcomes journalists\, sommeliers and wine professionals by invitation only. \n\n\n\nFull details on the official page https://www.vinitaly.com/eventi/operawine/
URL:https://www.doctorwine.wine/event/verona-operawine-2025/?lang=en
LOCATION:ex Gallerie Mercatali\, Viale del Lavoro\, 11\, Verona\, Italy
CATEGORIES:International Events,Tasting
ATTACH;FMTTYPE=image/png:https://www.doctorwine.wine/wp-content/uploads/2025/03/Operawine-2025.png
ORGANIZER;CN="VeronaFiere":MAILTO:pressoffice@veronafiere.it
END:VEVENT
BEGIN:VEVENT
DTSTART;TZID=Europe/Rome:20250405T100000
DTEND;TZID=Europe/Rome:20250406T170000
DTSTAMP:20260419T221959
CREATED:20250315T171826Z
LAST-MODIFIED:20250315T171826Z
UID:34291-1743847200-1743958800@www.doctorwine.wine
SUMMARY:Magré - Summa 2025
DESCRIPTION:Summa 2025 is the event that brings together the best of sustainable global viticulture with more than 100 international winemakers united by values such as quality\, healthy agriculture\, a desire to experiment and a passion for wine.\nFor more than 20 years with international winemakers at the Alois Lageder Estate in the picturesque wine village of Magrè\, South Tyrol has been celebrating Summa\, the event that brings together the best of sustainable global viticulture (organic\, biodynamic or in conversion). the event features more than 100 Italian and international winemakers each year\, attracting experts\, journalists and wine lovers.  \nNow in its 26th year\, Summa 2025\, will be held on April 5 and 6 with the following schedule: \n\nSaturday\, April 5\, 2025\, 10 a.m. – 6 p.m.\nSunday\, April 6\, 2025\, 10 a.m. – 5 p.m.\n\nThis event provides a unique opportunity to discover wines of the highest quality\, meet world-class producers and immerse oneself in an atmosphere of conviviality and inspiration. \nThe Alois Lageder Estate offers a unique setting for exploring the beauty of South Tyrol’s vineyards and breathtaking landscapes. \nDuring Summa\, visitors will be able to participate in guided tastings\, learn more about sustainable and biodynamic production techniques\, and dialogue directly with winemakers. The personal presence of producers is one of the distinctive elements of Summa\, which promotes an authentic and direct exchange.  \nTickets are available online at Summa ‘s official website and include access to tastings and scheduled events. Advance reservations are recommended\, as seating is limited.
URL:https://www.doctorwine.wine/event/magre-summa-2025/?lang=en
LOCATION:Tenuta Alois Lageder\, Magrè (Bolzano)\, Italy
CATEGORIES:Tasting
ATTACH;FMTTYPE=image/jpeg:https://www.doctorwine.wine/wp-content/uploads/2025/03/Summa-2025.jpg
END:VEVENT
BEGIN:VEVENT
DTSTART;TZID=Europe/Rome:20250405T100000
DTEND;TZID=Europe/Rome:20250407T180000
DTSTAMP:20260419T221959
CREATED:20250310T175022Z
LAST-MODIFIED:20250310T175022Z
UID:34169-1743847200-1744048800@www.doctorwine.wine
SUMMARY:Gambellara - VinNatur Tasting\, The Best Of Wine According To Nature
DESCRIPTION:VinNatur Tasting\, The Best Of Wine According To Nature: April 5-7 3 guided masterclasses and 200 winemakers gathered in Gambellara (Vicenza) for the event dedicated to natural drinking\nVinNatur Tasting is not only a time to learn more about some aspects of drinking according to nature but also an opportunity to meet and talk with the winemakers of the VinNatur Association\, which was founded in 2006 to promote itself in national and international markets and now brings together 300 wineries from twelve different countries. \nAt the festival’s tasting tables it will be possible to taste and from this year buy wines directly from the 200 producers from Italy\, Albania\, Austria\, Germany\, Spain\, France and Slovenia. They share a commitment to sustainable viticulture\, free of chemical additives and oriented toward the authentic expression of the terroir\, with as little intervention as possible in the vineyard and cellar.  \n3 Guided Masterclasses\n\nThe 20th edition of VinNatur Tasting\, scheduled at the Margraf showroom in Gambellara (Vicenza) April 5-7\, will be enriched with three guided tastings to deepen the knowledge of wines according to nature\, including old vintages and different interpretations in comparison. \n\nOn Saturday\, April 5 at 2 p.m. Gianpaolo Giacobbo\, wine writer and VinNatur advisor\, will lead “How Long Can a Natural Wine Last?” Through a selection of labels\, vinified with very low levels of sulfur dioxide and aged for at least 10 years\, participants will discover their complexity and ability to evolve over time\, dispelling the myth that they are meant for immediate consumption. \nSunday\, April 6 at 2 p.m. Microbiological alterations of wines by agronomist Giacomo Buscioni of Food Micro Team. A journey in which the main organoleptic changes of microbiological origin and their characteristics will be analyzed through a blind tasting of appropriately modified wines. \nFinally\, on Monday\, April 7\, at 2 p.m.\, the focus will shift to the most emblazoned of white grape varieties with a masterclass entitled Pure Riesling – Vinification Styles and Climate Impact. Speaker will be Dominic Wurth\, wine consultant\, who will lead a tasting journey between Germany and Italy comparing different expressions of this grape variety. From dry to softer and more structured versions\, participants will explore the main winemaking techniques and the key role climate change plays in Riesling’s evolution. The meeting is sponsored in collaboration with Korkindustrie Trier.   \n\nUseful Information\nTickets for the master classes and the event are on sale online at the event website www.vinnatur.org/evento/tasting-2025/ or on-site at the event entrance  \nPublic opening hours: Saturday\, April 5\, Sunday\, April 6 and Monday\, April 7\, 2025 from 10 a.m. to 6 p.m. at Margraf Showroom
URL:https://www.doctorwine.wine/event/gambellara-vinnatur-tasting-the-best-of-wine-according-to-nature/?lang=en
LOCATION:Show-room Margraf\, Via Torri di Confine\, Gambellara (Vicenza)\, Italy
CATEGORIES:Tasting
ATTACH;FMTTYPE=image/jpeg:https://www.doctorwine.wine/wp-content/uploads/2025/03/VinNatur-Tasting-2025.jpg
END:VEVENT
END:VCALENDAR