BEGIN:VCALENDAR
VERSION:2.0
PRODID:-//DoctorWine - ECPv6.15.18//NONSGML v1.0//EN
CALSCALE:GREGORIAN
METHOD:PUBLISH
X-ORIGINAL-URL:https://www.doctorwine.wine/?lang=en
X-WR-CALDESC:Events for DoctorWine
REFRESH-INTERVAL;VALUE=DURATION:PT1H
X-Robots-Tag:noindex
X-PUBLISHED-TTL:PT1H
BEGIN:VTIMEZONE
TZID:Europe/Rome
BEGIN:DAYLIGHT
TZOFFSETFROM:+0100
TZOFFSETTO:+0200
TZNAME:CEST
DTSTART:20240331T010000
END:DAYLIGHT
BEGIN:STANDARD
TZOFFSETFROM:+0200
TZOFFSETTO:+0100
TZNAME:CET
DTSTART:20241027T010000
END:STANDARD
BEGIN:DAYLIGHT
TZOFFSETFROM:+0100
TZOFFSETTO:+0200
TZNAME:CEST
DTSTART:20250330T010000
END:DAYLIGHT
BEGIN:STANDARD
TZOFFSETFROM:+0200
TZOFFSETTO:+0100
TZNAME:CET
DTSTART:20251026T010000
END:STANDARD
BEGIN:DAYLIGHT
TZOFFSETFROM:+0100
TZOFFSETTO:+0200
TZNAME:CEST
DTSTART:20260329T010000
END:DAYLIGHT
BEGIN:STANDARD
TZOFFSETFROM:+0200
TZOFFSETTO:+0100
TZNAME:CET
DTSTART:20261025T010000
END:STANDARD
END:VTIMEZONE
BEGIN:VEVENT
DTSTART;VALUE=DATE:20250420
DTEND;VALUE=DATE:20250521
DTSTAMP:20260420T015037
CREATED:20250413T095813Z
LAST-MODIFIED:20250413T095813Z
UID:35340-1745107200-1747785599@www.doctorwine.wine
SUMMARY:Albarossa on the table
DESCRIPTION:The Consorzio Barbera d’Asti e vini del Monferrato presents the fifth edition of “Albarossa in tavola\,” starting April 20 and lasting for a month\n“Albarossa in Tavola” aims to create a direct link between producers and restaurateurs. \nThe event\, now in its 5th edition\, will offer the opportunity to taste the Albarossa grape variety in some 40 restaurants in Turin and the Monferrato area\, through a unique food and wine experience. Diners will be able to taste a dish specially designed\, by each individual restaurateur\, for the special event and paired with a glass of Albarossa\, from the producer present in that specific restaurant\, exploring new harmonies of flavors and exalting the extraordinary peculiarities of this grape variety.  \nIt will also be possible\, in participating restaurants\, to consult informational material on the native black grape variety from which it takes its name: born in 1938 by Giovanni Dalmasso-one of the fathers of Italian ampelography by crossing Barbera and Nebbiolo-it has been able to win a vast audience of admirers not only on the domestic market but also on the international one. \nThe initiative aims to promote Piedmont DOC Albarossa wine\, but it is also an opportunity to strengthen relationships between producers and restaurants\, enhancing collaboration between the wine and restaurant worlds. \n“Albarossa a Tavola is a unique opportunity to celebrate an extraordinary grape variety\, which tells the story of a vine resulting from the crossing of Barbera and Nebbiolo di Dronero and pioneered by Professor Giovanni Dalmasso in 1938. A wine that represents the identity of Piedmont.” continued President Vitaliano “Through gastronomic pairings\, we want to enhance its elegance and complexity\, demonstrating how it can perfectly accompany our culinary tradition. This event is a sensory journey that combines territory\, passion and conviviality.” \nThrough these promotional events\, the Barbera d’Asti e Vini del Monferrato Consortium reaffirms its commitment to promoting the appellations that represent the beating heart of a unique territory\, combining the protection of traditions with a strong impulse to popularization.
URL:https://www.doctorwine.wine/event/albarossa-on-the-table/?lang=en
LOCATION:Monferrato\, Italy
CATEGORIES:Piedmont Events,Tasting
ATTACH;FMTTYPE=image/jpeg:https://www.doctorwine.wine/wp-content/uploads/2025/04/Albarossa-in-Tavola.jpg
END:VEVENT
BEGIN:VEVENT
DTSTART;VALUE=DATE:20250505
DTEND;VALUE=DATE:20250512
DTSTAMP:20260420T015037
CREATED:20250422T073352Z
LAST-MODIFIED:20250422T073352Z
UID:35896-1746403200-1747007999@www.doctorwine.wine
SUMMARY:Chianti Lovers Week
DESCRIPTION:Chianti Lovers Week\, from May 5 to 11 across Tuscany comes the first widespread event dedicated to Chianti Docg\nThe Chianti Wine Consortium’s event: more than 40 initiatives including tastings\, treks\, visits to wineries and the grand finale at the Manifattura Tabacchi on Sunday\, May 11. President Busi: “We want to tell the story of wine in a new way\, leaving institutional contexts to meet people in the places of their daily lives” Chianti goes in search of its lovers.  \nFrom May 5 to 11\, the Chianti Wine Consortium is launching the first edition of Chianti Lovers Week\, a week of widespread events that will bring Chianti Docg to the streets\, venues\, places of culture and conviviality in Florence and throughout Tuscany. Lovers will not be the ones looking for Chianti but\, for the first time\, Chianti will be going to them.  \nA new and dynamic way to tell the identity of one of the most iconic Italian wines\, including tastings\, immersive experiences and contaminations with cinema\, art and music. Responding to the Consortium’s call were more than 40 entities including restaurants\, wine shops and wineries\, ready to celebrate Chianti in its special week. And alongside the official appointments taken care of directly by the Consortium\, there is a rich program of independent events that cross the entire region: from Impruneta to Empoli\, from Pisa to Arezzo\, from Siena to Montepulciano\, Chianti will be the protagonist in tasting dinners\, themed aperitifs\, trekking between the rows and cellar visits organized by historic producers and young realities.   \n7 days\, more than 40 events spread all over Tuscany.  In particular:\nOn Tuesday\, May 6\, Chianti will headline the “Shopping Night” at La Rinascente\, in partnership with Savino del Bene Volleyball\, for a special toast with the team returning from the Champions League Final Four. \nThursday\, May 8\, comes the “Wine & Cinema Experience” event at Nana Bianca: an immersive masterclass between tastings and cult movie scenes in which Chianti is the protagonist. Saturday\, May 10\, spotlight on the former Monastery of St. Ursula with “Rewriting History”: guided tours\, live art and tastings at an extraordinary site that opens exceptionally to the public.  \nGrand finale on Sunday\, May 11 at the Manifattura Tabacchi with the “Chianti Lovers Closing Party”: a party open to the public among free tastings\, excellent street food\, swing and vintage DJ set with La Màquina Parlante and dancers from Studio Swing 22 Florence. The ticket includes screen-printed goblet and glass bag to enjoy the experience in style.  \n“With Chianti Lovers Week we want to tell the story of our wine in a new way\, leaving institutional contexts to meet people in the places of their daily lives\,” explains Giovanni Busi\, president of the Chianti Wine Consortium. “It is a celebration\, of course\, but also an act of trust in the vitality of our territory\, in a wine culture that knows how to evolve without losing its roots. In this week\, Chianti will be everywhere: close\, accessible\, shareable. Just the way we like it.” \nChianti Lovers Week is promoted by the Chianti Wine Consortium. \nFind out the full program and purchase tickets online. Full details at: www.chiantiloversweek.it
URL:https://www.doctorwine.wine/event/chianti-lovers-week/?lang=en
LOCATION:Toscana\, Italy
CATEGORIES:Tasting,Tuscany Events
ATTACH;FMTTYPE=image/jpeg:https://www.doctorwine.wine/wp-content/uploads/2025/04/Chianti-Lovers-Week.jpg
END:VEVENT
BEGIN:VEVENT
DTSTART;VALUE=DATE:20250506
DTEND;VALUE=DATE:20250512
DTSTAMP:20260420T015037
CREATED:20250501T181106Z
LAST-MODIFIED:20250501T181106Z
UID:36172-1746489600-1747007999@www.doctorwine.wine
SUMMARY:Modica - Sicilia en Primeur
DESCRIPTION:Sicilia en Primeur 2025: from Tuesday\, May 6 to Saturday\, May 11\, 2025 in Modica the preview that tells about the wine and the soul of the island\nThe highly anticipated appointment with Sicilia en Primeur\, the annual event dedicated to high-end Sicilian wines\, now in its XXII edition in 2025\, is back. An unmissable event for wine lovers\, wine professionals\, journalists and international buyers\, who each year choose to discover a preview of new vintages of the island’s best labels.  \nEvent designed and organized by Assovini Sicily since 2004\, an annual traveling event where tastings\, tours\, masterclasses and conferences alternate\, featuring Assovini Sicilia producers and members along with the national and international press. The focus of the meetings is Sicilian wine production\, tastings and vintage considerations.  \nSicilia en Primeur will be held May 6-11\, 2025 in one of the most picturesque places on the island-Modica. \nncasted among the Iblei hills in southeastern Sicily\, it is a Baroque city of extraordinary beauty\, recognized by UNESCO as a World Heritage Site. Known as the “City of a Hundred Churches\,” Modica fascinates visitors with its scenic stairways\, winding alleys and the gilded facades of its historic buildings. \nSicilia en Primeur is more than just a tasting. It is an experiential journey through vineyards\, culture and traditions\, where wine becomes a storytelling tool of an island that surprises with every sip.  \nDuring the event\, participants can immerse themselves in a rich program that alternates technical tastings\, winery visits\, vineyard tours and cultural moments to discover the excellence of the territory. The heart of the event will be the official presentation of the new vintages\, with a collective tasting featuring more than 50 member wineries\, an expression of Sicily’s extraordinary wine biodiversity.  \nIn addition to previews\, there will be thematic masterclasses with internationally renowned oenologists and wine experts. Also\, B2B meetings between producers and operators\, and in-depth moments on sustainability\, innovation and wine tourism.  \nHow to participate. The event is open by invitation for industry professionals. Some days\, however\, will also be open to the general public of wine enthusiasts\, subject to registration on the official website www.assovinisicilia.it. Places are limited\, so advance reservations are recommended.
URL:https://www.doctorwine.wine/event/modica-sicilia-en-primeur/?lang=en
LOCATION:Modica\, Italy
CATEGORIES:Sicily Events,Tasting
ATTACH;FMTTYPE=image/jpeg:https://www.doctorwine.wine/wp-content/uploads/2025/05/Sicilia-en-primeur-e1746123030510.jpg
END:VEVENT
BEGIN:VEVENT
DTSTART;VALUE=DATE:20250509
DTEND;VALUE=DATE:20250512
DTSTAMP:20260420T015037
CREATED:20250425T091145Z
LAST-MODIFIED:20250425T091145Z
UID:35967-1746748800-1747007999@www.doctorwine.wine
SUMMARY:Bologna - Spumantitalia 2025
DESCRIPTION:Spumantitalia 2025 lands in Bologna amid tastings\, masterclasses and wine culture An increasingly authoritative and participatory seventh edition\nAnticipation is rising and effervescence is growing around the seventh edition of Spumantitalia\, the National Festival dedicated to the best Italian bubbles\, which this year will take place in the heart of Bologna May 9-11\, as part of Bologna Wine Week and in collaboration with Ebrezze di Gian Marco Gabarello. \nA winning combination\, that between Spumantitalia and the city’s enocultural review\, which has already led to significant results: among them\, the prestigious patronage of theAssoenologi National Association and theNational Academy of Vine and Wine\, authoritative entities that recognize the cultural and scientific value of the event. \nThe Festival will officially kick off on Friday\, May 9\, with a day entirely dedicated to discussion and reflection. At the Palazzo della Borsa\, Talk Shows will take place featuring leading figures from the academic\, production and communication worlds. Central themes for the future of Italian wine will be addressed\, between challenges and opportunities: wine tourism\, education\, marketing\, sustainability and intergenerational dialogue.   \nAt the conclusion of the day\, the prestigious Bubble’s Magazine will celebrate Italian sparkling wine excellence with the presentation of the Certificates to the Ambassadors of Italian Brindisi: an award to companies that have been able to innovate\, tell and enhance the Italian bubbly sector with vision. \nThe highlight of the event will be between Saturday\, May 10\, and Sunday\, May 11\, at Palazzo Re Enzo\, open to the public from 10 a.m. to 9 p.m. Visitors will be able to taste a selection of Italian and international sparkling wines and participate in thematic masterclasses  \nOnce again this year\, Spumantitalia is confirmed to be not only a time for celebration\, but a laboratory of ideas\, relationships and culture. The full program of the event and how to participate are available on the official websites:www.bubblesitalia.com and www.bolognawineweek.it.  \nSpumantitalia awaits you in Bologna to toast together\, between thought and pleasure\, between past and future.
URL:https://www.doctorwine.wine/event/bologna-spumantitalia-2025/?lang=en
LOCATION:Palazzo Re Enzo\, Piazza Nettuno\, 1\,\, Bologna\, Italy
CATEGORIES:Tasting
ATTACH;FMTTYPE=image/jpeg:https://www.doctorwine.wine/wp-content/uploads/2025/04/Spumantitalia.jpg
END:VEVENT
BEGIN:VEVENT
DTSTART;TZID=Europe/Rome:20250509T170000
DTEND;TZID=Europe/Rome:20250512T160000
DTSTAMP:20260420T015037
CREATED:20250423T144222Z
LAST-MODIFIED:20250423T144222Z
UID:35931-1746810000-1747065600@www.doctorwine.wine
SUMMARY:Nizza Monferrato - Nizza is Barbera
DESCRIPTION:Nice is Barbera 2025: From May 9-12\, 2025\, the charming town of Nizza Monferrato\, in the heart of Piedmont\, will be transformed into the capital of Barbera.\nNice is Barbera 2025: Four days dedicated to the heart of Barbera\, the must-attend event for those who love authentic wine\, local flavors and convivial atmospheres. \nThe event celebrates Nizza DOCG\, the highest expression of Barbera\, and brings together more than 70 producers from the area who will offer hundreds of labels including Barbera d’Asti\, Nizza DOCG\, reserves and crus for tasting. The tastings will take place mainly in the “Barbera Forum\,” inside the Foro Boario\, a true temporary temple of wine\, where each goblet tells the story of a unique land\, declared a UNESCO World Heritage Site.  \nBut “Nice is Barbera” is not just about wine. During the four days\, the historic center will come alive with markets\, live music\, guided tours of wineries\, dinners with winemakers\, show cooking and much more. Taverns and restaurants will offer special menus paired with local wines\, while squares will host street food and local producers.   \nFor true enthusiasts\, there will also be the opportunity to participate in master classes\, meetings with producers\, and scenic tours among the Monferrato hills. \nProgram and Opening Hours\nFriday\, May 9 \n\n5 p.m.: Opening toast at Garibaldi Square – Foro Boario\, with greetings from authorities and producers.\n6 p.m. – 11 p.m.: Opening of the Barbera Forum at the Foro Boario\, with more than 70 producers and 400 labels for tasting.\n9 p.m.:  Eiffel 65 concert in Garibaldi Square\n\nSaturday\, May 10 \n\n11 a.m. – 11 p.m.: Barbera Forum open to the public.\nFrom 6 p.m.: Start of White Night in the Old Town\, with open stores\, street food and live music.\n9 p.m.: Musical performance “I want to go back to the 90s” in Garibaldi Square.\n\nSunday\, May 11 \n\n11 a.m. – 8 p.m.: Barbera Forum open to the public.\n3 to 5 p.m.: Crazy Magic Sunday in Alexandria Martyrs Square\, magic show for families and children.\nFrom 6 p.m.: Concerts and DJ sets in city squares.\n\nMonday\, May 12 \n\n10:00 a.m. – 4:00 p.m.: Barbera Forum open exclusively to industry professionals.\n\nUseful Information for the Wine Tourist\nMain location: Foro Boario\, Piazza Garibaldi\, Nizza Monferrato (AT). \nTickets: Available online at the official website nizzaebarbera.wine. \nFor more details on the full program and for reservations\, visit the event’s official website: nizzaebarbera.wine.
URL:https://www.doctorwine.wine/event/nizza-monferrato-nizza-is-barbera/?lang=en
LOCATION:Foro Boario Nizza Monferrato\, Piazza Garibaldi\, Nizza Monferrato (AT)\, Italy
CATEGORIES:Piedmont Events,Tasting
ATTACH;FMTTYPE=image/jpeg:https://www.doctorwine.wine/wp-content/uploads/2025/04/Nizza-e-Monferrato.jpg
END:VEVENT
BEGIN:VEVENT
DTSTART;VALUE=DATE:20250510
DTEND;VALUE=DATE:20250511
DTSTAMP:20260420T015037
CREATED:20250413T102536Z
LAST-MODIFIED:20250413T141908Z
UID:35350-1746835200-1746921599@www.doctorwine.wine
SUMMARY:Chieri - Di Freisa in Freisa
DESCRIPTION:May 10 in downtown Chieri sees the return of Di Freisa in Freisa\, the event celebrating one of Piedmont’s iconic grape varieties.\nThe event\nFor the 15th Edition of “Di Freida in Freisa\,” a full day of celebration with Consortium producers and food\, wine\, cultural and artistic initiatives. A Gala Dinner under the stars will complete the event.  \nIt will all focus on Saturday\, May 10\, the long-awaited annual event “Di Freisa in Freisa\,” with the aim of paying tribute to Freisa and promoting the territory and its many excellences. \nA day full of initiatives\, moments of celebration and in-depth analysis\, where Freisa di Chieri will be the main protagonist but will also act as an authoritative “fil rouge” to tell the different souls of the territory\, from gastronomic and artisanal to cultural and artistic ones\, and to raise awareness and increase attention on topical issues\, particularly felt even in the agricultural world such as those of environmental and social sustainability. \nWalk around tasting\nThe heart of the event will be\, as per tradition\, Piazza Cavour\, which for the entire day will be transformed into a large open-air stage dedicated to taste but also to music. Here the Consortium’s producers and guest wineries from Piedmont will offer walk-around tasting of Freisa in all its declinations\, to let enthusiasts\, as well as the merely curious\, discover the many worlds and countless facets that distinguish this formidable grape variety.  \nThe Enoteca Regionale dei Vini della Provincia di Torino will also be present\, with its own tasting desk\, to enrich the tasting itinerary\, and will complete the proposal by guiding participants on a true sensory journey through the rich wine scene of the Province of Turin. \nGala Dinner Under the Stars with Chef Vara\nFreisa and the Wines of the Turin Hill will then be the protagonists of another highlight\, which will ideally complete the event: the Gala Dinner under the Stars in Umberto I Square\, right under the arch that is the symbol of the Piedmont town  \nA convivial moment in an evocative place to raise our glasses and enjoy all together food and wine of the territory thanks to the culinary flair of Chierese Chef Eddy Vara\, Head Chef of Italian cuisine at international events\, and live a musical tasting experience thanks to the show “Notes of Wine” curated by Francesco Quarna and Maurizio Rossato of Radio DEEJAY. \nA special and elegant event to experience and celebrate the area’s food and wine treasures at their best: the wines of the Freisa Consortium of Chieri and Collina Torinese will in fact be paired with Chef Vara’s delicious menu\, which will enhance the typical gastronomic specialties of the Chieri-Carmagnolese Food District. A portion of the proceeds from the dinner will be donated to the Chieri Hospital Pediatrics Department for a project to benefit its young patients.  \nA special guest speaker\nAlso the special guest for the 2025 edition of “Di Freisa in Freisa” will be Terry Callaghan\, distinguished Professor of Arctic Ecology and 2007 Nobel Peace Prize winner as Lead author of the IPCC\, who together with leading representatives of the Polytechnic and the University of Turin will initiate an important reflection regarding climate change and the repercussions on the social and economic systems of the Planet. \nAnd so much more\nNot only wine but also a varied gastronomic offer with street kitchens that will present typical regional and local specialties\, inviting you to discover the best pairings with Freisa. \nMusic will also be the great protagonist of the entire day: from the evocative churchyard of the Church of SS. Bernardino and Rocco\, in fact\, a DJSET will animate the event and accompany all the tastings with the harmony of its notes. \nAnd if food and wine will play a central role\, equally stimulating will be the cultural and artistic initiatives that will complete the heterogeneous proposal of “Di Freisa in Freisa” 2025: from literary appointments in Piazza Cavour to an engaging tour proposed by the Carreum Potentia Association to delve into the history of the City of 100 Towers and its tradition in textiles in an innovative and dynamic way. \nThe Italian Red Cross Committee of Chieri will participate in the festival with the “White and Red Night”: starting at 5 p.m.\, in the historic center of Chieri\, it will offer a set of recreational\, artistic and educational initiatives for a public of all ages. \nThen\, in the city center\, there is space for the “Art in Freisa” photography exhibition curated by CioCheVale APS and photographer Giancarlo Volpi. \nThe Textile Museum\, open the entire afternoon from 3 to 7 p.m.\, will organize some interesting workshops for the occasion to stimulate the creativity and inventiveness of participants. \nThe big celebration will be attended\, as per tradition\, by city restaurants and eateries that\, through the “Freisa on the Plate” initiative\, will offer dishes paired with and dedicated to Freisa on the menu. \nUseful information\nFor reservations and information\, visit  www.difreisainfreisa.it
URL:https://www.doctorwine.wine/event/chieri-di-freisa-in-freisa/?lang=en
LOCATION:Chieri
CATEGORIES:Piedmont Events,Tasting
ATTACH;FMTTYPE=image/png:https://www.doctorwine.wine/wp-content/uploads/2025/04/Di-Freisa-in-Freisa.png
END:VEVENT
BEGIN:VEVENT
DTSTART;VALUE=DATE:20250510
DTEND;VALUE=DATE:20250511
DTSTAMP:20260420T015037
CREATED:20250507T151425Z
LAST-MODIFIED:20250507T151425Z
UID:36327-1746835200-1746921599@www.doctorwine.wine
SUMMARY:All over Italy - Il Sabato del Vignaiolo
DESCRIPTION:Il Sabato del Vignaiolo in Calabria: a day in Nicotera to celebrate Independent Wine and those who have chosen to stay\nSaturday\, May 10\, 2025\, throughout Italy\, the Saturday of the Winemaker returns \, the widespread event promoted by the Italian Federation of Independent Winemakers (FIVI) to tell the public and enthusiasts about the richness and diversity of the territorial realities of its members. A day in which vintners open their doors\, tell their stories\, confront each other and share their vision of viticulture: artisanal\, sustainable\, deeply linked to the land.  \nIn Calabria\, the event will be hosted by Casa Comerci in the hills of Nicotera (VV)\nIn Calabria\, the event will be hosted by Casa Comerci\, where the regional FIVI Delegation has chosen to celebrate the value of independence\, identity and community among the hills of Nicotera\, welcoming those who wish to know not only the wines\, but to meet the faces and hands that make them possible: winemakers who carry forward every day an idea of independence\, quality and truth. “Each wine tells not only a territory\, but the courageous choice of those who decide to remain faithful to their land. The Saturday of the Winemaker is not just a celebration\,” says Raffaella\, FIVI Calabria Delegate\, “but represents the moment when independent winemakers come together to share the most authentic sense of their work\, made up of daily dedication\, respect for nature and a deep connection with their roots.”  \nFrom 11:00 a.m. to 5:00 p.m. on Saturday\, May 10\, 2025\, more than 20 independent Calabrian winemakers will meet the public at Casa Comerci\, in the hills of Nicotera (VV)\, to tell their story and let people taste the fruits of their labor: wines that come from conscious hands\, courageous choices and a deep connection with the land. \nDuring the day it will be possible: \n\nFree tasting of all wines present\nDialogue with producers\nBuy bottles directly\nSharing stories\, visions and smiles\n\nTo enrich the experience: A food area curated by Fabrica – Enoteca Ristorante\, with mom Silvy’s “homemade” dishes Live music to accompany the convivial atmosphere \nTickets on presale or can be purchased on site the day of the event. Ticket includes:  \n\nFIVI goblet and pocket\nFree tasting\nSnack bag\nLive music\n\nThe other stages throughout Italy:\nFIVI Local Delegations meet consumers in many appointments spread all over Italy\, organized in special places. \nBy clicking on the Delegation name you will go to the page with details of each individual event. \n\nFriuli Venezia Giulia | Piazza XXIV Maggio – Cormons (GO)\nVerona | Tenuta La Cà – Bardolino (VR)\nNorth Piedmont | Balmetti of Ivrea (TO)\nLanghe and Roero | Bra (CN)\nLiguria | Villa Nobel – San Remo (SP)\nOltrepò Pavese | Frecciarossa Estate – Casteggio (PV)\nPiacenza | La Torretta – Mandelli Hall (PC)\nModena and Reggio Emilia | Az.Agr Cavaliera – Castelvetro di Modena (MO)\nMarche | Villa Salvati in Monte Roberto (AN)\nUmbria | Hotel Giò Wine and Jazz Area – Perugia (PG)\nLazio | Ex Cartiere di Latina (LT)\nCampania | Castle of Castelevetere (AV)\nApulia | L’Astore Masseria – Cutrofiano (LE)\nCalabria | Casa Comerci Winery – Nicotera (VV)\nSicily | Villa Filippina – Palermo (PA)\n\nFull details on the official page
URL:https://www.doctorwine.wine/event/all-over-italy-il-sabato-del-vignaiolo/?lang=en
LOCATION:In tutta Italia\, Italy
CATEGORIES:Tasting,Widespread event
ATTACH;FMTTYPE=image/jpeg:https://www.doctorwine.wine/wp-content/uploads/2025/05/Il-Sabato-del-Vignaiolo.jpg
END:VEVENT
BEGIN:VEVENT
DTSTART;VALUE=DATE:20250510
DTEND;VALUE=DATE:20250512
DTSTAMP:20260420T015037
CREATED:20250418T142658Z
LAST-MODIFIED:20250418T142658Z
UID:35869-1746835200-1747007999@www.doctorwine.wine
SUMMARY:Liguria - May in the Cellar
DESCRIPTION:May in the Cellar will take place in Liguria during May 2025 involving the 20 member wineries of the Vine In Riviera Business Network\, wineries in western Liguria (Imperia and Savona provinces)\nMay in the Cellar: on all weekends in May and until June 1\, wineries in the Vite In Rivera network will open the doors of their premises for visits and tastings at km0 by reservation\, offering some typical products to accompany them. \nThe added value is provided by storytelling from the viva voce of the producers themselves\, in evocative locations\, often close to the vineyards. There will of course be no shortage of opportunities to buy directly on site. At some of the same wineries it will be possible to complete the food and wine experience at the table and extend the stopover for one or more nights.   \nMay in the Cellar is the first step on a path aimed at developing wine tourism in Liguria. \nHere are the businesses that are ready to welcome you on weekends in May by reservation: \n\nAzienda Agricola Bruna\, not only wine\, but also grappa.\nCascina Nirasca farm\, vineyard and winery tour with tasting.\nDell’Erba farm\, vineyard tour\, overnight and catering options. Also oil and local products. \nAzienda Agricola Foresti Marco\, winery tour\nInnocenzo Turco Farm\, visit to the winery and vineyard. Restaurant\nRamoino Farm\, visit to the winery and vineyard. Restaurant. Notes: travel by car is necessary to reach the vineyard.  \nTorre Pernice farm\, vineyard tour. Restaurant in the evening with possibility of overnight stay. \nBio Vio organic farm\, visit to winery and vineyard. Restaurant and possibility of overnight stay. Not only wine but also 100% Taggiasca oil.  \nCascina Feipu Dei Massaretti winery and vineyard tour.\nCooperativa Viticoltori Ingauni\, saucer tastings every Saturday from 10 a.m. to 1 p.m. Not only wine\, but also jams and grappa. \nIl Baggio Pellegrino\, vineyard tour with the possibility of an overnight stay. Not only wine\, but also EVO oil. \nThe Old Cellar\, visit to the vineyard.\nRoccaVinealis Agricultural Society\, visit to the vineyard and winery with the possibility of an overnight stay.\nViarzo Agricultural Society\, visit to the vineyard and winery.\nMaffone Estate\, vineyard and winery tour. Not only wine but also EVO oil\, olives\, grappa. \n\nTo view participating wineries\, dates and booking contacts: https://www.viteinriviera.it/maggio-in-cantina/
URL:https://www.doctorwine.wine/event/liguria-may-in-the-cellar-2/?lang=en
LOCATION:Liguria
CATEGORIES:Tasting
ATTACH;FMTTYPE=image/jpeg:https://www.doctorwine.wine/wp-content/uploads/2025/04/Maggio-in-Cantina.jpg
ORGANIZER;CN="Vite in Riviera":MAILTO:info@viteinriviera.it
END:VEVENT
END:VCALENDAR