BEGIN:VCALENDAR
VERSION:2.0
PRODID:-//DoctorWine - ECPv6.15.18//NONSGML v1.0//EN
CALSCALE:GREGORIAN
METHOD:PUBLISH
X-WR-CALNAME:DoctorWine
X-ORIGINAL-URL:https://www.doctorwine.wine/?lang=en
X-WR-CALDESC:Events for DoctorWine
REFRESH-INTERVAL;VALUE=DURATION:PT1H
X-Robots-Tag:noindex
X-PUBLISHED-TTL:PT1H
BEGIN:VTIMEZONE
TZID:Europe/Rome
BEGIN:DAYLIGHT
TZOFFSETFROM:+0100
TZOFFSETTO:+0200
TZNAME:CEST
DTSTART:20240331T010000
END:DAYLIGHT
BEGIN:STANDARD
TZOFFSETFROM:+0200
TZOFFSETTO:+0100
TZNAME:CET
DTSTART:20241027T010000
END:STANDARD
BEGIN:DAYLIGHT
TZOFFSETFROM:+0100
TZOFFSETTO:+0200
TZNAME:CEST
DTSTART:20250330T010000
END:DAYLIGHT
BEGIN:STANDARD
TZOFFSETFROM:+0200
TZOFFSETTO:+0100
TZNAME:CET
DTSTART:20251026T010000
END:STANDARD
BEGIN:DAYLIGHT
TZOFFSETFROM:+0100
TZOFFSETTO:+0200
TZNAME:CEST
DTSTART:20260329T010000
END:DAYLIGHT
BEGIN:STANDARD
TZOFFSETFROM:+0200
TZOFFSETTO:+0100
TZNAME:CET
DTSTART:20261025T010000
END:STANDARD
END:VTIMEZONE
BEGIN:VEVENT
DTSTART;VALUE=DATE:20250524
DTEND;VALUE=DATE:20250526
DTSTAMP:20260419T233427
CREATED:20250418T143315Z
LAST-MODIFIED:20250418T143315Z
UID:35875-1748044800-1748217599@www.doctorwine.wine
SUMMARY:Liguria - May in the Cellar
DESCRIPTION:May in the Cellar will take place in Liguria during May 2025 involving the 20 member wineries of the Vine In Riviera Business Network\, wineries in western Liguria (Imperia and Savona provinces)\nMay in the Cellar: on all weekends in May and until June 1\, wineries in the Vite In Rivera network will open the doors of their premises for visits and tastings at km0 by reservation\, offering some typical products to accompany them. \nThe added value is provided by storytelling from the viva voce of the producers themselves\, in evocative locations\, often close to the vineyards. There will of course be no shortage of opportunities to buy directly on site. At some of the same wineries it will be possible to complete the food and wine experience at the table and extend the stopover for one or more nights.   \nMay in the Cellar is the first step on a path aimed at developing wine tourism in Liguria. \nHere are the businesses that are ready to welcome you on weekends in May by reservation: \n\nAzienda Agricola Bruna\, not only wine\, but also grappa.\nCascina Nirasca farm\, vineyard and winery tour with tasting.\nDell’Erba farm\, vineyard tour\, overnight and catering options. Also oil and local products. \nAzienda Agricola Foresti Marco\, winery tour\nInnocenzo Turco Farm\, visit to the winery and vineyard. Restaurant\nRamoino Farm\, visit to the winery and vineyard. Restaurant. Notes: travel by car is necessary to reach the vineyard.  \nTorre Pernice farm\, vineyard tour. Restaurant in the evening with possibility of overnight stay. \nBio Vio organic farm\, visit to winery and vineyard. Restaurant and possibility of overnight stay. Not only wine but also 100% Taggiasca oil.  \nCascina Feipu Dei Massaretti winery and vineyard tour.\nCooperativa Viticoltori Ingauni\, saucer tastings every Saturday from 10 a.m. to 1 p.m. Not only wine\, but also jams and grappa. \nIl Baggio Pellegrino\, vineyard tour with the possibility of an overnight stay. Not only wine\, but also EVO oil. \nThe Old Cellar\, visit to the vineyard.\nRoccaVinealis Agricultural Society\, visit to the vineyard and winery with the possibility of an overnight stay.\nViarzo Agricultural Society\, visit to the vineyard and winery.\nMaffone Estate\, vineyard and winery tour. Not only wine but also EVO oil\, olives\, grappa. \n\nTo view participating wineries\, dates and booking contacts: https://www.viteinriviera.it/maggio-in-cantina/
URL:https://www.doctorwine.wine/event/liguria-may-in-the-cellar-4/?lang=en
LOCATION:Liguria
CATEGORIES:Tasting
ATTACH;FMTTYPE=image/jpeg:https://www.doctorwine.wine/wp-content/uploads/2025/04/Maggio-in-Cantina.jpg
ORGANIZER;CN="Vite in Riviera":MAILTO:info@viteinriviera.it
END:VEVENT
BEGIN:VEVENT
DTSTART;VALUE=DATE:20250524
DTEND;VALUE=DATE:20250526
DTSTAMP:20260419T233427
CREATED:20250424T080617Z
LAST-MODIFIED:20250424T080617Z
UID:35966-1748044800-1748217599@www.doctorwine.wine
SUMMARY:Cantine Aperte 2025
DESCRIPTION:Cantine Aperte returns on the last weekend of May with an edition that focuses everything onhospitality innovation and new wine tourism trends.\nFor this year\, Cantine Aperte will be a showcase of new Italian wine tourism innovations. May 24 and 25 will be an opportunity to offer wine tourists a unique experience\, presenting new proposals for the tourist season.  \nThe goal: to make the event the great showcase of the most innovative and diverse wine tourism experiences\, the new experiences designed by MTV member wineries that will then be offered throughout the year. \nFocus 2025: slower\, more attentive tourism\, with customized proposals made to suit the visitor’s needs. \nOpportunities for wineries: promote new and competitive experiences\, the result of a focused study on diversification of supply. \nCantine Aperte aims to be a unique opportunity to showcase the best of MTV wineries’ hospitality and offer the public increasingly engaging experiences that appeal to the wineries’ chosen target audience (wine experts\, nature lovers\, families\, the curious who want to get closer to the world of wine etc). \nIndeed\, the survey conducted by CESEO – Centro Studi Enoturistico e Oleoturistico of LUMSA University confirms that today’s wine tourists are looking for more than just wine tasting. MTV wineries are responding with increasingly rich proposals: \n\nLandscape and culture – Immersive trails among vineyards and local history (33% of wineries organize picnics in the vineyard\, 30% vineyard walks)\nTypical Gastronomy – Authentic pairings with local flavors (87%)\nRelaxation and fun – Tailored experiences for every type of visitor\n\nOn Saturday\, May 24 and Sunday\, May 25 (choice of one or both dates) throughout Italy\, a unique event dedicated to families\, young people\, the curious wine tourist or those looking for authentic and tailored experiences\, and the nature lover. \nAll details about participating wineries and proposed experiences are on the official website of the MTV – Movimento Turismo del Vino . Reservations are required.
URL:https://www.doctorwine.wine/event/cantine-aperte-2025/?lang=en
LOCATION:In tutta Italia\, Italy
CATEGORIES:Tasting
ATTACH;FMTTYPE=image/png:https://www.doctorwine.wine/wp-content/uploads/2025/04/Cantine-Aperte.png
END:VEVENT
END:VCALENDAR