BEGIN:VCALENDAR
VERSION:2.0
PRODID:-//DoctorWine - ECPv6.15.18//NONSGML v1.0//EN
CALSCALE:GREGORIAN
METHOD:PUBLISH
X-ORIGINAL-URL:https://www.doctorwine.wine/?lang=en
X-WR-CALDESC:Events for DoctorWine
REFRESH-INTERVAL;VALUE=DURATION:PT1H
X-Robots-Tag:noindex
X-PUBLISHED-TTL:PT1H
BEGIN:VTIMEZONE
TZID:Europe/Rome
BEGIN:DAYLIGHT
TZOFFSETFROM:+0100
TZOFFSETTO:+0200
TZNAME:CEST
DTSTART:20240331T010000
END:DAYLIGHT
BEGIN:STANDARD
TZOFFSETFROM:+0200
TZOFFSETTO:+0100
TZNAME:CET
DTSTART:20241027T010000
END:STANDARD
BEGIN:DAYLIGHT
TZOFFSETFROM:+0100
TZOFFSETTO:+0200
TZNAME:CEST
DTSTART:20250330T010000
END:DAYLIGHT
BEGIN:STANDARD
TZOFFSETFROM:+0200
TZOFFSETTO:+0100
TZNAME:CET
DTSTART:20251026T010000
END:STANDARD
BEGIN:DAYLIGHT
TZOFFSETFROM:+0100
TZOFFSETTO:+0200
TZNAME:CEST
DTSTART:20260329T010000
END:DAYLIGHT
BEGIN:STANDARD
TZOFFSETFROM:+0200
TZOFFSETTO:+0100
TZNAME:CET
DTSTART:20261025T010000
END:STANDARD
END:VTIMEZONE
BEGIN:VEVENT
DTSTART;VALUE=DATE:20250531
DTEND;VALUE=DATE:20250602
DTSTAMP:20260419T164335
CREATED:20250418T143712Z
LAST-MODIFIED:20250418T143712Z
UID:35878-1748649600-1748822399@www.doctorwine.wine
SUMMARY:Liguria - May in the Cellar
DESCRIPTION:May in the Cellar will take place in Liguria during May 2025 involving the 20 member wineries of the Vine In Riviera Business Network\, wineries in western Liguria (Imperia and Savona provinces)\nMay in the Cellar: on all weekends in May and until June 1\, wineries in the Vite In Rivera network will open the doors of their premises for visits and tastings at km0 by reservation\, offering some typical products to accompany them. \nThe added value is provided by storytelling from the viva voce of the producers themselves\, in evocative locations\, often close to the vineyards. There will of course be no shortage of opportunities to buy directly on site. At some of the same wineries it will be possible to complete the food and wine experience at the table and extend the stopover for one or more nights.   \nMay in the Cellar is the first step on a path aimed at developing wine tourism in Liguria. \nHere are the businesses that are ready to welcome you on weekends in May by reservation: \n\nAzienda Agricola Bruna\, not only wine\, but also grappa.\nCascina Nirasca farm\, vineyard and winery tour with tasting.\nDell’Erba farm\, vineyard tour\, overnight and catering options. Also oil and local products. \nAzienda Agricola Foresti Marco\, winery tour\nInnocenzo Turco Farm\, visit to the winery and vineyard. Restaurant\nRamoino Farm\, visit to the winery and vineyard. Restaurant. Notes: travel by car is necessary to reach the vineyard.  \nTorre Pernice farm\, vineyard tour. Restaurant in the evening with possibility of overnight stay. \nBio Vio organic farm\, visit to winery and vineyard. Restaurant and possibility of overnight stay. Not only wine but also 100% Taggiasca oil.  \nCascina Feipu Dei Massaretti winery and vineyard tour.\nCooperativa Viticoltori Ingauni\, saucer tastings every Saturday from 10 a.m. to 1 p.m. Not only wine\, but also jams and grappa. \nIl Baggio Pellegrino\, vineyard tour with the possibility of an overnight stay. Not only wine\, but also EVO oil. \nThe Old Cellar\, visit to the vineyard.\nRoccaVinealis Agricultural Society\, visit to the vineyard and winery with the possibility of an overnight stay.\nViarzo Agricultural Society\, visit to the vineyard and winery.\nMaffone Estate\, vineyard and winery tour. Not only wine but also EVO oil\, olives\, grappa. \n\nTo view participating wineries\, dates and booking contacts: https://www.viteinriviera.it/maggio-in-cantina/
URL:https://www.doctorwine.wine/event/liguria-may-in-the-cellar-5/?lang=en
LOCATION:Liguria
CATEGORIES:Tasting
ATTACH;FMTTYPE=image/jpeg:https://www.doctorwine.wine/wp-content/uploads/2025/04/Maggio-in-Cantina.jpg
ORGANIZER;CN="Vite in Riviera":MAILTO:info@viteinriviera.it
END:VEVENT
BEGIN:VEVENT
DTSTART;VALUE=DATE:20250601
DTEND;VALUE=DATE:20250602
DTSTAMP:20260419T164335
CREATED:20250516T100445Z
LAST-MODIFIED:20250516T100445Z
UID:36789-1748736000-1748822399@www.doctorwine.wine
SUMMARY:Scollinando - the gluttonous walk among the vineyards of Historic Buttafuoco
DESCRIPTION:Scollinando – the gourmet walk among the vineyards of Historic Buttafuoco – is back. Sunday\, June 1 from 10 a.m.\,\nin Canneto Pavese. \nThe gourmet walk among the vineyards of Historic Buttafuoco.\nOn Sunday\, June 1\, the Historic Buttafuoco Club is relaunching a new edition of Scollinando – a gourmet walk among the vineyards of Historic Buttafuoco\, the traveling food and wine experience in the hills of Oltrepò Pavese  \nIt starts at the House of Historic Buttafuoco\, the Club’s Enoteca in Piazzetta Buttafuoco in Canneto Pavese. \nParticipants-divided into groups with staggered departures starting at 10 a.m. -walk in the hills with tasty stops among the rows of Rogolino\, Bricco in Versira and Pianlong vineyards. A route of about 6 kilometers\, easily practicable and suitable for the whole family to immerse themselves in the typical flavors and spring landscapes of Oltrepò Pavese.  \nThe opinion of Historical Buttafuoco Club President Massimo Piovani:\n“Scollinando” is a long lunch in which each course-from appetizer to dessert-is served in a different location and each stop corresponds to a tasting\, paired with glasses of Historic Buttafuoco from all member companies. \nWith this edition\, the Historic Buttafuoco Club once again confirms its desire to relaunch an appointment that over time has consolidated itself as a moment of encounter\, food and wine promotion and enhancement of the hilly landscape of Oltrepò Pavese. An opportunity\, therefore\, to immerse oneself among vineyards\, authentic flavors and tales of a land with an ancient heart and generous character.”  \nGastronomic delights\nUpon arrival at the first two vineyards\, participants find Miccone di Stradella with salami and focaccia with coppa and pancetta. They continue to the Canneto Pavese Municipal Park for the traditional risotto with salami paste nuanced with Buttafuoco\, prepared by the Confraternita del Risotto. At the third vineyard\, on the other hand\, cooked salami with parmesan shavings is ready\, while the return to the wine shop reserves a taste of Buttafuoco Chinato\, served with chocolate shavings\, to close this taste experience.   \nFor information and reservations:\nPlaces are limited and reservations remain open until Friday\, May 30. \n📞 339 3012636 – 0385 60154\nwww.buttafuocostorico.com
URL:https://www.doctorwine.wine/event/scollinando-the-gluttonous-walk-among-the-vineyards-of-historic-buttafuoco/?lang=en
LOCATION:Canneto Pavese\, Piazzetta Buttafuoco\, Canneto Pavese\, Italy
CATEGORIES:Tasting
ATTACH;FMTTYPE=image/jpeg:https://www.doctorwine.wine/wp-content/uploads/2025/05/Scollinando-la-camminata-golosa-tra-le-vigne-del-Buttafuoco-Storico-2.jpg
END:VEVENT
BEGIN:VEVENT
DTSTART;VALUE=DATE:20250601
DTEND;VALUE=DATE:20250602
DTSTAMP:20260419T164335
CREATED:20250518T080158Z
LAST-MODIFIED:20250518T080158Z
UID:36813-1748736000-1748822399@www.doctorwine.wine
SUMMARY:La Vieste en Rose
DESCRIPTION:Vieste en Rose 2025 is the event that inaugurates the Gargano town’s summer. The appointment is for June 1\, 2025 with tastings of rosé wines from Puglia and from all over Italy\, art\, music and entertainment. \nLa Vieste en Rose in brief\nOver 200 wineries\, not only from Puglia but also from Italy and internationally. This is the beating heart of the sixth edition of the  La Vieste en Rose\, the festival that\, from May 29 to June 1\, will transform the historic center of Vieste into an enchanted path among the thousand shades of the rosé wine. An experience to be lived with all the senses\, among tales of vineyards\, music\, art and authentic flavors. In the charming setting of the seaside village\, the city will be dressed in pink: every corner of the historic center will come alive with themed displays\, soft lighting\, tastings and meetings that mix the pleasure of wine with the discovery of those who produce it\, tell about it and love it.  \nAt the tasting tables\, excellence from the Puglia\, from all over Italy and the rest of the world\, such as. France\, Germany\, Austria\, Bulgaria\, Chile\, Colombia\, Spain\, Greece\, Portugal\, Moldova\, Romania\, Turkey and Slovakia. A mosaic of cultures that will give visitors an extraordinary wine panorama\, projecting the event among the reference events of the national food and wine scene. \nVieste en Rose is much more than a wine festival: it is a journey through excellence and small great discoveries\, in which every glass becomes a story to be listened to. \nPartners\nStrongly desired by Partesa\, a leading company in the food & beverage sector\, specializing in the sale and distribution of beverages for the ho.re.ca channel\, La Vieste en Rose has had great support from the Municipality of Vieste from the beginning. Over the years it has become an absolute reference point for the area\, acquiring a national and international dimension\, finding such valuable shores as ICE (Agency for the promotion abroad and internationalization of Italian companies) and the Concours Mondial de Bruxelles\, the world’s top wine competition dedicated to wines. An event\, La Vieste en Rose\, that combines culture and entertainment\, enhancing rosé as an authentic expression of the territory\, an ambassador of Puglia in the world.   \nWine and more\n“Vieste is once again confirmed as the capital of wine and food tourism\, offering all visitors an unmissable opportunity to experience our territory in an authentic and engaging way\,” explained Graziamaria Starace\, Councillor for Tourism of the Municipality of Vieste. \nAnd while the wine tells\, the music accompanies: between street artists\, live concerts and traveling performances\, each evening will become a widespread party\, culminating in the grand final celebration with music and dancing under the stars. \nAlong with wine\, taste will also be the protagonist: thanks to the involvement of restaurant businesses in the historic center\, which will present themed menus\, proposing typical local products\, the perfect combination of rosé and food will be practically guaranteed. Not to mention the presence of producers from the Slow Food circuit\, for a gastronomic itinerary that celebrates the best of Made in Italy.  \nBut that’s not all: accompanying the tastings is a jam-packed program of masterclasses\, seminars and talks\, led by more than fifty technicians\, oenologists\, and international wine and food journalists\, to discover up close the characteristics\, potential and wonders of rosé wine. \nRosé wine\n“It’s been about 20 years that the growth of rosé wine consumption is remarkable\, and these events make its nuances fully known\,” told Enzo Scivetti\, a consultant\, lecturer and trainer in wine\, spirits\, cigars\, catering and hotels. \nFor Massimo Di Cintio\, food and wine journalist\, “rosé wine is growing strongly\, it is entering people’s hearts also thanks to its versatility. Consumption is increasing\, its consideration is increasing\, and this is an opportunity to enjoy it to the full in a very beautiful setting such as Vieste.” \nVieste en Rose is not just an event\, but a way to experience the area\, to celebrate its identity and to toast in style to the summer that is about to begin\, among taste\, art\, conviviality and breathtaking views. \nUseful information\nParticipating in La Vieste en Rose will be very easy: simply purchase a ticket at www.laviesteenrose.com and\, starting at 7 p.m. on June 1\, go to the info points set up in the historic center to pick up your ticket\, goblet and goblet holder.
URL:https://www.doctorwine.wine/event/la-vieste-en-rose/?lang=en
LOCATION:Centro Storico di Vieste\, Vieste (Foggia)\, Italy
CATEGORIES:Events Apulia,Tasting
ATTACH;FMTTYPE=image/jpeg:https://www.doctorwine.wine/wp-content/uploads/2025/05/La-vieste-en-rose-e1747555664968.jpg
END:VEVENT
END:VCALENDAR