BEGIN:VCALENDAR
VERSION:2.0
PRODID:-//DoctorWine - ECPv6.15.20//NONSGML v1.0//EN
CALSCALE:GREGORIAN
METHOD:PUBLISH
X-WR-CALNAME:DoctorWine
X-ORIGINAL-URL:https://www.doctorwine.wine/?lang=en
X-WR-CALDESC:Events for DoctorWine
REFRESH-INTERVAL;VALUE=DURATION:PT1H
X-Robots-Tag:noindex
X-PUBLISHED-TTL:PT1H
BEGIN:VTIMEZONE
TZID:Europe/Rome
BEGIN:DAYLIGHT
TZOFFSETFROM:+0100
TZOFFSETTO:+0200
TZNAME:CEST
DTSTART:20240331T010000
END:DAYLIGHT
BEGIN:STANDARD
TZOFFSETFROM:+0200
TZOFFSETTO:+0100
TZNAME:CET
DTSTART:20241027T010000
END:STANDARD
BEGIN:DAYLIGHT
TZOFFSETFROM:+0100
TZOFFSETTO:+0200
TZNAME:CEST
DTSTART:20250330T010000
END:DAYLIGHT
BEGIN:STANDARD
TZOFFSETFROM:+0200
TZOFFSETTO:+0100
TZNAME:CET
DTSTART:20251026T010000
END:STANDARD
BEGIN:DAYLIGHT
TZOFFSETFROM:+0100
TZOFFSETTO:+0200
TZNAME:CEST
DTSTART:20260329T010000
END:DAYLIGHT
BEGIN:STANDARD
TZOFFSETFROM:+0200
TZOFFSETTO:+0100
TZNAME:CET
DTSTART:20261025T010000
END:STANDARD
END:VTIMEZONE
BEGIN:VEVENT
DTSTART;VALUE=DATE:20250701
DTEND;VALUE=DATE:20250702
DTSTAMP:20260422T161209
CREATED:20250619T105402Z
LAST-MODIFIED:20250619T105402Z
UID:38512-1751328000-1751414399@www.doctorwine.wine
SUMMARY:Rome - Bererosa 2025
DESCRIPTION:Bererosa 2025: On Tuesday\, July 1\, from 5 p.m. to 11 p.m.\, the 14th Edition comes to life at the Villa Appia Antica in Rome to celebrate Italian rosés\, a sector on the rise in quality\nMore than 130 labels in tastings for a tour to discover one of the most fascinating productions of Italian oenology \nBererosa returns to the evocative open spaces of Villa Appia Antica\, the location that for five years has celebrated the great still and sparkling rosé wines of the Belpaese\, a production that makes quality and identity its strong points. \nAppointment Tuesday\, July 1\, from 5 to 11 p.m. to learn about a selection of more than 130 labels representing the best rosé productions from the north to the south of the Peninsula\, discovering the most iconic rosé wines of each region\, amid ancient trees and vestiges of ancient Rome. \n“Pink wines with geographical indications in 2024 counted one million and 450 thousand hectoliters produced\,” says Francesco D’Agostino director of Cucina & Vini\, “losing about eighty thousand hectoliters compared to 2021 (5.3%)\, of which almost sixty thousand are to be ascribed to Prosecco DOC\, whose variations have different origins\, linked and global market movements. In fact\, it remains largely the leading region with about 460\,000 hectoliters produced\, followed by Emilia Lambrusco Igt close to 135\,000 hectoliters. As for rosé wines as a whole\, in 2024 we produced pink wines for about two million one hundred and fifty thousand hectoliters\, registering a reduction of 7.6 percent over 2021. Basically\, the production of certified origin holds\, while the process of reduction of simpler productions that do not declare the origin continues.” \nOrganizational details\nAs every year\, Bererosa will take place with the Walk Around Tasting formula\, which will allow the public to taste absolutely fine labels\, walking freely through the enchanting Villa Appia Antica\, pairing them with a great selection of food proposals. From the seafood specialties of Pescaria\, the chain of restaurants made in Puglia\, with their fish sandwiches\, all also available in a vegetarian version\, and the cartocci of fried fish and vegetables alike\, to the ever-present Roman pizza stuffed with mortadella from the Sfornaio food truck. There will also be Cosmic Crisp\, the apples of the future born from a cross between the Enterprise and Honeycrisp varieties\, which can also be learned about with a ride on the Cosmic Crisp hot air balloon. There will be no shortage of space dedicated to extra virgin olive oils selected by Olives Road\, and\, in addition\, the entire tasting trail will be supported by the use of VDGlass’ top-notch glasses.    \nUseful Information:\nBererosa 2025 Tuesday\, July 1 from 5 to 11 p.m. \nAppia Antica Park Via Pompeo Licinio\, 87 Rome \nOnline ticketing at the link\, also available at the event \nInfo: bererosa@cucinaevini.it; Tel. 0698872584
URL:https://www.doctorwine.wine/event/rome-bererosa-2025/?lang=en
LOCATION:Parco dell’Appia Antica\, Via Pompeo Licinio\, 87\, Roma
CATEGORIES:Rome Events,Tasting
ATTACH;FMTTYPE=image/jpeg:https://www.doctorwine.wine/wp-content/uploads/2025/06/loca-Bererosa-scaled-1-e1750330358901.jpg
END:VEVENT
END:VCALENDAR