BEGIN:VCALENDAR
VERSION:2.0
PRODID:-//DoctorWine - ECPv6.15.18//NONSGML v1.0//EN
CALSCALE:GREGORIAN
METHOD:PUBLISH
X-ORIGINAL-URL:https://www.doctorwine.wine/?lang=en
X-WR-CALDESC:Events for DoctorWine
REFRESH-INTERVAL;VALUE=DURATION:PT1H
X-Robots-Tag:noindex
X-PUBLISHED-TTL:PT1H
BEGIN:VTIMEZONE
TZID:Europe/Rome
BEGIN:DAYLIGHT
TZOFFSETFROM:+0100
TZOFFSETTO:+0200
TZNAME:CEST
DTSTART:20240331T010000
END:DAYLIGHT
BEGIN:STANDARD
TZOFFSETFROM:+0200
TZOFFSETTO:+0100
TZNAME:CET
DTSTART:20241027T010000
END:STANDARD
BEGIN:DAYLIGHT
TZOFFSETFROM:+0100
TZOFFSETTO:+0200
TZNAME:CEST
DTSTART:20250330T010000
END:DAYLIGHT
BEGIN:STANDARD
TZOFFSETFROM:+0200
TZOFFSETTO:+0100
TZNAME:CET
DTSTART:20251026T010000
END:STANDARD
BEGIN:DAYLIGHT
TZOFFSETFROM:+0100
TZOFFSETTO:+0200
TZNAME:CEST
DTSTART:20260329T010000
END:DAYLIGHT
BEGIN:STANDARD
TZOFFSETFROM:+0200
TZOFFSETTO:+0100
TZNAME:CET
DTSTART:20261025T010000
END:STANDARD
END:VTIMEZONE
BEGIN:VEVENT
DTSTART;VALUE=DATE:20250702
DTEND;VALUE=DATE:20250703
DTSTAMP:20260419T164216
CREATED:20250611T092613Z
LAST-MODIFIED:20250616T074043Z
UID:37908-1751414400-1751500799@www.doctorwine.wine
SUMMARY:Degustazione di inizio Estate
DESCRIPTION:Early Summer Tasting: Wednesday\, July 2 Tasting Banquet returns to the Cloisters of St. Barnabas\nOn Wednesday\, July 2\, one of the most anticipated events of the Milanese summer dedicated to the world of wine is back: the FISAR Milano Duomo Tasting Banco. After the success of the first edition\, the event is preparing to replicate – and surpass – last year’s enthusiasm\, transforming the evocative Cloisters of San Barnaba into a stage of flavors\, encounters and wine stories.  \nFrom 6 p.m. to 10:30 p.m.\, visitors will be able to immerse themselves in a real journey between glasses and territories\, thanks to the presence of 30 producers from all over Italy and abroad\, ready to tell about their labels and the philosophy that animates them. A unique opportunity to taste wines ranging from the most authentic tradition to the most innovative proposals\, always with a focus on quality and territorial identity.  \nThe Cloisters of San Barnaba\, in the heart of Milan\, will provide a refined and relaxing setting\, perfect for sipping and talking with leading figures in the field. \n DoctorWine will also be present during the evening \, presenting its new book “Wines for Summer.” An unmissable opportunity to discover a selection of fresh\, versatile labels perfect for the season.  \nThe event is open to all\, and is especially recommended for enthusiasts\, industry professionals and the merely curious. \nPractical info:\nLocation: Cloisters of San Barnaba\, Milan\nDate: Wednesday\, July 2\nHours: 6:00 p.m. to 10:30 p.m. \nReservation required: eventi@fisarmilanoduomo.itLimited seats – hurry to reserve! \nInfo on Facebook page Fisar Milano Duomo
URL:https://www.doctorwine.wine/event/degustazione-di-inizio-estate/?lang=en
LOCATION:Chiostri di San Barnaba\, Milano\, Italy
CATEGORIES:Milan Events,Tasting
ATTACH;FMTTYPE=image/jpeg:https://www.doctorwine.wine/wp-content/uploads/2025/06/Degustazione-di-Inizio-Estate.jpg
ORGANIZER;CN="Fisar Milano Duomo":MAILTO:info@fisarmilanoduomo.it
END:VEVENT
END:VCALENDAR