BEGIN:VCALENDAR
VERSION:2.0
PRODID:-//DoctorWine - ECPv6.15.20//NONSGML v1.0//EN
CALSCALE:GREGORIAN
METHOD:PUBLISH
X-WR-CALNAME:DoctorWine
X-ORIGINAL-URL:https://www.doctorwine.wine/?lang=en
X-WR-CALDESC:Events for DoctorWine
REFRESH-INTERVAL;VALUE=DURATION:PT1H
X-Robots-Tag:noindex
X-PUBLISHED-TTL:PT1H
BEGIN:VTIMEZONE
TZID:Europe/Rome
BEGIN:DAYLIGHT
TZOFFSETFROM:+0100
TZOFFSETTO:+0200
TZNAME:CEST
DTSTART:20240331T010000
END:DAYLIGHT
BEGIN:STANDARD
TZOFFSETFROM:+0200
TZOFFSETTO:+0100
TZNAME:CET
DTSTART:20241027T010000
END:STANDARD
BEGIN:DAYLIGHT
TZOFFSETFROM:+0100
TZOFFSETTO:+0200
TZNAME:CEST
DTSTART:20250330T010000
END:DAYLIGHT
BEGIN:STANDARD
TZOFFSETFROM:+0200
TZOFFSETTO:+0100
TZNAME:CET
DTSTART:20251026T010000
END:STANDARD
BEGIN:DAYLIGHT
TZOFFSETFROM:+0100
TZOFFSETTO:+0200
TZNAME:CEST
DTSTART:20260329T010000
END:DAYLIGHT
BEGIN:STANDARD
TZOFFSETFROM:+0200
TZOFFSETTO:+0100
TZNAME:CET
DTSTART:20261025T010000
END:STANDARD
END:VTIMEZONE
BEGIN:VEVENT
DTSTART;VALUE=DATE:20250901
DTEND;VALUE=DATE:20251101
DTSTAMP:20260423T060108
CREATED:20250811T161759Z
LAST-MODIFIED:20250811T161759Z
UID:40028-1756684800-1761955199@www.doctorwine.wine
SUMMARY:Cantine Aperte In Vendemmia 2025
DESCRIPTION:Cantine Aperte In Vendemmia 2025 (Open Cellars In Harvest) \, MTV’s event returns to celebrate the highlight of the wine year  \nSeptember and October in Italy have an unmistakable scent: that of freshly harvested grapes and fermenting must. Cantine Aperte in Vendemmia 2025\, organized by the Wine Tourism Movement\, is the perfect opportunity to experience the most exciting time of the wine year up close.  \nThis is not just a simple tasting. Cantine Aperte In Vendemmia is a journey through vineyards laden with grapes\, wineries in ferment and territories that\, precisely in autumn\, show themselves in their most authentic guise. You can witness the magic of the harvest\, learn the secrets of winemaking\, meet winemakers and listen to stories rooted in tradition.   \nParticipating wineries will open their doors in all Italian regions\, offering guided tours\, tastings of wines and local specialties\, and walks among the rows. There will be no shortage of festive moments with live music\, performances and cultural activities. In many realities it will be possible to participate in simulated grape harvests or educational workshops\, also perfect for families.   \nFor wine tourism enthusiasts\, it is an opportunity to discover different territories\, from Piedmont to Sicily\, and live an experience that combines education\, conviviality and discovery. The atmosphere one breathes is that of a widespread celebration: each winery interprets the event in its own way\, but all share the same passion for wine and the desire to tell its story.  \nThe 2025 edition will run throughout September and October\, with a continuously updated calendar: exact dates\, activities and participating wineries will soon be available on the Wine Tourism Movement’s official page. \nIf you love wine and its culture\, Cantine Aperte in Vendemmia is an appointment to mark in your calendar: an opportunity to connect with the land\, experience autumn in an intense way and take home not only fine bottles\, but also memories and encounters that will remain in time. \nThe detailed program is still being finalized\, but the event will extend throughout September and October throughout Italy. The list of participating wineries and organized initiatives will soon be available on the official page  \n 
URL:https://www.doctorwine.wine/event/cantine-aperte-in-vendemmia-2025/?lang=en
LOCATION:In tutta Italia\, Italy
CATEGORIES:Tasting,Widespread event
ATTACH;FMTTYPE=image/jpeg:https://www.doctorwine.wine/wp-content/uploads/2025/08/Cantine-aperte-in-vendemmia.jpg
END:VEVENT
BEGIN:VEVENT
DTSTART;VALUE=DATE:20250908
DTEND;VALUE=DATE:20250909
DTSTAMP:20260423T060108
CREATED:20250904T074641Z
LAST-MODIFIED:20250904T074641Z
UID:41008-1757289600-1757375999@www.doctorwine.wine
SUMMARY:Verona - Appuntamento Soave
DESCRIPTION:Appuntamento Soave (Soave appointment): contemporary elegance. On Sept. 8\, at the Circolo Ufficiali in Verona\, the event dedicated to the best of Soave interpretations returns. \nThe “Appuntamento Soave” event.\nOn Monday\, September 8\, at the Circolo Ufficiali di Castelvecchio (Verona)\, Appuntamento Soave returns\, the event\, curated by the Consorzio di Tutela del Soave in collaboration with the Strada del Vino Soave and the support of Banco BPM\, dedicated to the best interpretations of the iconic Italian white wine\, a symbol of Made in Italy worldwide. \nElegance in elegance\, this year\, for an edition that sees the participation of more than 40 member wineries\, on the most beautiful terrace of Verona\, underlining the strong link with the city of Verona. In fact\, the event was created with the intention of telling the story of Soave starting from the heart of Verona\, divulging the excellence of the wine and the beauty of the hills – recognized as a world agricultural heritage by the FAO – to sector operators\, specialized press\, wine lovers and enthusiasts.  \nContemporary\, indigenous\, and elegant will be the adjectives that will return often in the 2025 edition of Appuntamento Soave\, starting with which seminars\, masterclasses\, talk shows dedicated to current issues for the sector\, and tasting counters will kick off. Space will also be given to an analysis of the evolutionary potential that characterizes Soave. Elegance\, which in Soave is found both when one is faced with a vintage glass\, fresher and fruitier\, and when one is faced with a more evolved glass\, with references to minerality and tertiary scents.   \nFormat:\nBetween seminars\, tasting counters and talk shows dedicated to current events in the sector\, Soave presents itself as an icon of Italian white wine. Wine elegance\, contemporaneity with respect to consumption trends\, evolutionary potential among the topics that will be addressed.  \nThe format\, while dedicated to wine\, is intended as an opportunity for cultural discussion on major contemporary issues\, clearly interconnected with the world of wine production. The value of Soave’s enological identity\, its marked contemporaneity\, the importance of its landscape and the versatility of a wine that is excellent when enjoyed young and fresh\, but surprising when left to evolve a few years in the bottle\, will be explored. It will be an intense day featuring producers\, sommeliers and the restaurant world.   \n“Appuntamento Soave” will speak to the press and operators\, will address in a privileged way to the world of catering and sommelierie\, but also to the public of enthusiasts and the less experienced\, because\, let’s not forget\, wine is first of all the pleasure of conviviality and the joy of being together. \nThe day’s program:\nMonday\, September 8\, 2025 \n\n10:30 a.m. – “Soave\, from freshness to longevity ” – training seminar by AIS\n2 p.m. – “Soave Seven\, from freshness to longevity ” – Masterclass conducted by Jeff Porter\, Wine Enthusiast’s signature for Italy.\n4:00 p.m. – “Soave\, authentic\, indigenous\, contemporary ” – Round Table with Michele Cannone (Lavazza Global Brand Director); Achille Scudieri (Vice President Adler Group – Director of Tenute Scudieri); Barba Ferro (Managing Director of Veronafiere Spa); Jeff Porter (Wine Enthusiast); Mons. Bruno Fasani (President of the Fondazione Biblioteca Capitolare di Verona and Director of Telepace); Cristian Ridolfi (President of Consorzio del Consorzio del Soave). Luciano Ferraro\, deputy editor of Corriere della Sera\, will moderate the meeting. \n6:30 p.m. – Opening of the event to the public – an elegant tasting counter on the banks of the Adige River\, on Verona’s most beautiful terrace. There will be small tastings of typical local products by the Soave Wine Road. \n\nFull details on the official page www.ilsoave.com
URL:https://www.doctorwine.wine/event/verona-appuntamento-soave/?lang=en
LOCATION:Circolo Ufficiali di Castelvecchio\, Verona\, Italy
CATEGORIES:Tasting,Veneto Event
ATTACH;FMTTYPE=image/jpeg:https://www.doctorwine.wine/wp-content/uploads/2025/09/Appuntamento-Soave.jpg
END:VEVENT
BEGIN:VEVENT
DTSTART;TZID=Europe/Rome:20250908T190000
DTEND;TZID=Europe/Rome:20250914T000000
DTSTAMP:20260423T060108
CREATED:20250728T080053Z
LAST-MODIFIED:20250728T080053Z
UID:39566-1757358000-1757808000@www.doctorwine.wine
SUMMARY:Vinòforum 2025 - Rome
DESCRIPTION:Vinòforum: Piazza di Siena is the stage for the 2025 edition\, for the first time in September\nFrom September 8 to 14\, Vinòforum opens a Premium Edition in the beautiful setting of Piazza di Siena (Villa Borghese).   \nDinners with Great Chefs and Master Pizza Makers\, Guided Tastings\, Temporary Restaurant\, Challenge & Blind Tasting for Operators\, Master Classes and Top Tastings: At Vinòforum\, not only wine and food are celebrated\, but the food and wine experience is redefined. \nVinòforum\, news and previews of the 2025 edition\nIt will be held for the first time in September and in an all-new location\, once again in the heart of Rome\, the 2025 edition of Vinòforum: For its 22nd edition Vinoforum Roma changes venue and\, from September 8 to 14\, 2025\, will have as its setting one of the most prestigious locations in the world: the Piazza di Siena inside Villa Borghese. It will then return to the Circus Maximus in 2026.  \nThe program consists of 7 days\n\nThe Night Dinner\, Great Chefs and Great Wines.: Vinòforum dedicates a stage to haute cuisine that goes perfectly with spirits and great wines. A calendar of meetings signed by great partners in a unique tasting path. Great chefs and master pizza makers will create dinners paired with signature wines and mixology.  \nExhibiting Companies: The Great Territories of Wine: 3\,200 labels for tasting. From Valle d’Aosta to Sardinia\, with some international excellence. At Vinòforum\, wine and gastronomic companies present themselves to the public of operators and great enthusiasts.  \nKitchens at a Glance\, catering protagonist: Restaurants of Rome and Lazio at Piazza di Siena. Vinòforum\, as part of the Roma Food Policy project\, inaugurates a space promoting the gastronomic culture of the region. For 7 days\, 21 restaurants in Rome (and beyond) will transfer their kitchens to Vinòforum preparing a menu of two unique dishes.  \nTraining and Great Tastings.  A space dedicated to wineries that want to focus on their products through guided tastings and appointments aimed at the trade. Vinòforum\, in collaboration with AIS Lazio\, hosts a calendar of guided tastings and unique stories that pay tribute to the excellence of world oenology through the voices of its protagonists: producers\, oenologists and well-known tasters. Very limited seats ready to welcome only the great enthusiasts.  \nBusiness Lounge and Public Relations The Sunsquare Arena is the brand new space signed by Vinòforum in collaboration with interior design companies Sunsquare and Grandsoleil Spa. An open-air lounge\, an area reserved for Italian and international Wine Companies and Groups that want to take part in the event through the organization of events reserved exclusively for a trade audience. Entrance by invitation only.  \nFood & Co. Major Industry Companies.: Dedicated to companies that want to promote their products to a highly profiled audience of industry professionals and consumers. Vinoforum is a spokesman for Made in Italy. \n\nUseful Information\nThe appointment is at Piazza di Siena – Villa Borghese (Rome) from Monday\, September 8 to Sunday\, September 14\, 2025. The event will be open daily from 19 to 24 (Friday and Saturday 19 – 01)  \nTickets can be purchased at the event (while seats last) or online \n*Under 18s do not pay admission and can enter only when accompanied by an adult.* \n 
URL:https://www.doctorwine.wine/event/vinoforum-2025-rome/?lang=en
LOCATION:Piazza di Siena\, Villa Borghese\, Roma\, Italy
CATEGORIES:Fair,Rome Events,Tasting
ATTACH;FMTTYPE=image/jpeg:https://www.doctorwine.wine/wp-content/uploads/2025/07/Vinoforum.jpg
END:VEVENT
END:VCALENDAR