BEGIN:VCALENDAR
VERSION:2.0
PRODID:-//DoctorWine - ECPv6.15.20//NONSGML v1.0//EN
CALSCALE:GREGORIAN
METHOD:PUBLISH
X-WR-CALNAME:DoctorWine
X-ORIGINAL-URL:https://www.doctorwine.wine/?lang=en
X-WR-CALDESC:Events for DoctorWine
REFRESH-INTERVAL;VALUE=DURATION:PT1H
X-Robots-Tag:noindex
X-PUBLISHED-TTL:PT1H
BEGIN:VTIMEZONE
TZID:Europe/Rome
BEGIN:DAYLIGHT
TZOFFSETFROM:+0100
TZOFFSETTO:+0200
TZNAME:CEST
DTSTART:20240331T010000
END:DAYLIGHT
BEGIN:STANDARD
TZOFFSETFROM:+0200
TZOFFSETTO:+0100
TZNAME:CET
DTSTART:20241027T010000
END:STANDARD
BEGIN:DAYLIGHT
TZOFFSETFROM:+0100
TZOFFSETTO:+0200
TZNAME:CEST
DTSTART:20250330T010000
END:DAYLIGHT
BEGIN:STANDARD
TZOFFSETFROM:+0200
TZOFFSETTO:+0100
TZNAME:CET
DTSTART:20251026T010000
END:STANDARD
BEGIN:DAYLIGHT
TZOFFSETFROM:+0100
TZOFFSETTO:+0200
TZNAME:CEST
DTSTART:20260329T010000
END:DAYLIGHT
BEGIN:STANDARD
TZOFFSETFROM:+0200
TZOFFSETTO:+0100
TZNAME:CET
DTSTART:20261025T010000
END:STANDARD
END:VTIMEZONE
BEGIN:VEVENT
DTSTART;VALUE=DATE:20250901
DTEND;VALUE=DATE:20251101
DTSTAMP:20260423T060553
CREATED:20250811T161759Z
LAST-MODIFIED:20250811T161759Z
UID:40028-1756684800-1761955199@www.doctorwine.wine
SUMMARY:Cantine Aperte In Vendemmia 2025
DESCRIPTION:Cantine Aperte In Vendemmia 2025 (Open Cellars In Harvest) \, MTV’s event returns to celebrate the highlight of the wine year  \nSeptember and October in Italy have an unmistakable scent: that of freshly harvested grapes and fermenting must. Cantine Aperte in Vendemmia 2025\, organized by the Wine Tourism Movement\, is the perfect opportunity to experience the most exciting time of the wine year up close.  \nThis is not just a simple tasting. Cantine Aperte In Vendemmia is a journey through vineyards laden with grapes\, wineries in ferment and territories that\, precisely in autumn\, show themselves in their most authentic guise. You can witness the magic of the harvest\, learn the secrets of winemaking\, meet winemakers and listen to stories rooted in tradition.   \nParticipating wineries will open their doors in all Italian regions\, offering guided tours\, tastings of wines and local specialties\, and walks among the rows. There will be no shortage of festive moments with live music\, performances and cultural activities. In many realities it will be possible to participate in simulated grape harvests or educational workshops\, also perfect for families.   \nFor wine tourism enthusiasts\, it is an opportunity to discover different territories\, from Piedmont to Sicily\, and live an experience that combines education\, conviviality and discovery. The atmosphere one breathes is that of a widespread celebration: each winery interprets the event in its own way\, but all share the same passion for wine and the desire to tell its story.  \nThe 2025 edition will run throughout September and October\, with a continuously updated calendar: exact dates\, activities and participating wineries will soon be available on the Wine Tourism Movement’s official page. \nIf you love wine and its culture\, Cantine Aperte in Vendemmia is an appointment to mark in your calendar: an opportunity to connect with the land\, experience autumn in an intense way and take home not only fine bottles\, but also memories and encounters that will remain in time. \nThe detailed program is still being finalized\, but the event will extend throughout September and October throughout Italy. The list of participating wineries and organized initiatives will soon be available on the official page  \n 
URL:https://www.doctorwine.wine/event/cantine-aperte-in-vendemmia-2025/?lang=en
LOCATION:In tutta Italia\, Italy
CATEGORIES:Tasting,Widespread event
ATTACH;FMTTYPE=image/jpeg:https://www.doctorwine.wine/wp-content/uploads/2025/08/Cantine-aperte-in-vendemmia.jpg
END:VEVENT
BEGIN:VEVENT
DTSTART;VALUE=DATE:20251001
DTEND;VALUE=DATE:20251005
DTSTAMP:20260423T060553
CREATED:20250816T084607Z
LAST-MODIFIED:20250816T084607Z
UID:40071-1759276800-1759622399@www.doctorwine.wine
SUMMARY:Insolito Marsala 2025 - Part 2.
DESCRIPTION:Insolito Marsala 2025 (Unusual Marsala) – A festival about the future of wine\, hospitality and culture\n“Insolito Marsala 2025” is an experience in and beyond wine. It combines education\, innovation\, culture\, taste and technology in a fascinating setting. A unique opportunity for wine lovers\, Ho.Re.Ca. professionals\, innovation enthusiasts and those who love to discover an unprecedented and vibrant Sicily. \n“Insolito Marsala” in fact is neither a festival nor a traditional fair\, but an experimental and hybrid project that combines wine\, Ho.Re.Ca. 3.0 (hotellerie-restaurant-cafeteria)\, innovative hospitality\, art and technology in one big immersive tale.  \nWhat the event consists of\n\nWine & Taste\n\nThe heart of the event is in the creative tastings: wines from Marsala dialogue with Italian products of excellence (Parmigiano Reggiano\, Culatello di Zibello\, Gorgonzola\, Limone di Siracusa) in taste journeys that combine storytelling\, territory and oenological identity \n\nVocational training\n\nThe facility provides two parallel and free routes each morning: \nInsolito Academy\, in collaboration with Bargiornale\, offers targeted workshops on communication\, sustainability\, management and new technologies for the Ho.Re.Ca. world. \nGAIN Academy\, made with Growth Advisors International Network\, offers international-level courses in hospitality tech\, artificial intelligence\, immersive environments\, digital twin\, NFT and innovative strategies \n\nArt\, innovation\, hospitality\n\nThe event transforms Marsala into a cultural laboratory: creative tastings\, mixology in historic bars\, immersive experiences\, urban art installations and international networking moments make it a living\, widespread and surprising festival \nUseful Information\nThe events take place in Marsala (TP)\, an iconic city in western Sicily\, with its welcoming sea and landscapes steeped in history. Iconic venues such as the Complesso Monumentale San Pietro and Palazzo Fici stand out in particular\, but they involve the entire city: restaurants\, bars\, shop windows and urban spaces become the stage for a festival capable of breaking the mold and involving the public and operators  \nThe date is for September 26-27 and October 1-4\, 2025 \nFull details\, continuously updated\, at https://insolitomarsala.com/
URL:https://www.doctorwine.wine/event/insolito-marsala-2025-part-2/?lang=en
LOCATION:Marsala\, Italy
CATEGORIES:Sicily Events,Tasting
ATTACH;FMTTYPE=image/jpeg:https://www.doctorwine.wine/wp-content/uploads/2025/08/Insolito-Marsala-2025.jpg
END:VEVENT
BEGIN:VEVENT
DTSTART;VALUE=DATE:20251004
DTEND;VALUE=DATE:20251005
DTSTAMP:20260423T060553
CREATED:20250927T083313Z
LAST-MODIFIED:20250927T083313Z
UID:43365-1759536000-1759622399@www.doctorwine.wine
SUMMARY:Conference Abbey Wines in Franciacorta
DESCRIPTION:Conference Abbey Wines in Franciacorta: “Wine culture and the identity of territories: the work of abbeys. Tradition\, spirituality and winemaking innovation between past\, present and future. \nThe Vittorio and Mariella Moretti Foundation will host\, at the evocative Convent of Santissima Annunciata in Franciacorta\, the conference “Wine culture and the identity of territories: the work of abbeys\,” organized by Abbey Wines and scheduled for Saturday\, October 4\, 2025 at 11:30 a.m. \nThe appointment promises to be a moment of professional discussion on the theme of the link between wine culture and territory\, focusing on the historical and contemporary role of abbeys in the enhancement of the landscape\, the dissemination of agricultural knowledge and the custody of the spirit of places. Tradition\, spirituality and innovation will be the keys to interpreting a day that intends to restore value to a shared heritage deeply rooted in Italian history and\, in particular\, in that of the Franciacorta territory\, which owes its orientation to a viticulture of excellence precisely to the work of the abbeys.  \nThe Convent of the Most Holy Annunciation\nThe choice of the Convent of the Santissima Annunciata as the venue for the conference is deeply symbolic: a place of great historical\, spiritual and architectural value\, since 2018 it has been entrusted by the Order of the Servants of Mary to the Vittorio and Mariella Moretti Foundation\, which has taken on the commitment to take care of its management and return it to the community as a center of culture and hospitality. As stated by Carlo Petrini\, who participated in the formalization of the delegation by the Friars to the VMM Foundation: ” The Convent of the Santissima Annunciata is to be a place of community\, a space where the beautiful and the good coincide. A common good returned to the area through the vision and generosity of those who care for it “. \nSpeakers\nThe conference will feature speakers from the monastic\, academic and business worlds including: \n\nVittorio Moretti\, President of the Vittorio and Mariella Moretti Foundation\nRenzo Cotarella\, CEO of Marchesi Antinori and production manager of Badia a Passignano [Florence].\nAttilio Scienza\, Professor of Viticulture\, University of Milan\nDon Andrea Santus\, Abbey of Monte Oliveto Maggiore [Siena].\nFather Stefano Visintin\, Praglia  Abbey [Padua].\nWerner Waldboth\, Director of Sales & Marketing Abbey of Novacella [Bolzano].\nManfred Bernard\, winemaker in charge of the winery at the Benedictine Convent of  Muri-Gries [Bolzano].\nFather Luigi Cavagna\, Franciscan Convent  Rodengo Saiano [Brescia]\, Rector Academy Symposium\nBrother Michele Badino\, Monastery of Bose [Assisi].\n\nKey institutional authorities will also be involved: the Minister of Agriculture\, the Regional Minister of Agriculture\, the Mayors of Franciacorta\, representatives of Coldiretti\, AIS Lombardia\, Consorzio della Franciacorta and Strada del Vino della Franciacorta. Rocco Tolfa\, RAI journalist\, will coordinate the conference.  \nTasting of a selection of Abbey wines\nAt the end of the meeting it will be possible to taste a selection of wines from the abbeys present through tasting benches curated by Ais Lombardia. An opportunity to discover ancient winemaking traditions and meet those who still preserve them today.  \nHow to participate\nThe conference is free admission\, by reservation only and subject to availability. Information and detailed program are available at https://vinidabbazia.com/la-cultura-del-vino-e-lidentita-dei-territori-lopera-delle-abbazie/  \nThe initiative is part of the busy program of events organized on the same day by the Vittorio and Mariella Moretti Foundation. An open day – from 8 a.m. until midnight – at the Convento dell’Annunciata entitled “Come in famiglia\,” to be together among nature trails\, workshops\, readings and meetings. To give back to this ancient place its dimension of a living and open space\, where culture\, nature\, spirituality and sense of community can intertwine in an authentic way. The event has received the patronage of the Fondazione Italia Patria della Bellezza\, created with the aim of promoting initiatives that “focus on the value of beauty\, Italy’s true talent.”    \nProgram of the day at www.fvmm.it
URL:https://www.doctorwine.wine/event/conference-abbey-wines-in-franciacorta/?lang=en
LOCATION:Convento della Santissima Annunciata\, Rovato (BS) - Franciacorta\, Italy
CATEGORIES:Events Lombardy,Tasting
ATTACH;FMTTYPE=image/jpeg:https://www.doctorwine.wine/wp-content/uploads/2025/09/Convegno-Vini-dAbbazia-in-Franciacorta.jpg
END:VEVENT
BEGIN:VEVENT
DTSTART;VALUE=DATE:20251004
DTEND;VALUE=DATE:20251013
DTSTAMP:20260423T060553
CREATED:20250910T080917Z
LAST-MODIFIED:20250910T080917Z
UID:41254-1759536000-1760313599@www.doctorwine.wine
SUMMARY:Milan Wine Week 2025
DESCRIPTION:Milan Wine Week 2025: October 4-12\, 2025 Milan is preparing to celebrate wine in a big way.\nMilan Wine Week: a unique event in Italy\nBack for its eighth edition is Milano Wine Week\, the event dedicated to wine lovers\, wine professionals and the curious public that transforms the city into a vibrant stage for tastings\, meetings\, masterclasses and immersive experiences. \nOrganized over nine days\, Milano Wine Week is confirmed as the largest non-fair event in Italy dedicated to wine. It is a unique opportunity to create connections\, revisit the Made in Italy wine story through contemporary and engaging languages.  \nMilan\, one of Europe’s most dynamic metropolises\, will be enlivened by a busy calendar of widespread events\, with various locations\, wine bars\, restaurants and cultural spaces coming together to offer new and original experiences. \nThe MWW Enoteca: the heart of the event\nAt the heart of the event will be the MWW Enoteca\, an experiential hub intended for the general public for the duration of the event. Here it will be possible to taste hundreds of labels\, engage directly with producers and discover firsthand the work that makes Italian wineries unique.  \nThe Grand Tasting at the Marriott Hotel\nOne of the most anticipated evenings will be the “Wine List Italia – Grand Tasting\,” scheduled for Sunday\, October 5\, hosted in the prestigious setting of the Marriott Hotel Milan. An exclusive selection of labels\, nominated by a team of 100 sommeliers\, will guide participants in discovering the style and identity of Italian wine Milano Wine Week 2025.  \nTastings and immersive experiences\nMilan Wine Week offers a very rich array of initiatives designed to satisfy novices and experts alike. Masterclasses\, walk-around tastings\, wine buses and even experiences aboard a wine boat will allow people to experience wine in unusual settings\, linking wine culture to urban design and conviviality.  \nThe event is aimed at a wide\, cross-sector audience: from curious consumers to industry professionals and cultural and commercial institutions. Wineries\, consortia\, restaurateurs and extra-sector companies are called upon to participate with tailor-made projects\, benefiting from visibility\, networking and business opportunities.  \nFor full details visit the official page https://milanowineweek.com/
URL:https://www.doctorwine.wine/event/milan-wine-week-2025/?lang=en
LOCATION:Milano\, Italy
CATEGORIES:Milan Events,Tasting
ATTACH;FMTTYPE=image/jpeg:https://www.doctorwine.wine/wp-content/uploads/2025/09/Milano-Wine-Week.jpg
END:VEVENT
BEGIN:VEVENT
DTSTART;TZID=Europe/Rome:20251004T100000
DTEND;TZID=Europe/Rome:20251006T200000
DTSTAMP:20260423T060553
CREATED:20250819T090513Z
LAST-MODIFIED:20250819T090513Z
UID:40196-1759572000-1759780800@www.doctorwine.wine
SUMMARY:Il Nizza è... 2025
DESCRIPTION:Il Nizza è… 2025: the event that takes you on a journey to discover all the nuances of Nizza DOCG is back\, an experience of tastings\, meetings and territories to be experienced\nOne of the most eagerly awaited appointments for wine enthusiasts is back in Nizza Monferrato: “Il Nizza È… 2025\,” the event entirely dedicated to Nizza DOCG\, scheduled from October 4 to 6 in the historic Palazzo Crova\, home of the Palazzo del Gusto. For three days\, the town of Asti will be transformed into a veritable wine stage\, welcoming producers\, wine professionals\, the press and\, above all\, many enthusiasts eager to immerse themselves in the universe of one of Piedmont’s most distinctive reds.  \nThe event is organized by theRegional Enoteca of Nizza Monferrato\, a reference point for the promotion of local wines\, with the support of consortia and institutions that have been working together for years to enhance the territory and its productions. It is not just an industry event: “Il Nizza È…” is in fact designed as a moment of encounter between wine lovers and winemakers\, an opportunity to discover up close the stories of those who produce wine and tell it with passion.  \nParticipation means an experience that goes beyond just tasting. For professionals\, it is a concrete opportunity to update wine lists in view of the fall season\, learn about new labels and strengthen direct contacts with producers. For wine tourists\, it is an invitation to be guided on a sensory and cultural journey through the hills of Monferrato\, with the chance to compare\, learn and above all get excited in front of the richness of Nizza DOCG.   \nThe tasting tables\nThe heart of the event will be the tasting booths\, open every day from 10 am to 1 pm and from 2 pm to 8 pm\, where it will be possible to taste more than 100 labels of Nizza DOCG from different wineries in the area . A total of 6 stations\, designed to allow the public to take a complete journey into the nuances of this wine\, born from Barbera grapes and capable of telling the story of the Monferrato hills with elegance and power. The stalls will be open to the public as well as to professional operators and journalists\, with the opportunity to engage directly with the producers and delve into the characteristics that make Nizza DOCG unique.  \nGuest of honor\, the Bolgheri Doc.\nAlongside the absolute protagonist\, the guest of honor will not be missing: the Bolgheri DOC\, which will have an entirely dedicated tasting desk\, thanks to the collaboration with the Consortium for the Protection of DOC Bolgheri Wines and DOC Bolgheri Sassicaia. A rare opportunity to compare two symbolic territories of Italian enology\, Monferrato and the Tuscan coast\, different in history and style but united by excellence.  \nAll in all\, “Il Nizza È… 2025” confirms itself as an unmissable stop on the calendar of Italian wine events: three intense days of tastings\, meetings and discoveries\, in a setting that combines the beauty of the territory with the great Piedmontese winemaking tradition. \nAll useful details are available at the event page Il Nizza è
URL:https://www.doctorwine.wine/event/il-nizza-e-2025/?lang=en
LOCATION:Palazzo Crova\, Nizza Monferrato\, Italy
CATEGORIES:Piedmont Events,Tasting
ATTACH;FMTTYPE=image/jpeg:https://www.doctorwine.wine/wp-content/uploads/2025/08/Il-Nizza-e.-2025.jpg
END:VEVENT
BEGIN:VEVENT
DTSTART;TZID=Europe/Rome:20251004T130000
DTEND;TZID=Europe/Rome:20251005T170000
DTSTAMP:20260423T060553
CREATED:20250917T133013Z
LAST-MODIFIED:20250922T094101Z
UID:42121-1759582800-1759683600@www.doctorwine.wine
SUMMARY:Milan - Wine for Earth
DESCRIPTION:Kicking off with DoctorWine the 1st edition of Wine for Earth: Sustainability and Enology meet Companies\, Consortia\, Institutions and the general public in the context of the presentation of the Essential Guide to the Wines of Italy 2026.\nIn the iconic setting of Milan’s Hotel Principe di Savoia on Saturday\, Oct. 4 and Sunday\, Oct. 5\, the first edition of the event will promote the‘meeting between the world of winemaking and the issues of environmental and social sustainability. \nThe event Wine For Earth. was born thanks to the combined effort of DoctorWine and Earth Day Italia to celebrate the union between wine excellence and the commitment to a sustainable future\, in the context of the presentation of the Essential Guide to the Wines of Italy 2026.  \nLeading this fundamental dialogue are two leading protagonists: director Daniele Cernilli\, aka DoctorWine\, and Pierluigi Sassi\, president of Earth Day Italia\, the Italian and European branch of the Washington-based NGO EARTHDAY.ORG\, which coordinates the activities of the world’s largest environmental event. A partnership that combines the highest expertise on wine with the highest sensitivity on environmental issues.  \nThe Wine For Earth program is designed to offer unique in-depth moments between Talk Shows and Masterclasses. \nThe program of master classes open to the public\nSATURDAY\, OCTOBER 4 \n\n1:00 p.m. to 2:00 p.m. – ALTA LANGA CONSORTIUM.\n“Classic method and sustainability: here is Alta Langa Docg”  \n\n\n2:45-3:30 p.m. – SOStain\n“SOStain: Sicilian producers and sustainability.”  \n\n\n4:15-5:00 p.m. – DOCTORWINE SELECTION.\n“11 shades of sustainability”  \n\n\n5:30-6:15 p.m. – CASADEI FAMILY.\n“The Casadei Family’s commitment to sustainability.”  \n\nSUNDAY\, OCTOBER 5   \n\n2:15-3:00 p.m. – HERITA MARZOTTO WINE ESTATES \n“The Sustainable Vision of Herita Marzotto Wine Estates.”\n\n\n4 to 5 p.m. – CONSORZIO VINO NOBILE DI MONTEPULCIANO\n“Vino Nobile di Montepulciano and its Sustainable Parishes.”  \n\nPlaces are limited. Buy your ticket now below!\nIt will be possible to taste with a combo ticket\, the excellences of the more than 200 wineries present at the presentation event of the Essential Guide to the Wines of Italy 2026: Masterclass participants will have access to the 1-day Tasting Booths at a total cost of €60 (Masterclass + entrance 1 day of tasting)\, while access to both days of tasting will have a total cost of €90 (Masterclass + entrance 2 days of tasting).
URL:https://www.doctorwine.wine/event/milan-wine-for-earth/?lang=en
LOCATION:Hotel Principe di Savoia\, Piazza della Repubblica 17\, Milano\, 20124\, Italy
CATEGORIES:DoctorWine Event,Milan Events,Tasting
ATTACH;FMTTYPE=image/jpeg:https://www.doctorwine.wine/wp-content/uploads/2025/09/wine-for-earth-e-doctorwine-1.jpg
ORGANIZER;CN="DoctorWine":MAILTO:info@doctorwine.it
END:VEVENT
BEGIN:VEVENT
DTSTART;TZID=Europe/Rome:20251004T143900
DTEND;TZID=Europe/Rome:20251005T193000
DTSTAMP:20260423T060553
CREATED:20250822T143143Z
LAST-MODIFIED:20250919T111459Z
UID:40536-1759588740-1759692600@www.doctorwine.wine
SUMMARY:Presentation of The Essential Guide to Italian Wines 2026 - Milan
DESCRIPTION:DoctorWine presents the 12th edition of the Essential Guide to the Wines of Italy 2026 in Milan!\nAppointment Saturday\, October 4 and Sunday\, October 5\, 2025 at theHotel Principe di Savoia in Milan.\nIn fact\, the two days will feature a large tasting counter where you will be able to freely taste and discover all the great wines present!\nNB: The producers present on Saturday\, October 4\, ARE NOT THE SAME ones present on Sunday\, October 5.  \n\nList of producers present on Saturday\, October 4\nList of producers present on Sunday\, October 5\n\n\nPurchase your ticket for the AWARD WINES TASTING by following the links below (watch for the date you choose!).\nThe ticket includes. access to the event and free tasting\, as well as a copy of DoctorWine’s new Presentation of The Essential Guide to Italian Wine 2026 and screen-printed goblet.\nTo recap:\n\nWHERE: Hotel Principe di Savoia\, Piazza della Repubblica 17 Milan\nWHEN: Saturday\, October 4 and Sunday\, October 5 from 2:30 to 7:30 p.m.\n\nMASTERCLASS Wine for Earth: Places are limited.  \n\nBuy your MASTERCLASS ticket now by following this link
URL:https://www.doctorwine.wine/event/presentation-essential-guide-to-the-wines-of-italy-2026-milan/?lang=en
LOCATION:Hotel Principe di Savoia\, Piazza della Repubblica 17\, Milano\, 20124\, Italy
CATEGORIES:DoctorWine Event,Milan Events,Tasting
ATTACH;FMTTYPE=image/jpeg:https://www.doctorwine.wine/wp-content/uploads/2025/08/Banner-1200x400-Evento-GDW-2026-1.jpg
ORGANIZER;CN="DoctorWine":MAILTO:info@doctorwine.it
END:VEVENT
BEGIN:VEVENT
DTSTART;TZID=Europe/Rome:20251004T170000
DTEND;TZID=Europe/Rome:20251005T210000
DTSTAMP:20260423T060553
CREATED:20250923T152819Z
LAST-MODIFIED:20250923T152819Z
UID:42789-1759597200-1759698000@www.doctorwine.wine
SUMMARY:Gustus - Wines and Flavors of Vicenza
DESCRIPTION:Gustus\, Vinie Sapori di Vicenza 2025\, pre-sales kick off for Tasting Booths and Winelab\nMore than 100 references in tasting\, 25 companies involved\, 2 insights and many specialties: the 15th edition is staged on October 4 and 5 at the Conservatorio “Arrigo Pedrollo” \nJust a few weeks to go before Gustus – Wines and Tastes of Vicenza\, the event that on Saturday\, October 4 and Sunday\, October 5 at the “Arrigo Pedrollo” Conservatory of Music celebrates the wines of the Berici Hills\, Vicenza and Gambellara DOCs. The 15th edition kicks off pre-sales for WineLab and tasting tables: during the walk around tasting – open Saturday from 5 to 10 p.m. and Sunday from 5 to 9 p.m. – the public will be able to taste a selection of more than 100 labels from 25 different wineries. Accompanying the tasting experience will be musical entertainment curated by Conservatory students.    \nThe Program\nGustus is a real journey among the native grape varieties Tai Rosso and Garganega\, the international Pinot Grigio and Sauvignon\, and the important Bordeaux interpretations based on Cabernet\, Merlot and Carménère. Among the wineries participating in the initiative will be Cavazza\, Cave Rosse\, Cielo e Terra\, Collis\, Corte De Pieri\, Corte Moschina\, Dal Maso\, Del Rèbene\, Giannitessari\, In Sordina\, Inama\, La Pria\, Tenuta Mancassola\, Marchetto\, Mattiello\, Pegoraro\, Piovene Porto Godi\, Puntozero\, Sordato\, Tenuta Natalina Grandi\, Tenuta Tarcisio Maule\, Vignato Virgilio\, and Vitevis.   \nThe event again this year devotes space to wine insights with two WineLabs: \n\nOn Saturday\, October 4 at 6 p.m.\, the public will be able to participate in. Symphony and Territory: how the reds of the Berici Hills sound.\, a blind tasting that will highlight the most representative wines of the Vicenza area by pairing them with references from other regions. Cristina Mercuri\, wine educator and editor of Forbes\, will lead the tasting. \nOn Sunday\, October 5\, also at 6 p.m.\, the following will be staged. What volcano are you from? a blind comparison of interpretations of Gambellara Classico and white wines from related terroirs in Italy and abroad\, led by Sissi Baratella\, popularizer\, enologist and author of Doctorwine. ​\n\nAlongside the wine\, there is a gastronomic proposal inspired by the excellence of the territory curated by I Giovani Leoni gastronomy (Saturday) and Alle Acque Pizza e Tradizione (Sunday). The event will see the support of taste partners: Consorzio Tutela Formaggio Asiago\, Consorzio Formaggio Monte Veronese\, Salumificio dei Castelli\, GustoTop and\, for the wine part\, the sommeliers of Fisar Vicenza.  \nEdition after edition Gustus reaffirms its charitable purpose: part of the event’s proceeds will go toward the restoration of The Crucifixion\, a fresco by Vicenza painter Giovanni Vajenti Speranza kept in the Arrigo Pedrollo Conservatory. \nInfo in Brief | Gustus – Wines and Flavors of Vicenza\n\nWhen: Saturday\, October 4 and Sunday\, October 5\, 2025\nWhere: Conservatory of Music “Arrigo Pedrollo” in Contra’ San Domenico 33\, Vicenza\nHours: Saturday from 5 to 10 p.m. and Sunday from 5 to 9 p.m.\nTickets: Presales are available at www.gustus-vicenza.it  at a reduced cost for all Ais\, Onav\, Fisar\, Fis and Slow Food members. Tickets will also be available for purchase on-site during the event. Included in the price is a wine glass\, opportunity for free tastings and a plate of gourmet specialties. Participation in the WineLabs is possible after purchasing a ticket to the event and there is an additional charge for each tasting. For those who want to treat themselves to a complete experience during Gustus\, they can book for 30 euros the package that includes entrance to the event and participation in a WineLab.    \nFor information: www.gustus-vicenza.it
URL:https://www.doctorwine.wine/event/gustus-wines-and-flavors-of-vicenza/?lang=en
LOCATION:Conservatorio di Musica “Arrigo Pedrollo”\, Contra' San Domenico 33\, Vicenza\, Italy
CATEGORIES:Tasting,Veneto Event
ATTACH;FMTTYPE=image/jpeg:https://www.doctorwine.wine/wp-content/uploads/2025/09/Gustus-–-Vini-e-Sapori-di-Vicenza.jpg
END:VEVENT
END:VCALENDAR