BEGIN:VCALENDAR
VERSION:2.0
PRODID:-//DoctorWine - ECPv6.15.20//NONSGML v1.0//EN
CALSCALE:GREGORIAN
METHOD:PUBLISH
X-WR-CALNAME:DoctorWine
X-ORIGINAL-URL:https://www.doctorwine.wine/?lang=en
X-WR-CALDESC:Events for DoctorWine
REFRESH-INTERVAL;VALUE=DURATION:PT1H
X-Robots-Tag:noindex
X-PUBLISHED-TTL:PT1H
BEGIN:VTIMEZONE
TZID:Europe/Rome
BEGIN:DAYLIGHT
TZOFFSETFROM:+0100
TZOFFSETTO:+0200
TZNAME:CEST
DTSTART:20240331T010000
END:DAYLIGHT
BEGIN:STANDARD
TZOFFSETFROM:+0200
TZOFFSETTO:+0100
TZNAME:CET
DTSTART:20241027T010000
END:STANDARD
BEGIN:DAYLIGHT
TZOFFSETFROM:+0100
TZOFFSETTO:+0200
TZNAME:CEST
DTSTART:20250330T010000
END:DAYLIGHT
BEGIN:STANDARD
TZOFFSETFROM:+0200
TZOFFSETTO:+0100
TZNAME:CET
DTSTART:20251026T010000
END:STANDARD
BEGIN:DAYLIGHT
TZOFFSETFROM:+0100
TZOFFSETTO:+0200
TZNAME:CEST
DTSTART:20260329T010000
END:DAYLIGHT
BEGIN:STANDARD
TZOFFSETFROM:+0200
TZOFFSETTO:+0100
TZNAME:CET
DTSTART:20261025T010000
END:STANDARD
END:VTIMEZONE
BEGIN:VEVENT
DTSTART;VALUE=DATE:20250901
DTEND;VALUE=DATE:20251101
DTSTAMP:20260423T073937
CREATED:20250811T161759Z
LAST-MODIFIED:20250811T161759Z
UID:40028-1756684800-1761955199@www.doctorwine.wine
SUMMARY:Cantine Aperte In Vendemmia 2025
DESCRIPTION:Cantine Aperte In Vendemmia 2025 (Open Cellars In Harvest) \, MTV’s event returns to celebrate the highlight of the wine year  \nSeptember and October in Italy have an unmistakable scent: that of freshly harvested grapes and fermenting must. Cantine Aperte in Vendemmia 2025\, organized by the Wine Tourism Movement\, is the perfect opportunity to experience the most exciting time of the wine year up close.  \nThis is not just a simple tasting. Cantine Aperte In Vendemmia is a journey through vineyards laden with grapes\, wineries in ferment and territories that\, precisely in autumn\, show themselves in their most authentic guise. You can witness the magic of the harvest\, learn the secrets of winemaking\, meet winemakers and listen to stories rooted in tradition.   \nParticipating wineries will open their doors in all Italian regions\, offering guided tours\, tastings of wines and local specialties\, and walks among the rows. There will be no shortage of festive moments with live music\, performances and cultural activities. In many realities it will be possible to participate in simulated grape harvests or educational workshops\, also perfect for families.   \nFor wine tourism enthusiasts\, it is an opportunity to discover different territories\, from Piedmont to Sicily\, and live an experience that combines education\, conviviality and discovery. The atmosphere one breathes is that of a widespread celebration: each winery interprets the event in its own way\, but all share the same passion for wine and the desire to tell its story.  \nThe 2025 edition will run throughout September and October\, with a continuously updated calendar: exact dates\, activities and participating wineries will soon be available on the Wine Tourism Movement’s official page. \nIf you love wine and its culture\, Cantine Aperte in Vendemmia is an appointment to mark in your calendar: an opportunity to connect with the land\, experience autumn in an intense way and take home not only fine bottles\, but also memories and encounters that will remain in time. \nThe detailed program is still being finalized\, but the event will extend throughout September and October throughout Italy. The list of participating wineries and organized initiatives will soon be available on the official page  \n 
URL:https://www.doctorwine.wine/event/cantine-aperte-in-vendemmia-2025/?lang=en
LOCATION:In tutta Italia\, Italy
CATEGORIES:Tasting,Widespread event
ATTACH;FMTTYPE=image/jpeg:https://www.doctorwine.wine/wp-content/uploads/2025/08/Cantine-aperte-in-vendemmia.jpg
END:VEVENT
BEGIN:VEVENT
DTSTART;VALUE=DATE:20251023
DTEND;VALUE=DATE:20251024
DTSTAMP:20260423T073937
CREATED:20250925T104153Z
LAST-MODIFIED:20250925T104153Z
UID:43116-1761177600-1761263999@www.doctorwine.wine
SUMMARY:Milan - Presentation Guide de L'Espresso 2026
DESCRIPTION:Le Guide de L’Espresso 2026: the volumes dedicated to 1000 Restaurants of Italy and 1000 Wines of Italy at Milan’s Arcimboldi Theater\nOn October 23\, 2025\, Milan will host the evening presentation of the new L’Espresso 2026 Guides-the volumes dedicated to 1000 Restaurants of Italy and 1000 Wines of Italy. The event will take place at the Arcimboldi Theater\, which for the second year in a row is hosting this major event of the food and wine world.  \nDuring the evening\, awards will be presented to the protagonists of the guides: chefs\, restaurants and wine producers who have been able to distinguish themselves on the Italian scene. On the stage will parade already famous names and young emerging talents\, interpreters of the gastronomic and viticultural evolutions that shape contemporary taste.  \nOfficial catering for the event will be coordinated by Da Vittorio\, a historic Cerea family sign. Da Vittorio’s signature will ensure a gastronomic moment that reflects the level and elegance of the event itself.  \nThe event is designed for a wide audience: industry professionals\, chefs\, producers\, food and wine journalists and enthusiasts who wish to witness the official selection of guides\, learn about new entries and get a taste of wine and restaurant trends. \nWhat to expect in the evening\nDuring the Milan event\, the restaurants awarded three forks (or among the top 1\,000) and the wineries included in the 1000 Wines of Italy 2026\, with special mentions\, prizes and awards accompanying each guide\, will then be unveiled and made official   \nThe Arcimboldi Theater will provide an ideal scenic setting: a large space to welcome guests\, award moments\, authors’ speeches and video-multimedia presentations. Milan is once again confirmed this year as a crossroads of contamination between food and wine\, culture and style.  \nFor more details about the event\, the chefs involved and the prizes provided\, you can visit the official guides page: Le Guide de L’Espresso – presentation 2026
URL:https://www.doctorwine.wine/event/milan-presentation-guide-de-lespresso-2026/?lang=en
LOCATION:Teatro Arcimboldi Milano\, Italy
CATEGORIES:Milan Events,Tasting
ATTACH;FMTTYPE=image/jpeg:https://www.doctorwine.wine/wp-content/uploads/2025/09/Doctor-Wine-Calendario-1.jpg
END:VEVENT
END:VCALENDAR