BEGIN:VCALENDAR
VERSION:2.0
PRODID:-//DoctorWine - ECPv6.15.20//NONSGML v1.0//EN
CALSCALE:GREGORIAN
METHOD:PUBLISH
X-WR-CALNAME:DoctorWine
X-ORIGINAL-URL:https://www.doctorwine.wine/?lang=en
X-WR-CALDESC:Events for DoctorWine
REFRESH-INTERVAL;VALUE=DURATION:PT1H
X-Robots-Tag:noindex
X-PUBLISHED-TTL:PT1H
BEGIN:VTIMEZONE
TZID:Europe/Rome
BEGIN:DAYLIGHT
TZOFFSETFROM:+0100
TZOFFSETTO:+0200
TZNAME:CEST
DTSTART:20240331T010000
END:DAYLIGHT
BEGIN:STANDARD
TZOFFSETFROM:+0200
TZOFFSETTO:+0100
TZNAME:CET
DTSTART:20241027T010000
END:STANDARD
BEGIN:DAYLIGHT
TZOFFSETFROM:+0100
TZOFFSETTO:+0200
TZNAME:CEST
DTSTART:20250330T010000
END:DAYLIGHT
BEGIN:STANDARD
TZOFFSETFROM:+0200
TZOFFSETTO:+0100
TZNAME:CET
DTSTART:20251026T010000
END:STANDARD
BEGIN:DAYLIGHT
TZOFFSETFROM:+0100
TZOFFSETTO:+0200
TZNAME:CEST
DTSTART:20260329T010000
END:DAYLIGHT
BEGIN:STANDARD
TZOFFSETFROM:+0200
TZOFFSETTO:+0100
TZNAME:CET
DTSTART:20261025T010000
END:STANDARD
END:VTIMEZONE
BEGIN:VEVENT
DTSTART;VALUE=DATE:20251120
DTEND;VALUE=DATE:20251125
DTSTAMP:20260423T194009
CREATED:20251015T114010Z
LAST-MODIFIED:20251015T114010Z
UID:46050-1763596800-1764028799@www.doctorwine.wine
SUMMARY:Benvenuto Brunello 2025
DESCRIPTION:Benvenuto Brunello\, from November 20 to 24 the 34th edition of Italy’s longest-running preview takes the stage.\n122 wineries and 100 journalists with the United States as the leader of the foreign delegations\nMontalcino is preparing to raise its glasses for the 34th edition of Benvenuto Brunello\, the Consortium’s flagship event ahead of the commercial debut of Brunello 2021\, Brunello Riserva 2020 and Rosso di Montalcino 2024 vintages . The appointment is at the Cloister of Sant’Agostino from Nov. 20 to 24 with labels from 122 wineries being tasted.  \nConfirmed again this year is the dual format of the founding event of previews in our country:\n\nNov. 20\, 21 and 22 are 3 days reserved for the trade press\nFrom Saturday\, Nov. 22 through Monday\, Nov. 24 (10 a.m. to 6 p.m.)\, the technical tastings will leave the Cloister to producers engaged in walk-around tastings dedicated to Brunello lovers from Italy and abroad\, as well as restaurant and wine shop operators and sommeliers.\n\nExpected\, to date\, in the three days reserved for the trade press\, about 100 journalists and wine experts of whom almost half come from abroad\, particularly from the United States with the largest delegation\, the United Kingdom\, Canada\, South Korea but also the Netherlands\, Austria\, Germany\, Denmark and Scandinavia. \n“Benvenuto Brunello is the event that highlights the qualitative commitment of the principal standard-bearer denomination of Made in Italy enology in the world – comments the president of the Consortium\, Giacomo Bartolommei – A privileged occasion also to look to the future and to outline\, together with the producers\, even more incisive promotion projects in our principal outlet markets\, beginning with the United States. The presence of 14 expert journalists from different states is an injection of confidence in this moment of uncertainty for Italian and European wine.”   \nThe palimpsest of Benvenuto Brunello 2025\n\nThursday\, Nov. 20 – Press Reserved\n\n\n\n11:00 a.m. – 5:00 p.m. Complex of St. Augustine\, tasting reserved for Italian and international journalists – by invitation only\n\n\n\n\nFriday\, Nov. 21 – Press Reserved\n\n\n\n09:00 – 17:00 St. Augustine Complex\, tasting reserved for Italian and international journalists – by invitation only\n8:00 p.m. Complesso di S. Agostino\, Inaugural Dinner of Benvenuto Brunello and awarding of the Leccio d’Oro 2025 Prize\, the  recognition of the Consorzio to those who promote the culture of Brunello in Italy and abroad  – by invitation only\n\n\n\n\nSaturday\, November 22\n\n\n\n10:00 a.m.-6:00 p.m. Complex of St. Augustine Walk-Around Tasting benches with producer presence (open to industry professionals and wine lovers)\n10:30 a.m. Teatro degli Astrusi \n  Talk “From the vineyard to the world: wine tourism and experiences for the wine of the future”\n led by Luciano Ferraro\, deputy editor of Corriere della Sera\, Presentation agronomic vintage Brunello Forma and presentation ofthe celebratory Tile with subsequent laying\n3 p.m. Complex of S. Agostino\, Masterclass “4 Vintages\, 1 Identity: Brunello di Montalcino”  led by Michaela Morris. Tasting the 2014\, 2016\, 2017 and 2020 vintages to explore Brunello’s extraordinary ability to interpret time and climate\, confirming its elegance and depth even in the most challenging seasons. – (in English; fee required)  \n\n\n\n\nSunday\, November 23\n\n\n\n10:00 a.m.-6:00 p.m. Complex of St. Augustine Walk-Around Tasting benches with producer presence (open to industry professionals and wine lovers)\n11 am\, paid masterclass “\n  Brunello at the Summit: Riserva 2019 and Vigna 2018\n“ led by journalist and wine writer Giambattista Marchetto\n\n\n\n\nMonday\, November 24\n\n\n\n10:00 a.m. – 6:00 p.m. Complex of St. Augustine Walk-Around Tasting benches with producer presence (open to industry professionals and wine lovers)\n11 a.m.\, paid masterclass “Rosso and Brunello di Montalcino between vintages and personalities” led by Master of Wine Gabriele Gorelli and specifically dedicated to national catering.\n\n\n\n\n\nInfo and tickets: www.benvenutobrunello.com
URL:https://www.doctorwine.wine/event/benvenuto-brunello-2025/?lang=en
LOCATION:Chiostro di Sant’Agostino\, Montalcino\, Italy
CATEGORIES:Preview Wines,Tasting,Tuscany Events
ATTACH;FMTTYPE=image/jpeg:https://www.doctorwine.wine/wp-content/uploads/2025/10/Benvenuto-Brunello-2025.jpg
END:VEVENT
BEGIN:VEVENT
DTSTART;VALUE=DATE:20251121
DTEND;VALUE=DATE:20251122
DTSTAMP:20260423T194009
CREATED:20251010T082234Z
LAST-MODIFIED:20251010T082234Z
UID:45857-1763683200-1763769599@www.doctorwine.wine
SUMMARY:Durello & Friends 2025
DESCRIPTION:Durello & Friends 2025: Verona celebrates the signature bubbles of the Lessini Mountains\nOn Friday\, November 21\, 2025\, Verona is preparing to host a new edition of Durello & Friends\, the annual event dedicated to Italy’s most original sparkling wine interpretations. The event\, organized by the \n  Consorzio Tutela Vino Lessini Durello\n\, will be held at the Crowne Plaza Hotel in Verona\, becoming for one day the meeting point for oenologists\, producers\, operators and fans of signature bubbles.  \nThe event was created to valorize Lessini Durello Doc\, the symbolic sparkling wine of the Lessini Mountains\, but over time it has also become a moment of broader comparison on the national sparkling wine scene\, bringing into dialogue different territories\, methods and styles. “Durello & Friends” in fact is not only a showcase\, but a real taste workshop\, where technical and cultural issues related to the production of the classic method and charmat method are explored in depth\, with a focus on the evolution of taste and the challenges of sustainability.  \nThe program of this edition\n\n2 p.m.: Masterclass “Questione di metodo: Classici a confronto\,” an opportunity to explore the different declinations of the metodo classico through a guided tour by industry experts and some of Italy’s most influential producers.\n4 p.m.: Talk show “Bubbles from classic method: the state of the art\,” a discussion moment dedicated to the analysis of the most current trends in the world of bubbles\, between technical innovation\, territorial identity and new consumption styles.\nFrom 5:30 p.m. to 10:30 p.m.: the tasting counter\, where the protagonists will be the best Lessini Durello and Monti Lessini Doc sparkling wines. The main wineries of the area will be present\, ready to tell their interpretations of this unique wine\, son of a volcanic terroir that gives durella grapes acidity\, freshness and a distinctive mineral character. An oenological heritage that in recent years has won more and more admirers in Italy and abroad\, thanks to its elegance and extraordinary ability to age.  \n\nWith Durello & Friends\, Verona therefore once again celebrates the culture of wine and hospitality\, offering a complete experience that combines education\, tasting and conviviality. An event that caters as much to professionals in the sector as to enthusiasts curious to discover the many nuances of Italian bubbles\, in a refined context open to dialogue.  \nFor information and reservations: www.montilessini.com
URL:https://www.doctorwine.wine/event/durello-friends-2025/?lang=en
LOCATION:Crowne Plaza Hotel\, Via Belgio 16\, Verona\, Italy
CATEGORIES:Tasting,Veneto Event
ATTACH;FMTTYPE=image/jpeg:https://www.doctorwine.wine/wp-content/uploads/2025/10/Durello-and-Friends-2025-web-min-scaled-1.jpg
END:VEVENT
BEGIN:VEVENT
DTSTART;VALUE=DATE:20251121
DTEND;VALUE=DATE:20251122
DTSTAMP:20260423T194009
CREATED:20251117T173301Z
LAST-MODIFIED:20251117T173301Z
UID:47656-1763683200-1763769599@www.doctorwine.wine
SUMMARY:DoctorWine meets Tenuta San Vincenti
DESCRIPTION:Daniele Cernilli\, aka DoctorWine\, meets Tenuta San Vincenti Friday\, Nov. 21\, at Enoteca Io Vino in Albano Laziale\nOn November 21\, Enoteca IO VINO will host an evening dedicated to those who experience wine as knowledge and culture\, enhanced by the presence of Daniele Cernilli\, known as DoctorWine. His presence adds a rare value to this tasting\, as his insight has helped shape Italian wine consciousness.  \nSan Vincenti estate: beauty\, altitude and character\nAn exceptional reality for its beauty and uniqueness will be presented: Tenuta San Vincenti.\nWe are in the heart of Chianti Classico\, in an area suspended between the Crete Senesi\, Monte Amiata and the Val d’Orcia. The estate overlooks from above a hill surrounded by woods: an unspoiled\, bright place\, protected by biodiversity. The vineyards are up to 600 meters above sea level\, surrounded by fresh air\, light and silence. A beauty that is not scenography\, but substance: a landscape that shapes the wines\, giving freshness\, precision and personality.    \nInterpreting this territory is Carlo Dell’Aiuto\, the estate’s winemaker\, who will be present during the tasting. His experience\, gained also abroad\, is reflected in a crisp\, contemporary style that respects the raw material.  \nThe project is supported by the consultancy of Carlo Ferrini\, among the most influential names in Italian oenology. \nDialogue between Cernilli and Dell’Aiuto will guide the tasting\, interweaving critical vision and technical interpretation. \nThe wines in the tasting\n– Chianti Classico DOCG 2022\n– Chianti Classico Riserva DOCG 2021\n– Chianti Classico Gran Selezione DOCG 2021\n– Experiment 1 (100% Merlot) 2021 \nThe menu for the evening\nEdited by.  Elisabetta Girolami – The Garrulous Hostess \n– Millefoglie of cecina and escarole\, raisins and pine nuts\n– Potato and broccoletti flan with pecorino cheese fondue\n– Ribollita\n– Peposo alla Fornacina \nA gesture that adds value to the evening\nA portion of the participation fee will be donated to the Fondazione Armonia e Salute ONLUS – Casa Famiglia di Vacone (RI)\, which welcomes and supports people with autism on a path of care and human growth. \nUseful Information\n\nAppointment atEnoteca Io Vino\, Piazza Gramsci 4\, Albano Laziale (RM)\ntel 06 9325454 – WhatsApp 334 277 0156\ncontatti@enotecaiovino.it\nReservation required
URL:https://www.doctorwine.wine/event/doctorwine-meets-tenuta-san-vincenti/?lang=en
LOCATION:Enoteca Io Vino\, Piazza Gramsci\, 4\, Albano Laziale (RM)\, Italy
CATEGORIES:Latium Events,Tasting
ATTACH;FMTTYPE=image/png:https://www.doctorwine.wine/wp-content/uploads/2025/11/Cernilli-DoctorWine-da-IO-VINO.png
END:VEVENT
END:VCALENDAR