BEGIN:VCALENDAR
VERSION:2.0
PRODID:-//DoctorWine - ECPv6.15.20//NONSGML v1.0//EN
CALSCALE:GREGORIAN
METHOD:PUBLISH
X-WR-CALNAME:DoctorWine
X-ORIGINAL-URL:https://www.doctorwine.wine/?lang=en
X-WR-CALDESC:Events for DoctorWine
REFRESH-INTERVAL;VALUE=DURATION:PT1H
X-Robots-Tag:noindex
X-PUBLISHED-TTL:PT1H
BEGIN:VTIMEZONE
TZID:Europe/Rome
BEGIN:DAYLIGHT
TZOFFSETFROM:+0100
TZOFFSETTO:+0200
TZNAME:CEST
DTSTART:20240331T010000
END:DAYLIGHT
BEGIN:STANDARD
TZOFFSETFROM:+0200
TZOFFSETTO:+0100
TZNAME:CET
DTSTART:20241027T010000
END:STANDARD
BEGIN:DAYLIGHT
TZOFFSETFROM:+0100
TZOFFSETTO:+0200
TZNAME:CEST
DTSTART:20250330T010000
END:DAYLIGHT
BEGIN:STANDARD
TZOFFSETFROM:+0200
TZOFFSETTO:+0100
TZNAME:CET
DTSTART:20251026T010000
END:STANDARD
BEGIN:DAYLIGHT
TZOFFSETFROM:+0100
TZOFFSETTO:+0200
TZNAME:CEST
DTSTART:20260329T010000
END:DAYLIGHT
BEGIN:STANDARD
TZOFFSETFROM:+0200
TZOFFSETTO:+0100
TZNAME:CET
DTSTART:20261025T010000
END:STANDARD
END:VTIMEZONE
BEGIN:VEVENT
DTSTART;VALUE=DATE:20251201
DTEND;VALUE=DATE:20260101
DTSTAMP:20260423T211219
CREATED:20251107T113106Z
LAST-MODIFIED:20251107T113106Z
UID:47210-1764547200-1767225599@www.doctorwine.wine
SUMMARY:Open Wineries at Christmas 2025
DESCRIPTION:Open Wineries at Christmas 2025 : December throughout Italy brings the year to a close with a big toast\nThe month of December 2025 turns into a collective toast thanks to the Christmas edition of Cantine Aperte\, the event promoted by Movimento Turismo del Vino (MTV) that brings wine tourists directly to participating wineries scattered throughout Italy. \nDuring this special occasion\, member wineries welcome visitors by transforming their spaces into true “taste villages\,” with curated atmospheres\, tastings\, markets\, sensory workshops and Christmas offerings designed for young and old alike. \nWhat the 2025 edition offers\nThe format is dedicated to those who want to have an authentic winery experience during the holiday season: in addition to tasting selected wines and buying bottles – also perfect as gift ideas – participants will be able to participate in show-cooking\, tastings of typical regional desserts\, music and performances\, and guided tours to discover wine production. \nMTV wineries are opening their doors in different regions of Italy\, each with its own schedule: the date may vary by winery but the date is throughout December 2025. \nReservations are required\, while times and costs are at the discretion of each winery. \nUseful information\n\nWhen: during December 2025 (each winery defines the day)\nWhere: In Movimento Turismo del Vino member wineries throughout Italy\nWhat’s needed: Reservations required; times and rates at the discretion of each winery\nTypical program: tastings\, winery tours\, Christmas markets\, sensory workshops\, sweet-wine pairings\, live music\nInfo & participating wineries: movimentoturismovino.it/cellars-open-christmas
URL:https://www.doctorwine.wine/event/open-wineries-at-christmas-2025/?lang=en
LOCATION:In tutta Italia\, Italy
CATEGORIES:Tasting,Widespread event
ATTACH;FMTTYPE=image/jpeg:https://www.doctorwine.wine/wp-content/uploads/2025/11/Doctor-Wine-Calendario-1.jpg
END:VEVENT
END:VCALENDAR