BEGIN:VCALENDAR
VERSION:2.0
PRODID:-//DoctorWine - ECPv6.15.20//NONSGML v1.0//EN
CALSCALE:GREGORIAN
METHOD:PUBLISH
X-WR-CALNAME:DoctorWine
X-ORIGINAL-URL:https://www.doctorwine.wine/?lang=en
X-WR-CALDESC:Events for DoctorWine
REFRESH-INTERVAL;VALUE=DURATION:PT1H
X-Robots-Tag:noindex
X-PUBLISHED-TTL:PT1H
BEGIN:VTIMEZONE
TZID:Europe/Rome
BEGIN:DAYLIGHT
TZOFFSETFROM:+0100
TZOFFSETTO:+0200
TZNAME:CEST
DTSTART:20250330T010000
END:DAYLIGHT
BEGIN:STANDARD
TZOFFSETFROM:+0200
TZOFFSETTO:+0100
TZNAME:CET
DTSTART:20251026T010000
END:STANDARD
BEGIN:DAYLIGHT
TZOFFSETFROM:+0100
TZOFFSETTO:+0200
TZNAME:CEST
DTSTART:20260329T010000
END:DAYLIGHT
BEGIN:STANDARD
TZOFFSETFROM:+0200
TZOFFSETTO:+0100
TZNAME:CET
DTSTART:20261025T010000
END:STANDARD
BEGIN:DAYLIGHT
TZOFFSETFROM:+0100
TZOFFSETTO:+0200
TZNAME:CEST
DTSTART:20270328T010000
END:DAYLIGHT
BEGIN:STANDARD
TZOFFSETFROM:+0200
TZOFFSETTO:+0100
TZNAME:CET
DTSTART:20271031T010000
END:STANDARD
END:VTIMEZONE
BEGIN:VEVENT
DTSTART;VALUE=DATE:20260516
DTEND;VALUE=DATE:20260519
DTSTAMP:20260423T082039
CREATED:20251117T154928Z
LAST-MODIFIED:20260311T131555Z
UID:47635-1778889600-1779148799@www.doctorwine.wine
SUMMARY:Milan - Best Wine Star 2026
DESCRIPTION:Best Wine Stars 2026: Reconfirmations and novelties for the seventh edition of the International Fair dedicated to wine\, food and spirits\, May 16-18 in Milan’s historic Palazzo del Ghiaccio\nFrom  May 16 to May 18\, the Palazzo del Ghiaccio in Milan will host the seventh edition of Best Wine Stars\, an event conceived and organized by Prodes Italia\, which\, as of this year\, gets recognition as an International Trade Fair for the sector from the Lombardy Region\, under the patronage of the       City of Milan. \nThe event confirms itself as a landmark event for the wine and spirits sector\, bringing together Italian and international producers\, buyers\, professionals and trade press in three days of high-level tastings\, meetings and networking. \nTasting trails and the new Bronze area\nAlso for 2026\, the exhibition route will be divided into thematic areas designed to highlight the excellence of the industry and offer visitors a complete tasting experience. They will feature: Wine Italy Area\, International Wine Area\, Bio Area\, Spirits Area and Tasting Area.  \nAlongside these\, theFood Area\, will host the gastronomic proposals of Enduro Republic Bistrot\, a reality born in the village of Grazzano Visconti and founded on a philosophy of sharing and authenticity. During the three-day event it will offer a selection of simple and genuine dishes\, made with local ingredients and designed to accompany the tastings.  \nAmong the novelties of the 2026 edition is the debut of theBronze Area\, located on the upper floor of the Ice Palace: a space dedicated to small emerging companies and producers from less represented territories\, offered at particularly advantageous conditions and with a formula designed to encourage new realities in the development phase. \n“With this initiative we reconfirm our commitment to supporting and enhancing\, through concrete and targeted help\, the promising realities that are redefining the wine and spirits landscape…”\nEnzo Carbone\, CEO of Prodes Italy\, explains. \nThe area is already sold out\, confirming the interest of the youngest and most innovative companies in the industry in the Fair. \nNetworking: Village Area and Digital Platform\nAlso reconfirmed is theVillage Area\, a space dedicated to press\, buyers and industry professionals designed to facilitate business meetings and B2B relations. \nOn Monday\, May 18\, industry professionals will be able to pick up a tasting kit in a “blind box” formula\, containing some bottles from the wineries participating in the initiative\, stimulating new opportunities for contact between buyers\, journalists and producers. \nFollowing the success of the first edition in 2025\, the event’s official digital platform\, designed to facilitate meetings\, networking and interactions between exhibitors\, buyers and industry professionals before\, during and after the event\, will be active again from mid-April. \nMasterclasses\, Tasting Rooms and Talks\nAlongside the walk-around tasting\, Best Wine Stars 2026 will offer a calendar of about 12 appointments including masterclasses\, talks and tasting rooms\, designed to take an in-depth look at key industry trends. \n\nWe have changed | Times have changed or we are out of time.\nJourney to Italy | The wine that goes around us\nNo alcohol | Let’s not compare them\, let’s get to know them  \nSmall companies\, big projects | The most hidden Italy tells its story\n\nThe masterclasses will provide an opportunity to learn about numerous companies\, delve into their history and production philosophy\, and taste their most representative labels. \nAmong the confirmed entities on the calendar are Cantina Sociale Barbera dei Sei Castelli\, the Consorzio Tutela Vino Custoza DOC\, the  Luca Gentile Social Winery Soc. Coop. Agr \, Tenuta Il Finale Società Argicola ARL and many others. \nThe sessions will be held in the evocative Sala Piranesi and represent a unique opportunity for professional updating and interaction among producers\, buyers\, press and enthusiasts.\nThey will be led by Adua Villa\, writer\, digital storyteller\, sommelier and entrepreneur\, who will be joined by important names in the industry including: Mattia Asperti\, sommelier and creator of the Il Sommelier Divino community; Francesco Quarna\, Radio Deejay speaker and winemaker; Valentina Vercelli\, journalist for La Cucina Italiana and Slowine; and Stefania Vinciguerra\, professional journalist and editor-in-chief of DoctorWine and the Essential Guide to the Wines of Italy. \nUnveiled a preview of two appointments not to be missed:\n\nSunday\, May 17: The Tasting Room\, curated by Fabio Bacchi\, founder of BarTales and the Roma Bar Show\, dedicated to the world of spirits.\nMonday\, May 18: The official  Italia a Tavola talk \, which enters the event’s cultural program for the first time.\n\nThe full schedule will be available from mid-April on the event’s official platform: www.bestwinestars.com \nWith a consolidated format and constantly evolving content\, Best Wine Stars 2026 confirms itself as a privileged stage to promote wines and spirits\, combining sensory experiences\, cultural insights and high-level professional relationships\, continuing to grow in the sign of quality and the enhancement of Italian and international excellence. \nPartnerships and Collaborations 2026\nThe 2026 edition benefits from an established network of collaborations. Among the Official Partners\, AGIVI and ASSOENOLOGI are reconfirmed\, while the project will be joined for the first time by AssoDistil\, the National Association of Industrial Distillers of Alcohols and Spirits\, which has been active for more than 80 years in representing the main Italian distilleries and protecting the interests of its member companies at the national and international level\, and the National Grappa Consortium\, a body officially recognized by the Ministry of Agriculture for the protection and enhancement of Geographical Indication Grappa.  \nDialogue with foreign markets is strengthened thanks to Buyers Partners\, including Strive International Consulting Ltd. an international consulting firm specializing in export marketing and business development\, Italian Chamber of Commerce in Hungary and DANITACOM\, committed to the creation and development of International business opportunities and relationships. \nCollaboration is also renewed with several leading Media Partners such as I Grandi Vini\, Italia a Tavola\, Wine Meridian\, DoctorWine\, BarTales\, Vino News 24\, ItalianWineTour and EventiMilano.it. Also added for the 2026 edition is Wine Tales Magazine\, a reference platform dedicated to the world of wine and wine lovers\, which tells about producers\, events\, wine curiosities and itineraries through content created by an expert editorial staff.  \nDuring the event\, a number of media partners will be present with dedicated desks\, where interviews\, meetings and networking with journalists and exhibitors will take place. \nThe echo of the event will be further amplified by the creators community\, composed of Simona Geri (@simonagsommelier)\, Fabio Gobbi (@fabioelavigna)\, and Adriano Amoretti (@cantinasocial) who will accompany the event in the digital dissemination of content\, increasing its visibility and engagement among enthusiasts and practitioners. \nUseful information:\n\nWhere: Palazzo del Ghiaccio\, Milan\nWhen: May 16-18\, 2026\nHours to the public:\n\n\n\nSaturday\, May 16: 12:00 p.m. – 8:00 p.m. (last entry at 7:00 p.m.)\nSunday\, May 17: 12:00 p.m. – 8:00 p.m. (last entry at 7:00 p.m.)\nMonday\, May 18: 10:00 a.m. – 6:00 p.m. (last entry at 5:00 p.m.)\n\n\n\n\n\nFor information: www.bestwinestars.com – info@bestwinestars.com
URL:https://www.doctorwine.wine/event/best-wine-stars-2026/?lang=en
LOCATION:Palazzo del Ghiaccio – Milano
CATEGORIES:Fair,Milan Events,Tasting
ATTACH;FMTTYPE=image/jpeg:https://www.doctorwine.wine/wp-content/uploads/2025/11/Best-Wine-Star-2026.jpg
ORGANIZER;CN="Prodes Italia":MAILTO:press@prodesitalia.com
END:VEVENT
BEGIN:VEVENT
DTSTART;VALUE=DATE:20260517
DTEND;VALUE=DATE:20260519
DTSTAMP:20260423T082039
CREATED:20260416T103820Z
LAST-MODIFIED:20260416T135922Z
UID:54909-1778976000-1779148799@www.doctorwine.wine
SUMMARY:Bolzano - Vinaltum 2026
DESCRIPTION:Vinaltum 2026: “Tasting excellence” at Mareccio Castle\, in the heart of Bolzano\, May 17 and 18\nVinaltum\, the Festival of Wine Excellence of Italy and the World\, dedicated to wine lovers and wine professionals\, is back. For this third edition\, the event takes a significant step and lands in Castel Mareccio\, in the heart of Bolzano\, bringing with it all its exclusive character in a setting even more evocative and representative of the South Tyrolean territory.  \nMareccio Castle\nNestled among vineyards on the outskirts of the city\, Castel Mareccio is a medieval castle from the 13th century. It stands on a hilltop promontory with panoramic views of the Adige Valley. Now a venue for high-profile events\, its historic architecture\, frescoed rooms and surrounding park provide a setting of rare elegance-a setting perfectly in line with the values of Vinaltum\, where excellence\, territory and beauty meet.  \n“Castel Mareccio represents a quantum leap in context for Vinaltum. We wanted to bring the event to the heart of Bolzano\,” comments Danilo D’Ambra\, creator of Vinaltum\, “in a place that spoke of territory\, history and excellence as much as the wines tasted there  \nThe Vinaltum project\nVinaltum was born from the synergy between Danilo D’Ambra and Luciano Rappo\, two leading figures in the Italian wine scene. D’Ambra\, FISAR president for Bolzano and Bassa Atesina\, is a great connoisseur of the sector and a passionate promoter of wine culture. Rappo\, a longtime wine consultant and point of reference for many wineries\, has dedicated his career to the promotion of Italian wine excellence. Together\, with the support of Pietro Cormaci\, Brand Ambassador of the event\, and Rinaldo Hauser Sommelier of experience and “Keeper of Taste\,” they have built a project that aims to be a bridge between producers\, buyers\, experts and industry enthusiasts\, promoting an authentic and educational tasting experience.    \n“Vinaltum was born out of the conviction that quality wine deserves a stage to match.” – says Luciano Rappo\, co-organizer of Vinaltum-“The selection of wineries participating in the event is never random: we look for producers who have something authentic to tell\, who express the territory through their wines. It is this rigor in the selection that makes Vinaltum a credible\, expected and different event from others.” \nVinaltum 2026\nThe careful selection of participating wineries and the direct presence of producers will offer visitors an unprecedented wine experience.” \nTo make the experience even more complete for guests of the event\, Vinaltum 2026 benefits from the valuable collaboration of the Goldenstern Townhouse\, the official hospitality partner. Located in the heart of Bolzano’s historic center\, under the city’s medieval arcades\, the Goldenstern is much more than a hotel. It is an expertly restored 800 AD historic building with sixteen unique suites\, each custom-designed and dedicated to one of the people who shaped its history. The panoramic terrace overlooking the rooftops of Bolzano and the Dolomites\, the interiors that blend contemporary design and period stucco\, the breakfast with fresh local products-all speak of that same quest for excellence that animates Vinaltum. A natural partnership\, between two businesses that share the same vision of the beautiful and the good.     \n“Mareccio Castle and the Goldenstern are two places that tell the same soul of Bolzano“-D’Ambra emphasizes-history\, beauty and the pursuit of excellence. Having them both alongside VINALTUM is not a coincidence\, it is a precise choice. We want every moment of the event to match the wines and the Producers we host.”   \nWith the support of Arco Expeditions\, Main Sponsor for logistics\, Goldenstern Townhouse\, Sophienwald with UNO Glassworks\, Castel Hortenberg\, Franz Kraler\, and in collaboration with FISAR\, Vinaltum 2026 is confirmed as an unmissable experience for those who love wine and wish to experience it in a high-class and professional setting\, in the extraordinary crossroads of cultures\, landscapes and flavors that is South Tyrol. \nThe program\nThe program consists of two days: \n\nSunday\, May 17 tastings open to the public\non Monday\, May 18 access restricted to insiders and invited guests.\n\nBoth days will be enhanced by exclusive master classes led by industry experts. \nServing as an interlude between the first and second days is the traditional“Big Bottle Party” on Sunday evening. This is a time of conviviality and celebration where participants can taste large formats in an elegant and engaging atmosphere.  \nMore details on the official Vinatum.co.uk page.
URL:https://www.doctorwine.wine/event/bolzano-vinaltum-2026/?lang=en
LOCATION:Castel Mareccio\, Bolzano\, Italy
CATEGORIES:Tasting,Trentino Alto Adige Event
ATTACH;FMTTYPE=image/jpeg:https://www.doctorwine.wine/wp-content/uploads/2026/04/Doctor-Wine-Calendario-3.jpg
END:VEVENT
BEGIN:VEVENT
DTSTART;VALUE=DATE:20260517
DTEND;VALUE=DATE:20260520
DTSTAMP:20260423T082039
CREATED:20260421T082244Z
LAST-MODIFIED:20260421T082244Z
UID:55313-1778976000-1779235199@www.doctorwine.wine
SUMMARY:Naples - VitignoItalia 2026
DESCRIPTION:VitignoItalia 2026: May 17-19 in Naples the 20th edition of the great Italian wine fair\nMay 17-19\, 2026 returns to Naples one of the most anticipated events in the national wine scene: VitignoItalia\, now in its 20th edition. \nAn event between business and wine culture\nAn event that over the years has established itself as a reference point for the promotion of Italian wine\, capable of bringing together producers\, industry professionals and enthusiasts in one of the most iconic cities in the Mediterranean. \nVitignoItalia is more than just a fair: it is a real journey through the country’s wine territories. \nDuring the three days it will be possible: \n\nTasting thousands of labels from all over Italy\nmeet directly with producers and consortia\nparticipate in masterclasses\, workshops and thematic meetings\, showcooking and initiatives dedicated to the pairing of wine and gastronomy\, helping to tell the story of wine as a cultural expression of the territory.\n\nA format that focuses on the variety and richness of Italian wine\, from the North to the South\, with special attention to the productions of Campania. \nThe event draws every year: \n\ninternational buyers and operators\ntrade press\nwinelovers and tourists\n\nWith more than 200 companies and thousands of wines being tasted (based on previous editions)\, VitignoItalia confirms itself as a strategic platform for networking and promoting the sector. \nUseful information\nHosting the 2026 edition will be the Stazione Marittima – Molo Angioino\, an iconic location overlooking the Gulf of Naples\, making the experience even more atmospheric. \nThe date is May 17-19\, 2026 \nFor full details and the updated program\, visit VitignoItalia.it.
URL:https://www.doctorwine.wine/event/naples-vitignoitalia-2026/?lang=en
LOCATION:Stazione Marittima – Molo Angioino\, Napoli\, Italy
CATEGORIES:Campania Events,Tasting
ATTACH;FMTTYPE=image/jpeg:https://www.doctorwine.wine/wp-content/uploads/2026/04/Vitigno-Italia-scaled-e1776759651823.jpg
END:VEVENT
BEGIN:VEVENT
DTSTART;VALUE=DATE:20260524
DTEND;VALUE=DATE:20260526
DTSTAMP:20260423T082039
CREATED:20260421T091311Z
LAST-MODIFIED:20260421T091311Z
UID:55323-1779580800-1779753599@www.doctorwine.wine
SUMMARY:Radda in Chianti - Radda in the Glass
DESCRIPTION:Radda nel Bicchiere: May 23 and 24\, in the heart of Chianti Classico\, the historic event now in its 28th year.\nOn May 23 and 24\, one of the most authentic events dedicated to Tuscan wine returns to Radda in Chianti: Radda nel Bicchiere. An event that over the years has established itself as a point of reference for the enhancement of Chianti Classico\, capable of bringing together producers\, operators and enthusiasts in one of the symbolic villages of Italian viticulture.  \nRadda nel Bicchiere is an event entirely dedicated to the territory and its most identifying expressions. During the two days it will be possible to:  \n\ntaste more than 100 labels of Chianti Classico\nmeet directly with local producers \ndiscover the different interpretations of Sangiovese\n\nThe format is that of the diffuse tasting counter\, which spreads along the streets of the historic center\, offering an immersive experience between wine and landscape. \nAlongside the tastings\, the event offers in-depth moments that enrich the experience. Among the appointments: thematic masterclasses dedicated to the territory\, guided and comparative tastings and meetings between different winemaking realities. There is no shortage of dialogue with other wine territories\, an element that in recent years has enriched the program with comparisons between grape varieties and production styles.   \n\nTastings with producers:\n\n\n\nSaturday\, May 23\, 10:30 a.m. Palazzo del Podestà – “Radda in Chianti and Trentino: elegance of altitude” with Clizia Zuin sommelier of the year 2025 Gambero Rosso.\nSunday\, May 24\, 10:30 a.m. Palazzo del Podestà – “Radda Vintage\,” a journey through time through old vintages\, led by Davide Bonucci and Giovanni D’Alessandro\n\n\nHosting the event is the village of Radda in Chianti\, in the heart of the Chianti Classico appellation. A setting that perfectly represents the event’s identity: a medieval historic center nestled in one of Italy’s most iconic vineyard landscapes.  \nUseful information\n\nWhere: Radda in Chianti (SI)\nWhen: May 23- 24\n\nThe event is open to the public\, enthusiasts and industry professionals \nSee the full program and register now: www.raddanelbicchiere.net
URL:https://www.doctorwine.wine/event/radda-in-chianti-radda-in-the-glass/?lang=en
LOCATION:Radda in Chianti\, (Siena)\, Italy
CATEGORIES:Tasting,Tuscany Events
ATTACH;FMTTYPE=image/jpeg:https://www.doctorwine.wine/wp-content/uploads/2026/04/Radda-nel-bicchiere-2026.jpg
END:VEVENT
BEGIN:VEVENT
DTSTART;VALUE=DATE:20260530
DTEND;VALUE=DATE:20260601
DTSTAMP:20260423T082039
CREATED:20260417T095401Z
LAST-MODIFIED:20260417T095401Z
UID:54967-1780099200-1780271999@www.doctorwine.wine
SUMMARY:Rebel Queen - Vernaccia Di San Gimignano Wine Fest
DESCRIPTION:Rebel Queen – Vernaccia di San Gimignano Wine Fest: Saturday 30 and Sunday 31 May 2026 a weekend full of tastings\, masterclasses\, widespread events and entertainment\nRegina Ribelle\, the festival dedicated to Vernaccia di San Gimignano returns with the 4th edition\, celebrating the historic “White Queen” in its territory \nAfter the success of the last edition\, which registered the presence of about 1\,500 wine lovers\, the following will be back from May 30 to 31\, 2026 Regina Ribelle – Vernaccia di San Gimignano Wine Fest\, the festival dedicated to the famous Tuscan white wine\, organized and promoted by the Vernaccia di San Gimignano Wine Consortium in collaboration with the Municipality of San Gimignano.\n\nThe 2026 edition takes on a special historical value\, celebrating the 750th anniversary of the first documented attestation of Vernaccia di San Gimignano and the 60th anniversary of the granting of the DOC. An edition that\, although in the sign of a centuries-old history\, wants to continue to dialogue with contemporaneity\, renewing the narrative of the denomination through languages\, experiences and contents of strong interest to consumers and enthusiasts\, who are increasingly attentive to the identity\, authenticity and culture of the territory. \n\n\nThe calendar will be full of events\, with initiatives spread throughout the historic center of San Gimignano: traveling tastings\, thematic masterclasses\, meetings with producers and workshops dedicated to food and wine pairings\, in dialogue with Tuscan gastronomic excellence and the proposals of local restaurateurs. There will be no shortage of cultural insights and entertainment\, including the evocative evening DJ-set in the enchanting setting of the Rocca di Montestaffoli.  \nAs every year\, the open days for the public will be preceded by two days-May 28 and 29-dedicated to the national and international press\, with the presentation of the new vintages\, conferences and tours of local wineries. \nFor more details and the full program\, visit the official page: https://www.reginaribelle.it/
URL:https://www.doctorwine.wine/event/rebel-queen-vernaccia-di-san-gimignano-wine-fest/?lang=en
LOCATION:San Gimignano\, San Gimignano\, Italia
CATEGORIES:Tasting,Tuscany Events
ATTACH;FMTTYPE=image/jpeg:https://www.doctorwine.wine/wp-content/uploads/2026/04/Regina-Ribelle.jpg
END:VEVENT
END:VCALENDAR