BEGIN:VCALENDAR
VERSION:2.0
PRODID:-//DoctorWine - ECPv6.15.18//NONSGML v1.0//EN
CALSCALE:GREGORIAN
METHOD:PUBLISH
X-WR-CALNAME:DoctorWine
X-ORIGINAL-URL:https://www.doctorwine.wine/?lang=en
X-WR-CALDESC:Events for DoctorWine
REFRESH-INTERVAL;VALUE=DURATION:PT1H
X-Robots-Tag:noindex
X-PUBLISHED-TTL:PT1H
BEGIN:VTIMEZONE
TZID:Europe/Rome
BEGIN:DAYLIGHT
TZOFFSETFROM:+0100
TZOFFSETTO:+0200
TZNAME:CEST
DTSTART:20250330T010000
END:DAYLIGHT
BEGIN:STANDARD
TZOFFSETFROM:+0200
TZOFFSETTO:+0100
TZNAME:CET
DTSTART:20251026T010000
END:STANDARD
BEGIN:DAYLIGHT
TZOFFSETFROM:+0100
TZOFFSETTO:+0200
TZNAME:CEST
DTSTART:20260329T010000
END:DAYLIGHT
BEGIN:STANDARD
TZOFFSETFROM:+0200
TZOFFSETTO:+0100
TZNAME:CET
DTSTART:20261025T010000
END:STANDARD
BEGIN:DAYLIGHT
TZOFFSETFROM:+0100
TZOFFSETTO:+0200
TZNAME:CEST
DTSTART:20270328T010000
END:DAYLIGHT
BEGIN:STANDARD
TZOFFSETFROM:+0200
TZOFFSETTO:+0100
TZNAME:CET
DTSTART:20271031T010000
END:STANDARD
END:VTIMEZONE
BEGIN:VEVENT
DTSTART;VALUE=DATE:20260422
DTEND;VALUE=DATE:20260423
DTSTAMP:20260421T170740
CREATED:20260416T160855Z
LAST-MODIFIED:20260416T160855Z
UID:54962-1776816000-1776902399@www.doctorwine.wine
SUMMARY:Rome - Champagne Romain Tribaut at Jackie O' Wine Club
DESCRIPTION:Champagne Romain Tribaut at Jackie O’ Wine Club: The star of the evening in April will be Champagne Maison Romain Trobaut\, a historical entity in the Vallée de la Marne\, an authentic expression of the Champagne tradition.\nAs usual\, Chiara Giannotti of Vino.Tv will present the evening  \, with Luca Giannotti representing the Tribaut winery. They will be supported as usual by the venue’s sommelier Manuel Pompili. Together they will take you on a discovery of the Vallée de la Marne through a vertical tasting of four cuvées from the Romain Tribaut maison\, paired with an exceptional menu created for the occasion by Chef Federico Sparaco of Jackie O’.   \nThe tasting includes: \n\nBrut Assemblage with black and white sesame tuna tataki\, home-made teriaky sauce and papaya and chervil brunoise\nBrut Cru Pur Chardonnay paired with from Maccheroncino al torchio with egg\, redfish sauce\, shrimp\nBrut Pur Meunier La Vallée and\nBrut Pur Pinot Noir Premier Cru accompanied by Millefoglie of sea bass\, artichokes\, potatoes\, mint oil and anchovies\nCloses the evening Sweet exotic fruit tartlet\n\nChampagne Romain Tribaut: the appointment is for Wednesday\, April 22 from 8 to 10 p.m. at Jackie O’\, Via Boncompagni 11\, Rome \nPlaces are limited. Book now! \n  06. 42885457\n Info@jackieoroma.com \nFor info https://www.jackieoroma.com/wine-club/ or on social channels Facebook and Instagram
URL:https://www.doctorwine.wine/event/rome-champagne-romain-tribaut-at-jackie-o-wine-club/?lang=en
LOCATION:Jackie O’ Wine Club
CATEGORIES:Rome Events,Tasting
ATTACH;FMTTYPE=image/jpeg:https://www.doctorwine.wine/wp-content/uploads/2026/04/Jackie-O-Wine-Club.jpg
ORGANIZER;CN="Vino.tv":MAILTO:chiara.vino.tv@gmail.com
END:VEVENT
END:VCALENDAR